BEGIN:VCALENDAR
PRODID:-//Reha Rheinfelden//Kurse//DE
VERSION:2.0
CALSCALE:GREGORIAN
BEGIN:VEVENT
UID:xfFs7EhQ-0
DTSTAMP:20260423T211749Z
SUMMARY:Qigong
DESCRIPTION:Fachbereich: Qigong\nKurs-Nr.: 26.50010-06\n\nDetails: https://
 www.reha-rheinfelden.ch/fit-und-gesund/xfFs7EhQ
URL:https://www.reha-rheinfelden.ch/fit-und-gesund/xfFs7EhQ
DTSTART;TZID=Europe/Zurich:20260812T190000
DTEND;TZID=Europe/Zurich:20260812T195500
LOCATION:Gruppenraum 1\, Bereich 15
END:VEVENT
BEGIN:VEVENT
UID:xfFs7EhQ-1
DTSTAMP:20260423T211749Z
SUMMARY:Qigong
DESCRIPTION:Fachbereich: Qigong\nKurs-Nr.: 26.50010-06\n\nDetails: https://
 www.reha-rheinfelden.ch/fit-und-gesund/xfFs7EhQ
URL:https://www.reha-rheinfelden.ch/fit-und-gesund/xfFs7EhQ
DTSTART;TZID=Europe/Zurich:20260819T190000
DTEND;TZID=Europe/Zurich:20260819T195500
LOCATION:Gruppenraum 1\, Bereich 15
END:VEVENT
BEGIN:VEVENT
UID:xfFs7EhQ-2
DTSTAMP:20260423T211749Z
SUMMARY:Qigong
DESCRIPTION:Fachbereich: Qigong\nKurs-Nr.: 26.50010-06\n\nDetails: https://
 www.reha-rheinfelden.ch/fit-und-gesund/xfFs7EhQ
URL:https://www.reha-rheinfelden.ch/fit-und-gesund/xfFs7EhQ
DTSTART;TZID=Europe/Zurich:20260826T190000
DTEND;TZID=Europe/Zurich:20260826T195500
LOCATION:Gruppenraum 1\, Bereich 15
END:VEVENT
BEGIN:VEVENT
UID:xfFs7EhQ-3
DTSTAMP:20260423T211749Z
SUMMARY:Qigong
DESCRIPTION:Fachbereich: Qigong\nKurs-Nr.: 26.50010-06\n\nDetails: https://
 www.reha-rheinfelden.ch/fit-und-gesund/xfFs7EhQ
URL:https://www.reha-rheinfelden.ch/fit-und-gesund/xfFs7EhQ
DTSTART;TZID=Europe/Zurich:20260902T190000
DTEND;TZID=Europe/Zurich:20260902T195500
LOCATION:Gruppenraum 1\, Bereich 15
END:VEVENT
BEGIN:VEVENT
UID:xfFs7EhQ-4
DTSTAMP:20260423T211749Z
SUMMARY:Qigong
DESCRIPTION:Fachbereich: Qigong\nKurs-Nr.: 26.50010-06\n\nDetails: https://
 www.reha-rheinfelden.ch/fit-und-gesund/xfFs7EhQ
URL:https://www.reha-rheinfelden.ch/fit-und-gesund/xfFs7EhQ
DTSTART;TZID=Europe/Zurich:20260909T190000
DTEND;TZID=Europe/Zurich:20260909T195500
LOCATION:Gruppenraum 1\, Bereich 15
END:VEVENT
BEGIN:VEVENT
UID:xfFs7EhQ-5
DTSTAMP:20260423T211749Z
SUMMARY:Qigong
DESCRIPTION:Fachbereich: Qigong\nKurs-Nr.: 26.50010-06\n\nDetails: https://
 www.reha-rheinfelden.ch/fit-und-gesund/xfFs7EhQ
URL:https://www.reha-rheinfelden.ch/fit-und-gesund/xfFs7EhQ
DTSTART;TZID=Europe/Zurich:20260916T190000
DTEND;TZID=Europe/Zurich:20260916T195500
LOCATION:Gruppenraum 1\, Bereich 15
END:VEVENT
BEGIN:VEVENT
UID:xfFs7EhQ-6
DTSTAMP:20260423T211749Z
SUMMARY:Qigong
DESCRIPTION:Fachbereich: Qigong\nKurs-Nr.: 26.50010-06\n\nDetails: https://
 www.reha-rheinfelden.ch/fit-und-gesund/xfFs7EhQ
URL:https://www.reha-rheinfelden.ch/fit-und-gesund/xfFs7EhQ
DTSTART;TZID=Europe/Zurich:20260923T190000
DTEND;TZID=Europe/Zurich:20260923T195500
LOCATION:Gruppenraum 1\, Bereich 15
END:VEVENT
BEGIN:VEVENT
UID:xfFs7EhQ-7
DTSTAMP:20260423T211749Z
SUMMARY:Qigong
DESCRIPTION:Fachbereich: Qigong\nKurs-Nr.: 26.50010-06\n\nDetails: https://
 www.reha-rheinfelden.ch/fit-und-gesund/xfFs7EhQ
URL:https://www.reha-rheinfelden.ch/fit-und-gesund/xfFs7EhQ
DTSTART;TZID=Europe/Zurich:20261014T190000
DTEND;TZID=Europe/Zurich:20261014T195500
LOCATION:Gruppenraum 1\, Bereich 15
END:VEVENT
BEGIN:VEVENT
UID:xfFs7EhQ-8
DTSTAMP:20260423T211749Z
SUMMARY:Qigong
DESCRIPTION:Fachbereich: Qigong\nKurs-Nr.: 26.50010-06\n\nDetails: https://
 www.reha-rheinfelden.ch/fit-und-gesund/xfFs7EhQ
URL:https://www.reha-rheinfelden.ch/fit-und-gesund/xfFs7EhQ
DTSTART;TZID=Europe/Zurich:20261021T190000
DTEND;TZID=Europe/Zurich:20261021T195500
LOCATION:Gruppenraum 1\, Bereich 15
END:VEVENT
BEGIN:VEVENT
UID:xfFs7EhQ-9
DTSTAMP:20260423T211749Z
SUMMARY:Qigong
DESCRIPTION:Fachbereich: Qigong\nKurs-Nr.: 26.50010-06\n\nDetails: https://
 www.reha-rheinfelden.ch/fit-und-gesund/xfFs7EhQ
URL:https://www.reha-rheinfelden.ch/fit-und-gesund/xfFs7EhQ
DTSTART;TZID=Europe/Zurich:20261028T190000
DTEND;TZID=Europe/Zurich:20261028T195500
LOCATION:Gruppenraum 1\, Bereich 15
END:VEVENT
BEGIN:VEVENT
UID:xfFs7EhQ-10
DTSTAMP:20260423T211749Z
SUMMARY:Qigong
DESCRIPTION:Fachbereich: Qigong\nKurs-Nr.: 26.50010-06\n\nDetails: https://
 www.reha-rheinfelden.ch/fit-und-gesund/xfFs7EhQ
URL:https://www.reha-rheinfelden.ch/fit-und-gesund/xfFs7EhQ
DTSTART;TZID=Europe/Zurich:20261104T190000
DTEND;TZID=Europe/Zurich:20261104T195500
LOCATION:Gruppenraum 1\, Bereich 15
END:VEVENT
BEGIN:VEVENT
UID:xfFs7EhQ-11
DTSTAMP:20260423T211749Z
SUMMARY:Qigong
DESCRIPTION:Fachbereich: Qigong\nKurs-Nr.: 26.50010-06\n\nDetails: https://
 www.reha-rheinfelden.ch/fit-und-gesund/xfFs7EhQ
URL:https://www.reha-rheinfelden.ch/fit-und-gesund/xfFs7EhQ
DTSTART;TZID=Europe/Zurich:20261111T190000
DTEND;TZID=Europe/Zurich:20261111T195500
LOCATION:Gruppenraum 1\, Bereich 15
END:VEVENT
BEGIN:VEVENT
UID:xfFs7EhQ-12
DTSTAMP:20260423T211749Z
SUMMARY:Qigong
DESCRIPTION:Fachbereich: Qigong\nKurs-Nr.: 26.50010-06\n\nDetails: https://
 www.reha-rheinfelden.ch/fit-und-gesund/xfFs7EhQ
URL:https://www.reha-rheinfelden.ch/fit-und-gesund/xfFs7EhQ
DTSTART;TZID=Europe/Zurich:20261118T190000
DTEND;TZID=Europe/Zurich:20261118T195500
LOCATION:Gruppenraum 1\, Bereich 15
END:VEVENT
BEGIN:VEVENT
UID:xfFs7EhQ-13
DTSTAMP:20260423T211749Z
SUMMARY:Qigong
DESCRIPTION:Fachbereich: Qigong\nKurs-Nr.: 26.50010-06\n\nDetails: https://
 www.reha-rheinfelden.ch/fit-und-gesund/xfFs7EhQ
URL:https://www.reha-rheinfelden.ch/fit-und-gesund/xfFs7EhQ
DTSTART;TZID=Europe/Zurich:20261125T190000
DTEND;TZID=Europe/Zurich:20261125T195500
LOCATION:Gruppenraum 1\, Bereich 15
END:VEVENT
BEGIN:VEVENT
UID:xfFs7EhQ-14
DTSTAMP:20260423T211749Z
SUMMARY:Qigong
DESCRIPTION:Fachbereich: Qigong\nKurs-Nr.: 26.50010-06\n\nDetails: https://
 www.reha-rheinfelden.ch/fit-und-gesund/xfFs7EhQ
URL:https://www.reha-rheinfelden.ch/fit-und-gesund/xfFs7EhQ
DTSTART;TZID=Europe/Zurich:20261202T190000
DTEND;TZID=Europe/Zurich:20261202T195500
LOCATION:Gruppenraum 1\, Bereich 15
END:VEVENT
BEGIN:VEVENT
UID:xfFs7EhQ-15
DTSTAMP:20260423T211749Z
SUMMARY:Qigong
DESCRIPTION:Fachbereich: Qigong\nKurs-Nr.: 26.50010-06\n\nDetails: https://
 www.reha-rheinfelden.ch/fit-und-gesund/xfFs7EhQ
URL:https://www.reha-rheinfelden.ch/fit-und-gesund/xfFs7EhQ
DTSTART;TZID=Europe/Zurich:20261209T190000
DTEND;TZID=Europe/Zurich:20261209T195500
LOCATION:Gruppenraum 1\, Bereich 15
END:VEVENT
BEGIN:VEVENT
UID:xfFs7EhQ-16
DTSTAMP:20260423T211749Z
SUMMARY:Qigong
DESCRIPTION:Fachbereich: Qigong\nKurs-Nr.: 26.50010-06\n\nDetails: https://
 www.reha-rheinfelden.ch/fit-und-gesund/xfFs7EhQ
URL:https://www.reha-rheinfelden.ch/fit-und-gesund/xfFs7EhQ
DTSTART;TZID=Europe/Zurich:20261216T190000
DTEND;TZID=Europe/Zurich:20261216T195500
LOCATION:Gruppenraum 1\, Bereich 15
END:VEVENT
END:VCALENDAR
