BEGIN:VCALENDAR
PRODID:-//Reha Rheinfelden//Kurse//DE
VERSION:2.0
CALSCALE:GREGORIAN
BEGIN:VEVENT
UID:xSmQOfSu-0
DTSTAMP:20260424T100803Z
SUMMARY:Aquafit
DESCRIPTION:Fachbereich: Aquafit\nKurs-Nr.: 26.50001-26\n\nDetails: https:/
 /www.reha-rheinfelden.ch/fit-und-gesund/xSmQOfSu
URL:https://www.reha-rheinfelden.ch/fit-und-gesund/xSmQOfSu
DTSTART;TZID=Europe/Zurich:20260413T114500
DTEND;TZID=Europe/Zurich:20260413T124000
LOCATION:Therapiebad grosses Becken\, Bereich 11
END:VEVENT
BEGIN:VEVENT
UID:xSmQOfSu-1
DTSTAMP:20260424T100803Z
SUMMARY:Aquafit
DESCRIPTION:Fachbereich: Aquafit\nKurs-Nr.: 26.50001-26\n\nDetails: https:/
 /www.reha-rheinfelden.ch/fit-und-gesund/xSmQOfSu
URL:https://www.reha-rheinfelden.ch/fit-und-gesund/xSmQOfSu
DTSTART;TZID=Europe/Zurich:20260420T114500
DTEND;TZID=Europe/Zurich:20260420T124000
LOCATION:Therapiebad grosses Becken\, Bereich 11
END:VEVENT
BEGIN:VEVENT
UID:xSmQOfSu-2
DTSTAMP:20260424T100803Z
SUMMARY:Aquafit
DESCRIPTION:Fachbereich: Aquafit\nKurs-Nr.: 26.50001-26\n\nDetails: https:/
 /www.reha-rheinfelden.ch/fit-und-gesund/xSmQOfSu
URL:https://www.reha-rheinfelden.ch/fit-und-gesund/xSmQOfSu
DTSTART;TZID=Europe/Zurich:20260427T114500
DTEND;TZID=Europe/Zurich:20260427T124000
LOCATION:Therapiebad grosses Becken\, Bereich 11
END:VEVENT
BEGIN:VEVENT
UID:xSmQOfSu-3
DTSTAMP:20260424T100803Z
SUMMARY:Aquafit
DESCRIPTION:Fachbereich: Aquafit\nKurs-Nr.: 26.50001-26\n\nDetails: https:/
 /www.reha-rheinfelden.ch/fit-und-gesund/xSmQOfSu
URL:https://www.reha-rheinfelden.ch/fit-und-gesund/xSmQOfSu
DTSTART;TZID=Europe/Zurich:20260504T114500
DTEND;TZID=Europe/Zurich:20260504T124000
LOCATION:Therapiebad grosses Becken\, Bereich 11
END:VEVENT
BEGIN:VEVENT
UID:xSmQOfSu-4
DTSTAMP:20260424T100803Z
SUMMARY:Aquafit
DESCRIPTION:Fachbereich: Aquafit\nKurs-Nr.: 26.50001-26\n\nDetails: https:/
 /www.reha-rheinfelden.ch/fit-und-gesund/xSmQOfSu
URL:https://www.reha-rheinfelden.ch/fit-und-gesund/xSmQOfSu
DTSTART;TZID=Europe/Zurich:20260511T114500
DTEND;TZID=Europe/Zurich:20260511T124000
LOCATION:Therapiebad grosses Becken\, Bereich 11
END:VEVENT
BEGIN:VEVENT
UID:xSmQOfSu-5
DTSTAMP:20260424T100803Z
SUMMARY:Aquafit
DESCRIPTION:Fachbereich: Aquafit\nKurs-Nr.: 26.50001-26\n\nDetails: https:/
 /www.reha-rheinfelden.ch/fit-und-gesund/xSmQOfSu
URL:https://www.reha-rheinfelden.ch/fit-und-gesund/xSmQOfSu
DTSTART;TZID=Europe/Zurich:20260518T114500
DTEND;TZID=Europe/Zurich:20260518T124000
LOCATION:Therapiebad grosses Becken\, Bereich 11
END:VEVENT
BEGIN:VEVENT
UID:xSmQOfSu-6
DTSTAMP:20260424T100803Z
SUMMARY:Aquafit
DESCRIPTION:Fachbereich: Aquafit\nKurs-Nr.: 26.50001-26\n\nDetails: https:/
 /www.reha-rheinfelden.ch/fit-und-gesund/xSmQOfSu
URL:https://www.reha-rheinfelden.ch/fit-und-gesund/xSmQOfSu
DTSTART;TZID=Europe/Zurich:20260601T114500
DTEND;TZID=Europe/Zurich:20260601T124000
LOCATION:Therapiebad grosses Becken\, Bereich 11
END:VEVENT
BEGIN:VEVENT
UID:xSmQOfSu-7
DTSTAMP:20260424T100803Z
SUMMARY:Aquafit
DESCRIPTION:Fachbereich: Aquafit\nKurs-Nr.: 26.50001-26\n\nDetails: https:/
 /www.reha-rheinfelden.ch/fit-und-gesund/xSmQOfSu
URL:https://www.reha-rheinfelden.ch/fit-und-gesund/xSmQOfSu
DTSTART;TZID=Europe/Zurich:20260608T114500
DTEND;TZID=Europe/Zurich:20260608T124000
LOCATION:Therapiebad grosses Becken\, Bereich 11
END:VEVENT
BEGIN:VEVENT
UID:xSmQOfSu-8
DTSTAMP:20260424T100803Z
SUMMARY:Aquafit
DESCRIPTION:Fachbereich: Aquafit\nKurs-Nr.: 26.50001-26\n\nDetails: https:/
 /www.reha-rheinfelden.ch/fit-und-gesund/xSmQOfSu
URL:https://www.reha-rheinfelden.ch/fit-und-gesund/xSmQOfSu
DTSTART;TZID=Europe/Zurich:20260615T114500
DTEND;TZID=Europe/Zurich:20260615T124000
LOCATION:Therapiebad grosses Becken\, Bereich 11
END:VEVENT
BEGIN:VEVENT
UID:xSmQOfSu-9
DTSTAMP:20260424T100803Z
SUMMARY:Aquafit
DESCRIPTION:Fachbereich: Aquafit\nKurs-Nr.: 26.50001-26\n\nDetails: https:/
 /www.reha-rheinfelden.ch/fit-und-gesund/xSmQOfSu
URL:https://www.reha-rheinfelden.ch/fit-und-gesund/xSmQOfSu
DTSTART;TZID=Europe/Zurich:20260622T114500
DTEND;TZID=Europe/Zurich:20260622T124000
LOCATION:Therapiebad grosses Becken\, Bereich 11
END:VEVENT
BEGIN:VEVENT
UID:xSmQOfSu-10
DTSTAMP:20260424T100803Z
SUMMARY:Aquafit
DESCRIPTION:Fachbereich: Aquafit\nKurs-Nr.: 26.50001-26\n\nDetails: https:/
 /www.reha-rheinfelden.ch/fit-und-gesund/xSmQOfSu
URL:https://www.reha-rheinfelden.ch/fit-und-gesund/xSmQOfSu
DTSTART;TZID=Europe/Zurich:20260629T114500
DTEND;TZID=Europe/Zurich:20260629T124000
LOCATION:Therapiebad grosses Becken\, Bereich 11
END:VEVENT
END:VCALENDAR
