BEGIN:VCALENDAR
PRODID:-//Reha Rheinfelden//Kurse//DE
VERSION:2.0
CALSCALE:GREGORIAN
BEGIN:VEVENT
UID:vBOCC8la-0
DTSTAMP:20260423T212254Z
SUMMARY:Fit 60+
DESCRIPTION:Fachbereich: Fit 60+\nKurs-Nr.: 26.50007-20\n\nDetails: https:/
 /www.reha-rheinfelden.ch/fit-und-gesund/vBOCC8la
URL:https://www.reha-rheinfelden.ch/fit-und-gesund/vBOCC8la
DTSTART;TZID=Europe/Zurich:20260831T094500
DTEND;TZID=Europe/Zurich:20260831T104000
LOCATION:Turnhalle\, Bereich 11
END:VEVENT
BEGIN:VEVENT
UID:vBOCC8la-1
DTSTAMP:20260423T212254Z
SUMMARY:Fit 60+
DESCRIPTION:Fachbereich: Fit 60+\nKurs-Nr.: 26.50007-20\n\nDetails: https:/
 /www.reha-rheinfelden.ch/fit-und-gesund/vBOCC8la
URL:https://www.reha-rheinfelden.ch/fit-und-gesund/vBOCC8la
DTSTART;TZID=Europe/Zurich:20260907T094500
DTEND;TZID=Europe/Zurich:20260907T104000
LOCATION:Turnhalle\, Bereich 11
END:VEVENT
BEGIN:VEVENT
UID:vBOCC8la-2
DTSTAMP:20260423T212254Z
SUMMARY:Fit 60+
DESCRIPTION:Fachbereich: Fit 60+\nKurs-Nr.: 26.50007-20\n\nDetails: https:/
 /www.reha-rheinfelden.ch/fit-und-gesund/vBOCC8la
URL:https://www.reha-rheinfelden.ch/fit-und-gesund/vBOCC8la
DTSTART;TZID=Europe/Zurich:20260914T094500
DTEND;TZID=Europe/Zurich:20260914T104000
LOCATION:Turnhalle\, Bereich 11
END:VEVENT
BEGIN:VEVENT
UID:vBOCC8la-3
DTSTAMP:20260423T212254Z
SUMMARY:Fit 60+
DESCRIPTION:Fachbereich: Fit 60+\nKurs-Nr.: 26.50007-20\n\nDetails: https:/
 /www.reha-rheinfelden.ch/fit-und-gesund/vBOCC8la
URL:https://www.reha-rheinfelden.ch/fit-und-gesund/vBOCC8la
DTSTART;TZID=Europe/Zurich:20260921T094500
DTEND;TZID=Europe/Zurich:20260921T104000
LOCATION:Turnhalle\, Bereich 11
END:VEVENT
BEGIN:VEVENT
UID:vBOCC8la-4
DTSTAMP:20260423T212254Z
SUMMARY:Fit 60+
DESCRIPTION:Fachbereich: Fit 60+\nKurs-Nr.: 26.50007-20\n\nDetails: https:/
 /www.reha-rheinfelden.ch/fit-und-gesund/vBOCC8la
URL:https://www.reha-rheinfelden.ch/fit-und-gesund/vBOCC8la
DTSTART;TZID=Europe/Zurich:20260928T094500
DTEND;TZID=Europe/Zurich:20260928T104000
LOCATION:Turnhalle\, Bereich 11
END:VEVENT
BEGIN:VEVENT
UID:vBOCC8la-5
DTSTAMP:20260423T212254Z
SUMMARY:Fit 60+
DESCRIPTION:Fachbereich: Fit 60+\nKurs-Nr.: 26.50007-20\n\nDetails: https:/
 /www.reha-rheinfelden.ch/fit-und-gesund/vBOCC8la
URL:https://www.reha-rheinfelden.ch/fit-und-gesund/vBOCC8la
DTSTART;TZID=Europe/Zurich:20261005T094500
DTEND;TZID=Europe/Zurich:20261005T104000
LOCATION:Turnhalle\, Bereich 11
END:VEVENT
BEGIN:VEVENT
UID:vBOCC8la-6
DTSTAMP:20260423T212254Z
SUMMARY:Fit 60+
DESCRIPTION:Fachbereich: Fit 60+\nKurs-Nr.: 26.50007-20\n\nDetails: https:/
 /www.reha-rheinfelden.ch/fit-und-gesund/vBOCC8la
URL:https://www.reha-rheinfelden.ch/fit-und-gesund/vBOCC8la
DTSTART;TZID=Europe/Zurich:20261012T094500
DTEND;TZID=Europe/Zurich:20261012T104000
LOCATION:Turnhalle\, Bereich 11
END:VEVENT
BEGIN:VEVENT
UID:vBOCC8la-7
DTSTAMP:20260423T212254Z
SUMMARY:Fit 60+
DESCRIPTION:Fachbereich: Fit 60+\nKurs-Nr.: 26.50007-20\n\nDetails: https:/
 /www.reha-rheinfelden.ch/fit-und-gesund/vBOCC8la
URL:https://www.reha-rheinfelden.ch/fit-und-gesund/vBOCC8la
DTSTART;TZID=Europe/Zurich:20261019T094500
DTEND;TZID=Europe/Zurich:20261019T104000
LOCATION:Turnhalle\, Bereich 11
END:VEVENT
BEGIN:VEVENT
UID:vBOCC8la-8
DTSTAMP:20260423T212254Z
SUMMARY:Fit 60+
DESCRIPTION:Fachbereich: Fit 60+\nKurs-Nr.: 26.50007-20\n\nDetails: https:/
 /www.reha-rheinfelden.ch/fit-und-gesund/vBOCC8la
URL:https://www.reha-rheinfelden.ch/fit-und-gesund/vBOCC8la
DTSTART;TZID=Europe/Zurich:20261102T094500
DTEND;TZID=Europe/Zurich:20261102T104000
LOCATION:Turnhalle\, Bereich 11
END:VEVENT
BEGIN:VEVENT
UID:vBOCC8la-9
DTSTAMP:20260423T212254Z
SUMMARY:Fit 60+
DESCRIPTION:Fachbereich: Fit 60+\nKurs-Nr.: 26.50007-20\n\nDetails: https:/
 /www.reha-rheinfelden.ch/fit-und-gesund/vBOCC8la
URL:https://www.reha-rheinfelden.ch/fit-und-gesund/vBOCC8la
DTSTART;TZID=Europe/Zurich:20261109T094500
DTEND;TZID=Europe/Zurich:20261109T104000
LOCATION:Turnhalle\, Bereich 11
END:VEVENT
BEGIN:VEVENT
UID:vBOCC8la-10
DTSTAMP:20260423T212254Z
SUMMARY:Fit 60+
DESCRIPTION:Fachbereich: Fit 60+\nKurs-Nr.: 26.50007-20\n\nDetails: https:/
 /www.reha-rheinfelden.ch/fit-und-gesund/vBOCC8la
URL:https://www.reha-rheinfelden.ch/fit-und-gesund/vBOCC8la
DTSTART;TZID=Europe/Zurich:20261116T094500
DTEND;TZID=Europe/Zurich:20261116T104000
LOCATION:Turnhalle\, Bereich 11
END:VEVENT
BEGIN:VEVENT
UID:vBOCC8la-11
DTSTAMP:20260423T212254Z
SUMMARY:Fit 60+
DESCRIPTION:Fachbereich: Fit 60+\nKurs-Nr.: 26.50007-20\n\nDetails: https:/
 /www.reha-rheinfelden.ch/fit-und-gesund/vBOCC8la
URL:https://www.reha-rheinfelden.ch/fit-und-gesund/vBOCC8la
DTSTART;TZID=Europe/Zurich:20261123T094500
DTEND;TZID=Europe/Zurich:20261123T104000
LOCATION:Turnhalle\, Bereich 11
END:VEVENT
BEGIN:VEVENT
UID:vBOCC8la-12
DTSTAMP:20260423T212254Z
SUMMARY:Fit 60+
DESCRIPTION:Fachbereich: Fit 60+\nKurs-Nr.: 26.50007-20\n\nDetails: https:/
 /www.reha-rheinfelden.ch/fit-und-gesund/vBOCC8la
URL:https://www.reha-rheinfelden.ch/fit-und-gesund/vBOCC8la
DTSTART;TZID=Europe/Zurich:20261130T094500
DTEND;TZID=Europe/Zurich:20261130T104000
LOCATION:Turnhalle\, Bereich 11
END:VEVENT
BEGIN:VEVENT
UID:vBOCC8la-13
DTSTAMP:20260423T212254Z
SUMMARY:Fit 60+
DESCRIPTION:Fachbereich: Fit 60+\nKurs-Nr.: 26.50007-20\n\nDetails: https:/
 /www.reha-rheinfelden.ch/fit-und-gesund/vBOCC8la
URL:https://www.reha-rheinfelden.ch/fit-und-gesund/vBOCC8la
DTSTART;TZID=Europe/Zurich:20261207T094500
DTEND;TZID=Europe/Zurich:20261207T104000
LOCATION:Turnhalle\, Bereich 11
END:VEVENT
BEGIN:VEVENT
UID:vBOCC8la-14
DTSTAMP:20260423T212254Z
SUMMARY:Fit 60+
DESCRIPTION:Fachbereich: Fit 60+\nKurs-Nr.: 26.50007-20\n\nDetails: https:/
 /www.reha-rheinfelden.ch/fit-und-gesund/vBOCC8la
URL:https://www.reha-rheinfelden.ch/fit-und-gesund/vBOCC8la
DTSTART;TZID=Europe/Zurich:20261214T094500
DTEND;TZID=Europe/Zurich:20261214T104000
LOCATION:Turnhalle\, Bereich 11
END:VEVENT
END:VCALENDAR
