BEGIN:VCALENDAR
PRODID:-//Reha Rheinfelden//Kurse//DE
VERSION:2.0
CALSCALE:GREGORIAN
BEGIN:VEVENT
UID:sRAXJCZK-0
DTSTAMP:20260423T205323Z
SUMMARY:Bauch-Beine-Po Workout
DESCRIPTION:Fachbereich: Bauch-Beine-Po Workout\nKurs-Nr.: 26.50015-09\n\nD
 etails: https://www.reha-rheinfelden.ch/fit-und-gesund/sRAXJCZK
URL:https://www.reha-rheinfelden.ch/fit-und-gesund/sRAXJCZK
DTSTART;TZID=Europe/Zurich:20260821T120000
DTEND;TZID=Europe/Zurich:20260821T125500
LOCATION:Turnhalle\, Bereich 11
END:VEVENT
BEGIN:VEVENT
UID:sRAXJCZK-1
DTSTAMP:20260423T205323Z
SUMMARY:Bauch-Beine-Po Workout
DESCRIPTION:Fachbereich: Bauch-Beine-Po Workout\nKurs-Nr.: 26.50015-09\n\nD
 etails: https://www.reha-rheinfelden.ch/fit-und-gesund/sRAXJCZK
URL:https://www.reha-rheinfelden.ch/fit-und-gesund/sRAXJCZK
DTSTART;TZID=Europe/Zurich:20260828T120000
DTEND;TZID=Europe/Zurich:20260828T125500
LOCATION:Turnhalle\, Bereich 11
END:VEVENT
BEGIN:VEVENT
UID:sRAXJCZK-2
DTSTAMP:20260423T205323Z
SUMMARY:Bauch-Beine-Po Workout
DESCRIPTION:Fachbereich: Bauch-Beine-Po Workout\nKurs-Nr.: 26.50015-09\n\nD
 etails: https://www.reha-rheinfelden.ch/fit-und-gesund/sRAXJCZK
URL:https://www.reha-rheinfelden.ch/fit-und-gesund/sRAXJCZK
DTSTART;TZID=Europe/Zurich:20260911T120000
DTEND;TZID=Europe/Zurich:20260911T125500
LOCATION:Turnhalle\, Bereich 11
END:VEVENT
BEGIN:VEVENT
UID:sRAXJCZK-3
DTSTAMP:20260423T205323Z
SUMMARY:Bauch-Beine-Po Workout
DESCRIPTION:Fachbereich: Bauch-Beine-Po Workout\nKurs-Nr.: 26.50015-09\n\nD
 etails: https://www.reha-rheinfelden.ch/fit-und-gesund/sRAXJCZK
URL:https://www.reha-rheinfelden.ch/fit-und-gesund/sRAXJCZK
DTSTART;TZID=Europe/Zurich:20260918T120000
DTEND;TZID=Europe/Zurich:20260918T125500
LOCATION:Turnhalle\, Bereich 11
END:VEVENT
BEGIN:VEVENT
UID:sRAXJCZK-4
DTSTAMP:20260423T205323Z
SUMMARY:Bauch-Beine-Po Workout
DESCRIPTION:Fachbereich: Bauch-Beine-Po Workout\nKurs-Nr.: 26.50015-09\n\nD
 etails: https://www.reha-rheinfelden.ch/fit-und-gesund/sRAXJCZK
URL:https://www.reha-rheinfelden.ch/fit-und-gesund/sRAXJCZK
DTSTART;TZID=Europe/Zurich:20260925T120000
DTEND;TZID=Europe/Zurich:20260925T125500
LOCATION:Turnhalle\, Bereich 11
END:VEVENT
BEGIN:VEVENT
UID:sRAXJCZK-5
DTSTAMP:20260423T205323Z
SUMMARY:Bauch-Beine-Po Workout
DESCRIPTION:Fachbereich: Bauch-Beine-Po Workout\nKurs-Nr.: 26.50015-09\n\nD
 etails: https://www.reha-rheinfelden.ch/fit-und-gesund/sRAXJCZK
URL:https://www.reha-rheinfelden.ch/fit-und-gesund/sRAXJCZK
DTSTART;TZID=Europe/Zurich:20261009T120000
DTEND;TZID=Europe/Zurich:20261009T125500
LOCATION:Turnhalle\, Bereich 11
END:VEVENT
BEGIN:VEVENT
UID:sRAXJCZK-6
DTSTAMP:20260423T205323Z
SUMMARY:Bauch-Beine-Po Workout
DESCRIPTION:Fachbereich: Bauch-Beine-Po Workout\nKurs-Nr.: 26.50015-09\n\nD
 etails: https://www.reha-rheinfelden.ch/fit-und-gesund/sRAXJCZK
URL:https://www.reha-rheinfelden.ch/fit-und-gesund/sRAXJCZK
DTSTART;TZID=Europe/Zurich:20261016T120000
DTEND;TZID=Europe/Zurich:20261016T125500
LOCATION:Turnhalle\, Bereich 11
END:VEVENT
BEGIN:VEVENT
UID:sRAXJCZK-7
DTSTAMP:20260423T205323Z
SUMMARY:Bauch-Beine-Po Workout
DESCRIPTION:Fachbereich: Bauch-Beine-Po Workout\nKurs-Nr.: 26.50015-09\n\nD
 etails: https://www.reha-rheinfelden.ch/fit-und-gesund/sRAXJCZK
URL:https://www.reha-rheinfelden.ch/fit-und-gesund/sRAXJCZK
DTSTART;TZID=Europe/Zurich:20261023T120000
DTEND;TZID=Europe/Zurich:20261023T125500
LOCATION:Turnhalle\, Bereich 11
END:VEVENT
BEGIN:VEVENT
UID:sRAXJCZK-8
DTSTAMP:20260423T205323Z
SUMMARY:Bauch-Beine-Po Workout
DESCRIPTION:Fachbereich: Bauch-Beine-Po Workout\nKurs-Nr.: 26.50015-09\n\nD
 etails: https://www.reha-rheinfelden.ch/fit-und-gesund/sRAXJCZK
URL:https://www.reha-rheinfelden.ch/fit-und-gesund/sRAXJCZK
DTSTART;TZID=Europe/Zurich:20261030T120000
DTEND;TZID=Europe/Zurich:20261030T125500
LOCATION:Turnhalle\, Bereich 11
END:VEVENT
BEGIN:VEVENT
UID:sRAXJCZK-9
DTSTAMP:20260423T205323Z
SUMMARY:Bauch-Beine-Po Workout
DESCRIPTION:Fachbereich: Bauch-Beine-Po Workout\nKurs-Nr.: 26.50015-09\n\nD
 etails: https://www.reha-rheinfelden.ch/fit-und-gesund/sRAXJCZK
URL:https://www.reha-rheinfelden.ch/fit-und-gesund/sRAXJCZK
DTSTART;TZID=Europe/Zurich:20261106T120000
DTEND;TZID=Europe/Zurich:20261106T125500
LOCATION:Turnhalle\, Bereich 11
END:VEVENT
BEGIN:VEVENT
UID:sRAXJCZK-10
DTSTAMP:20260423T205323Z
SUMMARY:Bauch-Beine-Po Workout
DESCRIPTION:Fachbereich: Bauch-Beine-Po Workout\nKurs-Nr.: 26.50015-09\n\nD
 etails: https://www.reha-rheinfelden.ch/fit-und-gesund/sRAXJCZK
URL:https://www.reha-rheinfelden.ch/fit-und-gesund/sRAXJCZK
DTSTART;TZID=Europe/Zurich:20261113T120000
DTEND;TZID=Europe/Zurich:20261113T125500
LOCATION:Turnhalle\, Bereich 11
END:VEVENT
BEGIN:VEVENT
UID:sRAXJCZK-11
DTSTAMP:20260423T205323Z
SUMMARY:Bauch-Beine-Po Workout
DESCRIPTION:Fachbereich: Bauch-Beine-Po Workout\nKurs-Nr.: 26.50015-09\n\nD
 etails: https://www.reha-rheinfelden.ch/fit-und-gesund/sRAXJCZK
URL:https://www.reha-rheinfelden.ch/fit-und-gesund/sRAXJCZK
DTSTART;TZID=Europe/Zurich:20261120T120000
DTEND;TZID=Europe/Zurich:20261120T125500
LOCATION:Turnhalle\, Bereich 11
END:VEVENT
BEGIN:VEVENT
UID:sRAXJCZK-12
DTSTAMP:20260423T205323Z
SUMMARY:Bauch-Beine-Po Workout
DESCRIPTION:Fachbereich: Bauch-Beine-Po Workout\nKurs-Nr.: 26.50015-09\n\nD
 etails: https://www.reha-rheinfelden.ch/fit-und-gesund/sRAXJCZK
URL:https://www.reha-rheinfelden.ch/fit-und-gesund/sRAXJCZK
DTSTART;TZID=Europe/Zurich:20261127T120000
DTEND;TZID=Europe/Zurich:20261127T125500
LOCATION:Turnhalle\, Bereich 11
END:VEVENT
BEGIN:VEVENT
UID:sRAXJCZK-13
DTSTAMP:20260423T205323Z
SUMMARY:Bauch-Beine-Po Workout
DESCRIPTION:Fachbereich: Bauch-Beine-Po Workout\nKurs-Nr.: 26.50015-09\n\nD
 etails: https://www.reha-rheinfelden.ch/fit-und-gesund/sRAXJCZK
URL:https://www.reha-rheinfelden.ch/fit-und-gesund/sRAXJCZK
DTSTART;TZID=Europe/Zurich:20261204T120000
DTEND;TZID=Europe/Zurich:20261204T125500
LOCATION:Turnhalle\, Bereich 11
END:VEVENT
BEGIN:VEVENT
UID:sRAXJCZK-14
DTSTAMP:20260423T205323Z
SUMMARY:Bauch-Beine-Po Workout
DESCRIPTION:Fachbereich: Bauch-Beine-Po Workout\nKurs-Nr.: 26.50015-09\n\nD
 etails: https://www.reha-rheinfelden.ch/fit-und-gesund/sRAXJCZK
URL:https://www.reha-rheinfelden.ch/fit-und-gesund/sRAXJCZK
DTSTART;TZID=Europe/Zurich:20261211T120000
DTEND;TZID=Europe/Zurich:20261211T125500
LOCATION:Turnhalle\, Bereich 11
END:VEVENT
BEGIN:VEVENT
UID:sRAXJCZK-15
DTSTAMP:20260423T205323Z
SUMMARY:Bauch-Beine-Po Workout
DESCRIPTION:Fachbereich: Bauch-Beine-Po Workout\nKurs-Nr.: 26.50015-09\n\nD
 etails: https://www.reha-rheinfelden.ch/fit-und-gesund/sRAXJCZK
URL:https://www.reha-rheinfelden.ch/fit-und-gesund/sRAXJCZK
DTSTART;TZID=Europe/Zurich:20261218T120000
DTEND;TZID=Europe/Zurich:20261218T125500
LOCATION:Turnhalle\, Bereich 11
END:VEVENT
BEGIN:VEVENT
UID:sRAXJCZK-16
DTSTAMP:20260423T205323Z
SUMMARY:Bauch-Beine-Po Workout
DESCRIPTION:Fachbereich: Bauch-Beine-Po Workout\nKurs-Nr.: 26.50015-09\n\nD
 etails: https://www.reha-rheinfelden.ch/fit-und-gesund/sRAXJCZK
URL:https://www.reha-rheinfelden.ch/fit-und-gesund/sRAXJCZK
DTSTART;TZID=Europe/Zurich:20260814T120000
DTEND;TZID=Europe/Zurich:20260814T125500
LOCATION:Turnhalle\, Bereich 11
END:VEVENT
END:VCALENDAR
