BEGIN:VCALENDAR
PRODID:-//Reha Rheinfelden//Kurse//DE
VERSION:2.0
CALSCALE:GREGORIAN
BEGIN:VEVENT
UID:ns6pHcXJ-0
DTSTAMP:20260423T205750Z
SUMMARY:Pilates
DESCRIPTION:Fachbereich: Pilates\nKurs-Nr.: 26.50003-25\n\nDetails: https:/
 /www.reha-rheinfelden.ch/fit-und-gesund/ns6pHcXJ
URL:https://www.reha-rheinfelden.ch/fit-und-gesund/ns6pHcXJ
DTSTART;TZID=Europe/Zurich:20260903T191500
DTEND;TZID=Europe/Zurich:20260903T201000
LOCATION:Gruppenraum 1\, Bereich 15
END:VEVENT
BEGIN:VEVENT
UID:ns6pHcXJ-1
DTSTAMP:20260423T205750Z
SUMMARY:Pilates
DESCRIPTION:Fachbereich: Pilates\nKurs-Nr.: 26.50003-25\n\nDetails: https:/
 /www.reha-rheinfelden.ch/fit-und-gesund/ns6pHcXJ
URL:https://www.reha-rheinfelden.ch/fit-und-gesund/ns6pHcXJ
DTSTART;TZID=Europe/Zurich:20260910T191500
DTEND;TZID=Europe/Zurich:20260910T201000
LOCATION:Gruppenraum 1\, Bereich 15
END:VEVENT
BEGIN:VEVENT
UID:ns6pHcXJ-2
DTSTAMP:20260423T205750Z
SUMMARY:Pilates
DESCRIPTION:Fachbereich: Pilates\nKurs-Nr.: 26.50003-25\n\nDetails: https:/
 /www.reha-rheinfelden.ch/fit-und-gesund/ns6pHcXJ
URL:https://www.reha-rheinfelden.ch/fit-und-gesund/ns6pHcXJ
DTSTART;TZID=Europe/Zurich:20260917T191500
DTEND;TZID=Europe/Zurich:20260917T201000
LOCATION:Gruppenraum 1\, Bereich 15
END:VEVENT
BEGIN:VEVENT
UID:ns6pHcXJ-3
DTSTAMP:20260423T205750Z
SUMMARY:Pilates
DESCRIPTION:Fachbereich: Pilates\nKurs-Nr.: 26.50003-25\n\nDetails: https:/
 /www.reha-rheinfelden.ch/fit-und-gesund/ns6pHcXJ
URL:https://www.reha-rheinfelden.ch/fit-und-gesund/ns6pHcXJ
DTSTART;TZID=Europe/Zurich:20260924T191500
DTEND;TZID=Europe/Zurich:20260924T201000
LOCATION:Gruppenraum 1\, Bereich 15
END:VEVENT
BEGIN:VEVENT
UID:ns6pHcXJ-4
DTSTAMP:20260423T205750Z
SUMMARY:Pilates
DESCRIPTION:Fachbereich: Pilates\nKurs-Nr.: 26.50003-25\n\nDetails: https:/
 /www.reha-rheinfelden.ch/fit-und-gesund/ns6pHcXJ
URL:https://www.reha-rheinfelden.ch/fit-und-gesund/ns6pHcXJ
DTSTART;TZID=Europe/Zurich:20261001T191500
DTEND;TZID=Europe/Zurich:20261001T201000
LOCATION:Gruppenraum 1\, Bereich 15
END:VEVENT
BEGIN:VEVENT
UID:ns6pHcXJ-5
DTSTAMP:20260423T205750Z
SUMMARY:Pilates
DESCRIPTION:Fachbereich: Pilates\nKurs-Nr.: 26.50003-25\n\nDetails: https:/
 /www.reha-rheinfelden.ch/fit-und-gesund/ns6pHcXJ
URL:https://www.reha-rheinfelden.ch/fit-und-gesund/ns6pHcXJ
DTSTART;TZID=Europe/Zurich:20261008T191500
DTEND;TZID=Europe/Zurich:20261008T201000
LOCATION:Gruppenraum 1\, Bereich 15
END:VEVENT
BEGIN:VEVENT
UID:ns6pHcXJ-6
DTSTAMP:20260423T205750Z
SUMMARY:Pilates
DESCRIPTION:Fachbereich: Pilates\nKurs-Nr.: 26.50003-25\n\nDetails: https:/
 /www.reha-rheinfelden.ch/fit-und-gesund/ns6pHcXJ
URL:https://www.reha-rheinfelden.ch/fit-und-gesund/ns6pHcXJ
DTSTART;TZID=Europe/Zurich:20261015T191500
DTEND;TZID=Europe/Zurich:20261015T201000
LOCATION:Gruppenraum 1\, Bereich 15
END:VEVENT
BEGIN:VEVENT
UID:ns6pHcXJ-7
DTSTAMP:20260423T205750Z
SUMMARY:Pilates
DESCRIPTION:Fachbereich: Pilates\nKurs-Nr.: 26.50003-25\n\nDetails: https:/
 /www.reha-rheinfelden.ch/fit-und-gesund/ns6pHcXJ
URL:https://www.reha-rheinfelden.ch/fit-und-gesund/ns6pHcXJ
DTSTART;TZID=Europe/Zurich:20261022T191500
DTEND;TZID=Europe/Zurich:20261022T201000
LOCATION:Gruppenraum 1\, Bereich 15
END:VEVENT
BEGIN:VEVENT
UID:ns6pHcXJ-8
DTSTAMP:20260423T205750Z
SUMMARY:Pilates
DESCRIPTION:Fachbereich: Pilates\nKurs-Nr.: 26.50003-25\n\nDetails: https:/
 /www.reha-rheinfelden.ch/fit-und-gesund/ns6pHcXJ
URL:https://www.reha-rheinfelden.ch/fit-und-gesund/ns6pHcXJ
DTSTART;TZID=Europe/Zurich:20261029T191500
DTEND;TZID=Europe/Zurich:20261029T201000
LOCATION:Gruppenraum 1\, Bereich 15
END:VEVENT
BEGIN:VEVENT
UID:ns6pHcXJ-9
DTSTAMP:20260423T205750Z
SUMMARY:Pilates
DESCRIPTION:Fachbereich: Pilates\nKurs-Nr.: 26.50003-25\n\nDetails: https:/
 /www.reha-rheinfelden.ch/fit-und-gesund/ns6pHcXJ
URL:https://www.reha-rheinfelden.ch/fit-und-gesund/ns6pHcXJ
DTSTART;TZID=Europe/Zurich:20261105T191500
DTEND;TZID=Europe/Zurich:20261105T201000
LOCATION:Gruppenraum 1\, Bereich 15
END:VEVENT
BEGIN:VEVENT
UID:ns6pHcXJ-10
DTSTAMP:20260423T205750Z
SUMMARY:Pilates
DESCRIPTION:Fachbereich: Pilates\nKurs-Nr.: 26.50003-25\n\nDetails: https:/
 /www.reha-rheinfelden.ch/fit-und-gesund/ns6pHcXJ
URL:https://www.reha-rheinfelden.ch/fit-und-gesund/ns6pHcXJ
DTSTART;TZID=Europe/Zurich:20261112T191500
DTEND;TZID=Europe/Zurich:20261112T201000
LOCATION:Gruppenraum 1\, Bereich 15
END:VEVENT
BEGIN:VEVENT
UID:ns6pHcXJ-11
DTSTAMP:20260423T205750Z
SUMMARY:Pilates
DESCRIPTION:Fachbereich: Pilates\nKurs-Nr.: 26.50003-25\n\nDetails: https:/
 /www.reha-rheinfelden.ch/fit-und-gesund/ns6pHcXJ
URL:https://www.reha-rheinfelden.ch/fit-und-gesund/ns6pHcXJ
DTSTART;TZID=Europe/Zurich:20261119T191500
DTEND;TZID=Europe/Zurich:20261119T201000
LOCATION:Gruppenraum 1\, Bereich 15
END:VEVENT
BEGIN:VEVENT
UID:ns6pHcXJ-12
DTSTAMP:20260423T205750Z
SUMMARY:Pilates
DESCRIPTION:Fachbereich: Pilates\nKurs-Nr.: 26.50003-25\n\nDetails: https:/
 /www.reha-rheinfelden.ch/fit-und-gesund/ns6pHcXJ
URL:https://www.reha-rheinfelden.ch/fit-und-gesund/ns6pHcXJ
DTSTART;TZID=Europe/Zurich:20261126T191500
DTEND;TZID=Europe/Zurich:20261126T201000
LOCATION:Gruppenraum 1\, Bereich 15
END:VEVENT
BEGIN:VEVENT
UID:ns6pHcXJ-13
DTSTAMP:20260423T205750Z
SUMMARY:Pilates
DESCRIPTION:Fachbereich: Pilates\nKurs-Nr.: 26.50003-25\n\nDetails: https:/
 /www.reha-rheinfelden.ch/fit-und-gesund/ns6pHcXJ
URL:https://www.reha-rheinfelden.ch/fit-und-gesund/ns6pHcXJ
DTSTART;TZID=Europe/Zurich:20261203T191500
DTEND;TZID=Europe/Zurich:20261203T201000
LOCATION:Gruppenraum 1\, Bereich 15
END:VEVENT
BEGIN:VEVENT
UID:ns6pHcXJ-14
DTSTAMP:20260423T205750Z
SUMMARY:Pilates
DESCRIPTION:Fachbereich: Pilates\nKurs-Nr.: 26.50003-25\n\nDetails: https:/
 /www.reha-rheinfelden.ch/fit-und-gesund/ns6pHcXJ
URL:https://www.reha-rheinfelden.ch/fit-und-gesund/ns6pHcXJ
DTSTART;TZID=Europe/Zurich:20261210T191500
DTEND;TZID=Europe/Zurich:20261210T201000
LOCATION:Gruppenraum 1\, Bereich 15
END:VEVENT
BEGIN:VEVENT
UID:ns6pHcXJ-15
DTSTAMP:20260423T205750Z
SUMMARY:Pilates
DESCRIPTION:Fachbereich: Pilates\nKurs-Nr.: 26.50003-25\n\nDetails: https:/
 /www.reha-rheinfelden.ch/fit-und-gesund/ns6pHcXJ
URL:https://www.reha-rheinfelden.ch/fit-und-gesund/ns6pHcXJ
DTSTART;TZID=Europe/Zurich:20261217T191500
DTEND;TZID=Europe/Zurich:20261217T201000
LOCATION:Gruppenraum 1\, Bereich 15
END:VEVENT
END:VCALENDAR
