BEGIN:VCALENDAR
PRODID:-//Reha Rheinfelden//Kurse//DE
VERSION:2.0
CALSCALE:GREGORIAN
BEGIN:VEVENT
UID:fhe0x2zJ-0
DTSTAMP:20260422T104117Z
SUMMARY:Aquafit
DESCRIPTION:Fachbereich: Aquafit\nKurs-Nr.: 26.50001-45\n\nDetails: https:/
 /www.reha-rheinfelden.ch/fit-und-gesund/fhe0x2zJ
URL:https://www.reha-rheinfelden.ch/fit-und-gesund/fhe0x2zJ
DTSTART;TZID=Europe/Zurich:20260416T180000
DTEND;TZID=Europe/Zurich:20260416T185500
LOCATION:Therapiebad grosses Becken\, Bereich 11
END:VEVENT
BEGIN:VEVENT
UID:fhe0x2zJ-1
DTSTAMP:20260422T104117Z
SUMMARY:Aquafit
DESCRIPTION:Fachbereich: Aquafit\nKurs-Nr.: 26.50001-45\n\nDetails: https:/
 /www.reha-rheinfelden.ch/fit-und-gesund/fhe0x2zJ
URL:https://www.reha-rheinfelden.ch/fit-und-gesund/fhe0x2zJ
DTSTART;TZID=Europe/Zurich:20260423T180000
DTEND;TZID=Europe/Zurich:20260423T185500
LOCATION:Therapiebad grosses Becken\, Bereich 11
END:VEVENT
BEGIN:VEVENT
UID:fhe0x2zJ-2
DTSTAMP:20260422T104117Z
SUMMARY:Aquafit
DESCRIPTION:Fachbereich: Aquafit\nKurs-Nr.: 26.50001-45\n\nDetails: https:/
 /www.reha-rheinfelden.ch/fit-und-gesund/fhe0x2zJ
URL:https://www.reha-rheinfelden.ch/fit-und-gesund/fhe0x2zJ
DTSTART;TZID=Europe/Zurich:20260430T180000
DTEND;TZID=Europe/Zurich:20260430T185500
LOCATION:Therapiebad grosses Becken\, Bereich 11
END:VEVENT
BEGIN:VEVENT
UID:fhe0x2zJ-3
DTSTAMP:20260422T104117Z
SUMMARY:Aquafit
DESCRIPTION:Fachbereich: Aquafit\nKurs-Nr.: 26.50001-45\n\nDetails: https:/
 /www.reha-rheinfelden.ch/fit-und-gesund/fhe0x2zJ
URL:https://www.reha-rheinfelden.ch/fit-und-gesund/fhe0x2zJ
DTSTART;TZID=Europe/Zurich:20260507T180000
DTEND;TZID=Europe/Zurich:20260507T185500
LOCATION:Therapiebad grosses Becken\, Bereich 11
END:VEVENT
BEGIN:VEVENT
UID:fhe0x2zJ-4
DTSTAMP:20260422T104117Z
SUMMARY:Aquafit
DESCRIPTION:Fachbereich: Aquafit\nKurs-Nr.: 26.50001-45\n\nDetails: https:/
 /www.reha-rheinfelden.ch/fit-und-gesund/fhe0x2zJ
URL:https://www.reha-rheinfelden.ch/fit-und-gesund/fhe0x2zJ
DTSTART;TZID=Europe/Zurich:20260521T180000
DTEND;TZID=Europe/Zurich:20260521T185500
LOCATION:Therapiebad grosses Becken\, Bereich 11
END:VEVENT
BEGIN:VEVENT
UID:fhe0x2zJ-5
DTSTAMP:20260422T104117Z
SUMMARY:Aquafit
DESCRIPTION:Fachbereich: Aquafit\nKurs-Nr.: 26.50001-45\n\nDetails: https:/
 /www.reha-rheinfelden.ch/fit-und-gesund/fhe0x2zJ
URL:https://www.reha-rheinfelden.ch/fit-und-gesund/fhe0x2zJ
DTSTART;TZID=Europe/Zurich:20260528T180000
DTEND;TZID=Europe/Zurich:20260528T185500
LOCATION:Therapiebad grosses Becken\, Bereich 11
END:VEVENT
BEGIN:VEVENT
UID:fhe0x2zJ-6
DTSTAMP:20260422T104117Z
SUMMARY:Aquafit
DESCRIPTION:Fachbereich: Aquafit\nKurs-Nr.: 26.50001-45\n\nDetails: https:/
 /www.reha-rheinfelden.ch/fit-und-gesund/fhe0x2zJ
URL:https://www.reha-rheinfelden.ch/fit-und-gesund/fhe0x2zJ
DTSTART;TZID=Europe/Zurich:20260604T180000
DTEND;TZID=Europe/Zurich:20260604T185500
LOCATION:Therapiebad grosses Becken\, Bereich 11
END:VEVENT
BEGIN:VEVENT
UID:fhe0x2zJ-7
DTSTAMP:20260422T104117Z
SUMMARY:Aquafit
DESCRIPTION:Fachbereich: Aquafit\nKurs-Nr.: 26.50001-45\n\nDetails: https:/
 /www.reha-rheinfelden.ch/fit-und-gesund/fhe0x2zJ
URL:https://www.reha-rheinfelden.ch/fit-und-gesund/fhe0x2zJ
DTSTART;TZID=Europe/Zurich:20260611T180000
DTEND;TZID=Europe/Zurich:20260611T185500
LOCATION:Therapiebad grosses Becken\, Bereich 11
END:VEVENT
BEGIN:VEVENT
UID:fhe0x2zJ-8
DTSTAMP:20260422T104117Z
SUMMARY:Aquafit
DESCRIPTION:Fachbereich: Aquafit\nKurs-Nr.: 26.50001-45\n\nDetails: https:/
 /www.reha-rheinfelden.ch/fit-und-gesund/fhe0x2zJ
URL:https://www.reha-rheinfelden.ch/fit-und-gesund/fhe0x2zJ
DTSTART;TZID=Europe/Zurich:20260618T180000
DTEND;TZID=Europe/Zurich:20260618T185500
LOCATION:Therapiebad grosses Becken\, Bereich 11
END:VEVENT
BEGIN:VEVENT
UID:fhe0x2zJ-9
DTSTAMP:20260422T104117Z
SUMMARY:Aquafit
DESCRIPTION:Fachbereich: Aquafit\nKurs-Nr.: 26.50001-45\n\nDetails: https:/
 /www.reha-rheinfelden.ch/fit-und-gesund/fhe0x2zJ
URL:https://www.reha-rheinfelden.ch/fit-und-gesund/fhe0x2zJ
DTSTART;TZID=Europe/Zurich:20260625T180000
DTEND;TZID=Europe/Zurich:20260625T185500
LOCATION:Therapiebad grosses Becken\, Bereich 11
END:VEVENT
BEGIN:VEVENT
UID:fhe0x2zJ-10
DTSTAMP:20260422T104117Z
SUMMARY:Aquafit
DESCRIPTION:Fachbereich: Aquafit\nKurs-Nr.: 26.50001-45\n\nDetails: https:/
 /www.reha-rheinfelden.ch/fit-und-gesund/fhe0x2zJ
URL:https://www.reha-rheinfelden.ch/fit-und-gesund/fhe0x2zJ
DTSTART;TZID=Europe/Zurich:20260702T180000
DTEND;TZID=Europe/Zurich:20260702T185500
LOCATION:Therapiebad grosses Becken\, Bereich 11
END:VEVENT
END:VCALENDAR
