BEGIN:VCALENDAR
PRODID:-//Reha Rheinfelden//Kurse//DE
VERSION:2.0
CALSCALE:GREGORIAN
BEGIN:VEVENT
UID:fAcsGmaxl-0
DTSTAMP:20260423T205637Z
SUMMARY:Rücken Fit
DESCRIPTION:Fachbereich: Rücken Fit\nKurs-Nr.: 26.50015-08\n\nDetails: htt
 ps://www.reha-rheinfelden.ch/fit-und-gesund/fAcsGmaxl
URL:https://www.reha-rheinfelden.ch/fit-und-gesund/fAcsGmaxl
DTSTART;TZID=Europe/Zurich:20260820T170500
DTEND;TZID=Europe/Zurich:20260820T180000
LOCATION:Turnhalle\, Bereich 11
END:VEVENT
BEGIN:VEVENT
UID:fAcsGmaxl-1
DTSTAMP:20260423T205637Z
SUMMARY:Rücken Fit
DESCRIPTION:Fachbereich: Rücken Fit\nKurs-Nr.: 26.50015-08\n\nDetails: htt
 ps://www.reha-rheinfelden.ch/fit-und-gesund/fAcsGmaxl
URL:https://www.reha-rheinfelden.ch/fit-und-gesund/fAcsGmaxl
DTSTART;TZID=Europe/Zurich:20260827T170500
DTEND;TZID=Europe/Zurich:20260827T180000
LOCATION:Turnhalle\, Bereich 11
END:VEVENT
BEGIN:VEVENT
UID:fAcsGmaxl-2
DTSTAMP:20260423T205637Z
SUMMARY:Rücken Fit
DESCRIPTION:Fachbereich: Rücken Fit\nKurs-Nr.: 26.50015-08\n\nDetails: htt
 ps://www.reha-rheinfelden.ch/fit-und-gesund/fAcsGmaxl
URL:https://www.reha-rheinfelden.ch/fit-und-gesund/fAcsGmaxl
DTSTART;TZID=Europe/Zurich:20260903T170500
DTEND;TZID=Europe/Zurich:20260903T180000
LOCATION:Turnhalle\, Bereich 11
END:VEVENT
BEGIN:VEVENT
UID:fAcsGmaxl-3
DTSTAMP:20260423T205637Z
SUMMARY:Rücken Fit
DESCRIPTION:Fachbereich: Rücken Fit\nKurs-Nr.: 26.50015-08\n\nDetails: htt
 ps://www.reha-rheinfelden.ch/fit-und-gesund/fAcsGmaxl
URL:https://www.reha-rheinfelden.ch/fit-und-gesund/fAcsGmaxl
DTSTART;TZID=Europe/Zurich:20260910T170500
DTEND;TZID=Europe/Zurich:20260910T180000
LOCATION:Turnhalle\, Bereich 11
END:VEVENT
BEGIN:VEVENT
UID:fAcsGmaxl-4
DTSTAMP:20260423T205637Z
SUMMARY:Rücken Fit
DESCRIPTION:Fachbereich: Rücken Fit\nKurs-Nr.: 26.50015-08\n\nDetails: htt
 ps://www.reha-rheinfelden.ch/fit-und-gesund/fAcsGmaxl
URL:https://www.reha-rheinfelden.ch/fit-und-gesund/fAcsGmaxl
DTSTART;TZID=Europe/Zurich:20260917T170500
DTEND;TZID=Europe/Zurich:20260917T180000
LOCATION:Turnhalle\, Bereich 11
END:VEVENT
BEGIN:VEVENT
UID:fAcsGmaxl-5
DTSTAMP:20260423T205637Z
SUMMARY:Rücken Fit
DESCRIPTION:Fachbereich: Rücken Fit\nKurs-Nr.: 26.50015-08\n\nDetails: htt
 ps://www.reha-rheinfelden.ch/fit-und-gesund/fAcsGmaxl
URL:https://www.reha-rheinfelden.ch/fit-und-gesund/fAcsGmaxl
DTSTART;TZID=Europe/Zurich:20260924T170500
DTEND;TZID=Europe/Zurich:20260924T180000
LOCATION:Turnhalle\, Bereich 11
END:VEVENT
BEGIN:VEVENT
UID:fAcsGmaxl-6
DTSTAMP:20260423T205637Z
SUMMARY:Rücken Fit
DESCRIPTION:Fachbereich: Rücken Fit\nKurs-Nr.: 26.50015-08\n\nDetails: htt
 ps://www.reha-rheinfelden.ch/fit-und-gesund/fAcsGmaxl
URL:https://www.reha-rheinfelden.ch/fit-und-gesund/fAcsGmaxl
DTSTART;TZID=Europe/Zurich:20261008T170500
DTEND;TZID=Europe/Zurich:20261008T180000
LOCATION:Turnhalle\, Bereich 11
END:VEVENT
BEGIN:VEVENT
UID:fAcsGmaxl-7
DTSTAMP:20260423T205637Z
SUMMARY:Rücken Fit
DESCRIPTION:Fachbereich: Rücken Fit\nKurs-Nr.: 26.50015-08\n\nDetails: htt
 ps://www.reha-rheinfelden.ch/fit-und-gesund/fAcsGmaxl
URL:https://www.reha-rheinfelden.ch/fit-und-gesund/fAcsGmaxl
DTSTART;TZID=Europe/Zurich:20261015T170500
DTEND;TZID=Europe/Zurich:20261015T180000
LOCATION:Turnhalle\, Bereich 11
END:VEVENT
BEGIN:VEVENT
UID:fAcsGmaxl-8
DTSTAMP:20260423T205637Z
SUMMARY:Rücken Fit
DESCRIPTION:Fachbereich: Rücken Fit\nKurs-Nr.: 26.50015-08\n\nDetails: htt
 ps://www.reha-rheinfelden.ch/fit-und-gesund/fAcsGmaxl
URL:https://www.reha-rheinfelden.ch/fit-und-gesund/fAcsGmaxl
DTSTART;TZID=Europe/Zurich:20261022T170500
DTEND;TZID=Europe/Zurich:20261022T180000
LOCATION:Turnhalle\, Bereich 11
END:VEVENT
BEGIN:VEVENT
UID:fAcsGmaxl-9
DTSTAMP:20260423T205637Z
SUMMARY:Rücken Fit
DESCRIPTION:Fachbereich: Rücken Fit\nKurs-Nr.: 26.50015-08\n\nDetails: htt
 ps://www.reha-rheinfelden.ch/fit-und-gesund/fAcsGmaxl
URL:https://www.reha-rheinfelden.ch/fit-und-gesund/fAcsGmaxl
DTSTART;TZID=Europe/Zurich:20261029T170500
DTEND;TZID=Europe/Zurich:20261029T180000
LOCATION:Turnhalle\, Bereich 11
END:VEVENT
BEGIN:VEVENT
UID:fAcsGmaxl-10
DTSTAMP:20260423T205637Z
SUMMARY:Rücken Fit
DESCRIPTION:Fachbereich: Rücken Fit\nKurs-Nr.: 26.50015-08\n\nDetails: htt
 ps://www.reha-rheinfelden.ch/fit-und-gesund/fAcsGmaxl
URL:https://www.reha-rheinfelden.ch/fit-und-gesund/fAcsGmaxl
DTSTART;TZID=Europe/Zurich:20261105T170500
DTEND;TZID=Europe/Zurich:20261105T180000
LOCATION:Turnhalle\, Bereich 11
END:VEVENT
BEGIN:VEVENT
UID:fAcsGmaxl-11
DTSTAMP:20260423T205637Z
SUMMARY:Rücken Fit
DESCRIPTION:Fachbereich: Rücken Fit\nKurs-Nr.: 26.50015-08\n\nDetails: htt
 ps://www.reha-rheinfelden.ch/fit-und-gesund/fAcsGmaxl
URL:https://www.reha-rheinfelden.ch/fit-und-gesund/fAcsGmaxl
DTSTART;TZID=Europe/Zurich:20261112T170500
DTEND;TZID=Europe/Zurich:20261112T180000
LOCATION:Turnhalle\, Bereich 11
END:VEVENT
BEGIN:VEVENT
UID:fAcsGmaxl-12
DTSTAMP:20260423T205637Z
SUMMARY:Rücken Fit
DESCRIPTION:Fachbereich: Rücken Fit\nKurs-Nr.: 26.50015-08\n\nDetails: htt
 ps://www.reha-rheinfelden.ch/fit-und-gesund/fAcsGmaxl
URL:https://www.reha-rheinfelden.ch/fit-und-gesund/fAcsGmaxl
DTSTART;TZID=Europe/Zurich:20261119T170500
DTEND;TZID=Europe/Zurich:20261119T180000
LOCATION:Turnhalle\, Bereich 11
END:VEVENT
BEGIN:VEVENT
UID:fAcsGmaxl-13
DTSTAMP:20260423T205637Z
SUMMARY:Rücken Fit
DESCRIPTION:Fachbereich: Rücken Fit\nKurs-Nr.: 26.50015-08\n\nDetails: htt
 ps://www.reha-rheinfelden.ch/fit-und-gesund/fAcsGmaxl
URL:https://www.reha-rheinfelden.ch/fit-und-gesund/fAcsGmaxl
DTSTART;TZID=Europe/Zurich:20261126T170500
DTEND;TZID=Europe/Zurich:20261126T180000
LOCATION:Turnhalle\, Bereich 11
END:VEVENT
BEGIN:VEVENT
UID:fAcsGmaxl-14
DTSTAMP:20260423T205637Z
SUMMARY:Rücken Fit
DESCRIPTION:Fachbereich: Rücken Fit\nKurs-Nr.: 26.50015-08\n\nDetails: htt
 ps://www.reha-rheinfelden.ch/fit-und-gesund/fAcsGmaxl
URL:https://www.reha-rheinfelden.ch/fit-und-gesund/fAcsGmaxl
DTSTART;TZID=Europe/Zurich:20261203T170500
DTEND;TZID=Europe/Zurich:20261203T180000
LOCATION:Turnhalle\, Bereich 11
END:VEVENT
BEGIN:VEVENT
UID:fAcsGmaxl-15
DTSTAMP:20260423T205637Z
SUMMARY:Rücken Fit
DESCRIPTION:Fachbereich: Rücken Fit\nKurs-Nr.: 26.50015-08\n\nDetails: htt
 ps://www.reha-rheinfelden.ch/fit-und-gesund/fAcsGmaxl
URL:https://www.reha-rheinfelden.ch/fit-und-gesund/fAcsGmaxl
DTSTART;TZID=Europe/Zurich:20261210T170500
DTEND;TZID=Europe/Zurich:20261210T180000
LOCATION:Turnhalle\, Bereich 11
END:VEVENT
BEGIN:VEVENT
UID:fAcsGmaxl-16
DTSTAMP:20260423T205637Z
SUMMARY:Rücken Fit
DESCRIPTION:Fachbereich: Rücken Fit\nKurs-Nr.: 26.50015-08\n\nDetails: htt
 ps://www.reha-rheinfelden.ch/fit-und-gesund/fAcsGmaxl
URL:https://www.reha-rheinfelden.ch/fit-und-gesund/fAcsGmaxl
DTSTART;TZID=Europe/Zurich:20261217T170500
DTEND;TZID=Europe/Zurich:20261217T180000
LOCATION:Turnhalle\, Bereich 11
END:VEVENT
BEGIN:VEVENT
UID:fAcsGmaxl-17
DTSTAMP:20260423T205637Z
SUMMARY:Rücken Fit
DESCRIPTION:Fachbereich: Rücken Fit\nKurs-Nr.: 26.50015-08\n\nDetails: htt
 ps://www.reha-rheinfelden.ch/fit-und-gesund/fAcsGmaxl
URL:https://www.reha-rheinfelden.ch/fit-und-gesund/fAcsGmaxl
DTSTART;TZID=Europe/Zurich:20260813T170500
DTEND;TZID=Europe/Zurich:20260813T180000
LOCATION:Turnhalle\, Bereich 11
END:VEVENT
END:VCALENDAR
