BEGIN:VCALENDAR
PRODID:-//Reha Rheinfelden//Kurse//DE
VERSION:2.0
CALSCALE:GREGORIAN
BEGIN:VEVENT
UID:axeIDxWOw-0
DTSTAMP:20260423T205923Z
SUMMARY:Fit 60+
DESCRIPTION:Fachbereich: Fit 60+\nKurs-Nr.: 26.50007-25\n\nDetails: https:/
 /www.reha-rheinfelden.ch/fit-und-gesund/axeIDxWOw
URL:https://www.reha-rheinfelden.ch/fit-und-gesund/axeIDxWOw
DTSTART;TZID=Europe/Zurich:20260904T090000
DTEND;TZID=Europe/Zurich:20260904T095500
LOCATION:Turnhalle\, Bereich 11
END:VEVENT
BEGIN:VEVENT
UID:axeIDxWOw-1
DTSTAMP:20260423T205923Z
SUMMARY:Fit 60+
DESCRIPTION:Fachbereich: Fit 60+\nKurs-Nr.: 26.50007-25\n\nDetails: https:/
 /www.reha-rheinfelden.ch/fit-und-gesund/axeIDxWOw
URL:https://www.reha-rheinfelden.ch/fit-und-gesund/axeIDxWOw
DTSTART;TZID=Europe/Zurich:20260911T090000
DTEND;TZID=Europe/Zurich:20260911T095500
LOCATION:Turnhalle\, Bereich 11
END:VEVENT
BEGIN:VEVENT
UID:axeIDxWOw-2
DTSTAMP:20260423T205923Z
SUMMARY:Fit 60+
DESCRIPTION:Fachbereich: Fit 60+\nKurs-Nr.: 26.50007-25\n\nDetails: https:/
 /www.reha-rheinfelden.ch/fit-und-gesund/axeIDxWOw
URL:https://www.reha-rheinfelden.ch/fit-und-gesund/axeIDxWOw
DTSTART;TZID=Europe/Zurich:20260918T090000
DTEND;TZID=Europe/Zurich:20260918T095500
LOCATION:Turnhalle\, Bereich 11
END:VEVENT
BEGIN:VEVENT
UID:axeIDxWOw-3
DTSTAMP:20260423T205923Z
SUMMARY:Fit 60+
DESCRIPTION:Fachbereich: Fit 60+\nKurs-Nr.: 26.50007-25\n\nDetails: https:/
 /www.reha-rheinfelden.ch/fit-und-gesund/axeIDxWOw
URL:https://www.reha-rheinfelden.ch/fit-und-gesund/axeIDxWOw
DTSTART;TZID=Europe/Zurich:20260925T090000
DTEND;TZID=Europe/Zurich:20260925T095500
LOCATION:Turnhalle\, Bereich 11
END:VEVENT
BEGIN:VEVENT
UID:axeIDxWOw-4
DTSTAMP:20260423T205923Z
SUMMARY:Fit 60+
DESCRIPTION:Fachbereich: Fit 60+\nKurs-Nr.: 26.50007-25\n\nDetails: https:/
 /www.reha-rheinfelden.ch/fit-und-gesund/axeIDxWOw
URL:https://www.reha-rheinfelden.ch/fit-und-gesund/axeIDxWOw
DTSTART;TZID=Europe/Zurich:20261002T090000
DTEND;TZID=Europe/Zurich:20261002T095500
LOCATION:Turnhalle\, Bereich 11
END:VEVENT
BEGIN:VEVENT
UID:axeIDxWOw-5
DTSTAMP:20260423T205923Z
SUMMARY:Fit 60+
DESCRIPTION:Fachbereich: Fit 60+\nKurs-Nr.: 26.50007-25\n\nDetails: https:/
 /www.reha-rheinfelden.ch/fit-und-gesund/axeIDxWOw
URL:https://www.reha-rheinfelden.ch/fit-und-gesund/axeIDxWOw
DTSTART;TZID=Europe/Zurich:20261009T090000
DTEND;TZID=Europe/Zurich:20261009T095500
LOCATION:Turnhalle\, Bereich 11
END:VEVENT
BEGIN:VEVENT
UID:axeIDxWOw-6
DTSTAMP:20260423T205923Z
SUMMARY:Fit 60+
DESCRIPTION:Fachbereich: Fit 60+\nKurs-Nr.: 26.50007-25\n\nDetails: https:/
 /www.reha-rheinfelden.ch/fit-und-gesund/axeIDxWOw
URL:https://www.reha-rheinfelden.ch/fit-und-gesund/axeIDxWOw
DTSTART;TZID=Europe/Zurich:20261016T090000
DTEND;TZID=Europe/Zurich:20261016T095500
LOCATION:Turnhalle\, Bereich 11
END:VEVENT
BEGIN:VEVENT
UID:axeIDxWOw-7
DTSTAMP:20260423T205923Z
SUMMARY:Fit 60+
DESCRIPTION:Fachbereich: Fit 60+\nKurs-Nr.: 26.50007-25\n\nDetails: https:/
 /www.reha-rheinfelden.ch/fit-und-gesund/axeIDxWOw
URL:https://www.reha-rheinfelden.ch/fit-und-gesund/axeIDxWOw
DTSTART;TZID=Europe/Zurich:20261023T090000
DTEND;TZID=Europe/Zurich:20261023T095500
LOCATION:Turnhalle\, Bereich 11
END:VEVENT
BEGIN:VEVENT
UID:axeIDxWOw-8
DTSTAMP:20260423T205923Z
SUMMARY:Fit 60+
DESCRIPTION:Fachbereich: Fit 60+\nKurs-Nr.: 26.50007-25\n\nDetails: https:/
 /www.reha-rheinfelden.ch/fit-und-gesund/axeIDxWOw
URL:https://www.reha-rheinfelden.ch/fit-und-gesund/axeIDxWOw
DTSTART;TZID=Europe/Zurich:20261030T090000
DTEND;TZID=Europe/Zurich:20261030T095500
LOCATION:Turnhalle\, Bereich 11
END:VEVENT
BEGIN:VEVENT
UID:axeIDxWOw-9
DTSTAMP:20260423T205923Z
SUMMARY:Fit 60+
DESCRIPTION:Fachbereich: Fit 60+\nKurs-Nr.: 26.50007-25\n\nDetails: https:/
 /www.reha-rheinfelden.ch/fit-und-gesund/axeIDxWOw
URL:https://www.reha-rheinfelden.ch/fit-und-gesund/axeIDxWOw
DTSTART;TZID=Europe/Zurich:20261106T090000
DTEND;TZID=Europe/Zurich:20261106T095500
LOCATION:Turnhalle\, Bereich 11
END:VEVENT
BEGIN:VEVENT
UID:axeIDxWOw-10
DTSTAMP:20260423T205923Z
SUMMARY:Fit 60+
DESCRIPTION:Fachbereich: Fit 60+\nKurs-Nr.: 26.50007-25\n\nDetails: https:/
 /www.reha-rheinfelden.ch/fit-und-gesund/axeIDxWOw
URL:https://www.reha-rheinfelden.ch/fit-und-gesund/axeIDxWOw
DTSTART;TZID=Europe/Zurich:20261113T090000
DTEND;TZID=Europe/Zurich:20261113T095500
LOCATION:Turnhalle\, Bereich 11
END:VEVENT
BEGIN:VEVENT
UID:axeIDxWOw-11
DTSTAMP:20260423T205923Z
SUMMARY:Fit 60+
DESCRIPTION:Fachbereich: Fit 60+\nKurs-Nr.: 26.50007-25\n\nDetails: https:/
 /www.reha-rheinfelden.ch/fit-und-gesund/axeIDxWOw
URL:https://www.reha-rheinfelden.ch/fit-und-gesund/axeIDxWOw
DTSTART;TZID=Europe/Zurich:20261120T090000
DTEND;TZID=Europe/Zurich:20261120T095500
LOCATION:Turnhalle\, Bereich 11
END:VEVENT
BEGIN:VEVENT
UID:axeIDxWOw-12
DTSTAMP:20260423T205923Z
SUMMARY:Fit 60+
DESCRIPTION:Fachbereich: Fit 60+\nKurs-Nr.: 26.50007-25\n\nDetails: https:/
 /www.reha-rheinfelden.ch/fit-und-gesund/axeIDxWOw
URL:https://www.reha-rheinfelden.ch/fit-und-gesund/axeIDxWOw
DTSTART;TZID=Europe/Zurich:20261127T090000
DTEND;TZID=Europe/Zurich:20261127T095500
LOCATION:Turnhalle\, Bereich 11
END:VEVENT
BEGIN:VEVENT
UID:axeIDxWOw-13
DTSTAMP:20260423T205923Z
SUMMARY:Fit 60+
DESCRIPTION:Fachbereich: Fit 60+\nKurs-Nr.: 26.50007-25\n\nDetails: https:/
 /www.reha-rheinfelden.ch/fit-und-gesund/axeIDxWOw
URL:https://www.reha-rheinfelden.ch/fit-und-gesund/axeIDxWOw
DTSTART;TZID=Europe/Zurich:20261204T090000
DTEND;TZID=Europe/Zurich:20261204T095500
LOCATION:Turnhalle\, Bereich 11
END:VEVENT
BEGIN:VEVENT
UID:axeIDxWOw-14
DTSTAMP:20260423T205923Z
SUMMARY:Fit 60+
DESCRIPTION:Fachbereich: Fit 60+\nKurs-Nr.: 26.50007-25\n\nDetails: https:/
 /www.reha-rheinfelden.ch/fit-und-gesund/axeIDxWOw
URL:https://www.reha-rheinfelden.ch/fit-und-gesund/axeIDxWOw
DTSTART;TZID=Europe/Zurich:20261211T090000
DTEND;TZID=Europe/Zurich:20261211T095500
LOCATION:Turnhalle\, Bereich 11
END:VEVENT
BEGIN:VEVENT
UID:axeIDxWOw-15
DTSTAMP:20260423T205923Z
SUMMARY:Fit 60+
DESCRIPTION:Fachbereich: Fit 60+\nKurs-Nr.: 26.50007-25\n\nDetails: https:/
 /www.reha-rheinfelden.ch/fit-und-gesund/axeIDxWOw
URL:https://www.reha-rheinfelden.ch/fit-und-gesund/axeIDxWOw
DTSTART;TZID=Europe/Zurich:20261218T090000
DTEND;TZID=Europe/Zurich:20261218T095500
LOCATION:Turnhalle\, Bereich 11
END:VEVENT
END:VCALENDAR
