BEGIN:VCALENDAR
PRODID:-//Reha Rheinfelden//Kurse//DE
VERSION:2.0
CALSCALE:GREGORIAN
BEGIN:VEVENT
UID:Z4p1niGP-0
DTSTAMP:20260423T212059Z
SUMMARY:Fit 60+
DESCRIPTION:Fachbereich: Fit 60+\nKurs-Nr.: 26.50007-22\n\nDetails: https:/
 /www.reha-rheinfelden.ch/fit-und-gesund/Z4p1niGP
URL:https://www.reha-rheinfelden.ch/fit-und-gesund/Z4p1niGP
DTSTART;TZID=Europe/Zurich:20260901T093000
DTEND;TZID=Europe/Zurich:20260901T102500
LOCATION:Turnhalle\, Bereich 11
END:VEVENT
BEGIN:VEVENT
UID:Z4p1niGP-1
DTSTAMP:20260423T212059Z
SUMMARY:Fit 60+
DESCRIPTION:Fachbereich: Fit 60+\nKurs-Nr.: 26.50007-22\n\nDetails: https:/
 /www.reha-rheinfelden.ch/fit-und-gesund/Z4p1niGP
URL:https://www.reha-rheinfelden.ch/fit-und-gesund/Z4p1niGP
DTSTART;TZID=Europe/Zurich:20260908T093000
DTEND;TZID=Europe/Zurich:20260908T102500
LOCATION:Turnhalle\, Bereich 11
END:VEVENT
BEGIN:VEVENT
UID:Z4p1niGP-2
DTSTAMP:20260423T212059Z
SUMMARY:Fit 60+
DESCRIPTION:Fachbereich: Fit 60+\nKurs-Nr.: 26.50007-22\n\nDetails: https:/
 /www.reha-rheinfelden.ch/fit-und-gesund/Z4p1niGP
URL:https://www.reha-rheinfelden.ch/fit-und-gesund/Z4p1niGP
DTSTART;TZID=Europe/Zurich:20260915T093000
DTEND;TZID=Europe/Zurich:20260915T102500
LOCATION:Turnhalle\, Bereich 11
END:VEVENT
BEGIN:VEVENT
UID:Z4p1niGP-3
DTSTAMP:20260423T212059Z
SUMMARY:Fit 60+
DESCRIPTION:Fachbereich: Fit 60+\nKurs-Nr.: 26.50007-22\n\nDetails: https:/
 /www.reha-rheinfelden.ch/fit-und-gesund/Z4p1niGP
URL:https://www.reha-rheinfelden.ch/fit-und-gesund/Z4p1niGP
DTSTART;TZID=Europe/Zurich:20260922T093000
DTEND;TZID=Europe/Zurich:20260922T102500
LOCATION:Turnhalle\, Bereich 11
END:VEVENT
BEGIN:VEVENT
UID:Z4p1niGP-4
DTSTAMP:20260423T212059Z
SUMMARY:Fit 60+
DESCRIPTION:Fachbereich: Fit 60+\nKurs-Nr.: 26.50007-22\n\nDetails: https:/
 /www.reha-rheinfelden.ch/fit-und-gesund/Z4p1niGP
URL:https://www.reha-rheinfelden.ch/fit-und-gesund/Z4p1niGP
DTSTART;TZID=Europe/Zurich:20260929T093000
DTEND;TZID=Europe/Zurich:20260929T102500
LOCATION:Turnhalle\, Bereich 11
END:VEVENT
BEGIN:VEVENT
UID:Z4p1niGP-5
DTSTAMP:20260423T212059Z
SUMMARY:Fit 60+
DESCRIPTION:Fachbereich: Fit 60+\nKurs-Nr.: 26.50007-22\n\nDetails: https:/
 /www.reha-rheinfelden.ch/fit-und-gesund/Z4p1niGP
URL:https://www.reha-rheinfelden.ch/fit-und-gesund/Z4p1niGP
DTSTART;TZID=Europe/Zurich:20261006T093000
DTEND;TZID=Europe/Zurich:20261006T102500
LOCATION:Turnhalle\, Bereich 11
END:VEVENT
BEGIN:VEVENT
UID:Z4p1niGP-6
DTSTAMP:20260423T212059Z
SUMMARY:Fit 60+
DESCRIPTION:Fachbereich: Fit 60+\nKurs-Nr.: 26.50007-22\n\nDetails: https:/
 /www.reha-rheinfelden.ch/fit-und-gesund/Z4p1niGP
URL:https://www.reha-rheinfelden.ch/fit-und-gesund/Z4p1niGP
DTSTART;TZID=Europe/Zurich:20261013T093000
DTEND;TZID=Europe/Zurich:20261013T102500
LOCATION:Turnhalle\, Bereich 11
END:VEVENT
BEGIN:VEVENT
UID:Z4p1niGP-7
DTSTAMP:20260423T212059Z
SUMMARY:Fit 60+
DESCRIPTION:Fachbereich: Fit 60+\nKurs-Nr.: 26.50007-22\n\nDetails: https:/
 /www.reha-rheinfelden.ch/fit-und-gesund/Z4p1niGP
URL:https://www.reha-rheinfelden.ch/fit-und-gesund/Z4p1niGP
DTSTART;TZID=Europe/Zurich:20261020T093000
DTEND;TZID=Europe/Zurich:20261020T102500
LOCATION:Turnhalle\, Bereich 11
END:VEVENT
BEGIN:VEVENT
UID:Z4p1niGP-8
DTSTAMP:20260423T212059Z
SUMMARY:Fit 60+
DESCRIPTION:Fachbereich: Fit 60+\nKurs-Nr.: 26.50007-22\n\nDetails: https:/
 /www.reha-rheinfelden.ch/fit-und-gesund/Z4p1niGP
URL:https://www.reha-rheinfelden.ch/fit-und-gesund/Z4p1niGP
DTSTART;TZID=Europe/Zurich:20261027T093000
DTEND;TZID=Europe/Zurich:20261027T102500
LOCATION:Turnhalle\, Bereich 11
END:VEVENT
BEGIN:VEVENT
UID:Z4p1niGP-9
DTSTAMP:20260423T212059Z
SUMMARY:Fit 60+
DESCRIPTION:Fachbereich: Fit 60+\nKurs-Nr.: 26.50007-22\n\nDetails: https:/
 /www.reha-rheinfelden.ch/fit-und-gesund/Z4p1niGP
URL:https://www.reha-rheinfelden.ch/fit-und-gesund/Z4p1niGP
DTSTART;TZID=Europe/Zurich:20261103T093000
DTEND;TZID=Europe/Zurich:20261103T102500
LOCATION:Turnhalle\, Bereich 11
END:VEVENT
BEGIN:VEVENT
UID:Z4p1niGP-10
DTSTAMP:20260423T212059Z
SUMMARY:Fit 60+
DESCRIPTION:Fachbereich: Fit 60+\nKurs-Nr.: 26.50007-22\n\nDetails: https:/
 /www.reha-rheinfelden.ch/fit-und-gesund/Z4p1niGP
URL:https://www.reha-rheinfelden.ch/fit-und-gesund/Z4p1niGP
DTSTART;TZID=Europe/Zurich:20261110T093000
DTEND;TZID=Europe/Zurich:20261110T102500
LOCATION:Turnhalle\, Bereich 11
END:VEVENT
BEGIN:VEVENT
UID:Z4p1niGP-11
DTSTAMP:20260423T212059Z
SUMMARY:Fit 60+
DESCRIPTION:Fachbereich: Fit 60+\nKurs-Nr.: 26.50007-22\n\nDetails: https:/
 /www.reha-rheinfelden.ch/fit-und-gesund/Z4p1niGP
URL:https://www.reha-rheinfelden.ch/fit-und-gesund/Z4p1niGP
DTSTART;TZID=Europe/Zurich:20261117T093000
DTEND;TZID=Europe/Zurich:20261117T102500
LOCATION:Turnhalle\, Bereich 11
END:VEVENT
BEGIN:VEVENT
UID:Z4p1niGP-12
DTSTAMP:20260423T212059Z
SUMMARY:Fit 60+
DESCRIPTION:Fachbereich: Fit 60+\nKurs-Nr.: 26.50007-22\n\nDetails: https:/
 /www.reha-rheinfelden.ch/fit-und-gesund/Z4p1niGP
URL:https://www.reha-rheinfelden.ch/fit-und-gesund/Z4p1niGP
DTSTART;TZID=Europe/Zurich:20261124T093000
DTEND;TZID=Europe/Zurich:20261124T102500
LOCATION:Turnhalle\, Bereich 11
END:VEVENT
BEGIN:VEVENT
UID:Z4p1niGP-13
DTSTAMP:20260423T212059Z
SUMMARY:Fit 60+
DESCRIPTION:Fachbereich: Fit 60+\nKurs-Nr.: 26.50007-22\n\nDetails: https:/
 /www.reha-rheinfelden.ch/fit-und-gesund/Z4p1niGP
URL:https://www.reha-rheinfelden.ch/fit-und-gesund/Z4p1niGP
DTSTART;TZID=Europe/Zurich:20261201T093000
DTEND;TZID=Europe/Zurich:20261201T102500
LOCATION:Turnhalle\, Bereich 11
END:VEVENT
BEGIN:VEVENT
UID:Z4p1niGP-14
DTSTAMP:20260423T212059Z
SUMMARY:Fit 60+
DESCRIPTION:Fachbereich: Fit 60+\nKurs-Nr.: 26.50007-22\n\nDetails: https:/
 /www.reha-rheinfelden.ch/fit-und-gesund/Z4p1niGP
URL:https://www.reha-rheinfelden.ch/fit-und-gesund/Z4p1niGP
DTSTART;TZID=Europe/Zurich:20261208T093000
DTEND;TZID=Europe/Zurich:20261208T102500
LOCATION:Turnhalle\, Bereich 11
END:VEVENT
BEGIN:VEVENT
UID:Z4p1niGP-15
DTSTAMP:20260423T212059Z
SUMMARY:Fit 60+
DESCRIPTION:Fachbereich: Fit 60+\nKurs-Nr.: 26.50007-22\n\nDetails: https:/
 /www.reha-rheinfelden.ch/fit-und-gesund/Z4p1niGP
URL:https://www.reha-rheinfelden.ch/fit-und-gesund/Z4p1niGP
DTSTART;TZID=Europe/Zurich:20261215T093000
DTEND;TZID=Europe/Zurich:20261215T102500
LOCATION:Turnhalle\, Bereich 11
END:VEVENT
END:VCALENDAR
