BEGIN:VCALENDAR
PRODID:-//Reha Rheinfelden//Kurse//DE
VERSION:2.0
CALSCALE:GREGORIAN
BEGIN:VEVENT
UID:YPzRsIHs-0
DTSTAMP:20260423T211845Z
SUMMARY:Fit 60+
DESCRIPTION:Fachbereich: Fit 60+\nKurs-Nr.: 26.50007-21\n\nDetails: https:/
 /www.reha-rheinfelden.ch/fit-und-gesund/YPzRsIHs
URL:https://www.reha-rheinfelden.ch/fit-und-gesund/YPzRsIHs
DTSTART;TZID=Europe/Zurich:20260831T104500
DTEND;TZID=Europe/Zurich:20260831T114000
LOCATION:Turnhalle\, Bereich 11
END:VEVENT
BEGIN:VEVENT
UID:YPzRsIHs-1
DTSTAMP:20260423T211845Z
SUMMARY:Fit 60+
DESCRIPTION:Fachbereich: Fit 60+\nKurs-Nr.: 26.50007-21\n\nDetails: https:/
 /www.reha-rheinfelden.ch/fit-und-gesund/YPzRsIHs
URL:https://www.reha-rheinfelden.ch/fit-und-gesund/YPzRsIHs
DTSTART;TZID=Europe/Zurich:20260907T104500
DTEND;TZID=Europe/Zurich:20260907T114000
LOCATION:Turnhalle\, Bereich 11
END:VEVENT
BEGIN:VEVENT
UID:YPzRsIHs-2
DTSTAMP:20260423T211845Z
SUMMARY:Fit 60+
DESCRIPTION:Fachbereich: Fit 60+\nKurs-Nr.: 26.50007-21\n\nDetails: https:/
 /www.reha-rheinfelden.ch/fit-und-gesund/YPzRsIHs
URL:https://www.reha-rheinfelden.ch/fit-und-gesund/YPzRsIHs
DTSTART;TZID=Europe/Zurich:20260914T104500
DTEND;TZID=Europe/Zurich:20260914T114000
LOCATION:Turnhalle\, Bereich 11
END:VEVENT
BEGIN:VEVENT
UID:YPzRsIHs-3
DTSTAMP:20260423T211845Z
SUMMARY:Fit 60+
DESCRIPTION:Fachbereich: Fit 60+\nKurs-Nr.: 26.50007-21\n\nDetails: https:/
 /www.reha-rheinfelden.ch/fit-und-gesund/YPzRsIHs
URL:https://www.reha-rheinfelden.ch/fit-und-gesund/YPzRsIHs
DTSTART;TZID=Europe/Zurich:20260921T104500
DTEND;TZID=Europe/Zurich:20260921T114000
LOCATION:Turnhalle\, Bereich 11
END:VEVENT
BEGIN:VEVENT
UID:YPzRsIHs-4
DTSTAMP:20260423T211845Z
SUMMARY:Fit 60+
DESCRIPTION:Fachbereich: Fit 60+\nKurs-Nr.: 26.50007-21\n\nDetails: https:/
 /www.reha-rheinfelden.ch/fit-und-gesund/YPzRsIHs
URL:https://www.reha-rheinfelden.ch/fit-und-gesund/YPzRsIHs
DTSTART;TZID=Europe/Zurich:20260928T104500
DTEND;TZID=Europe/Zurich:20260928T114000
LOCATION:Turnhalle\, Bereich 11
END:VEVENT
BEGIN:VEVENT
UID:YPzRsIHs-5
DTSTAMP:20260423T211845Z
SUMMARY:Fit 60+
DESCRIPTION:Fachbereich: Fit 60+\nKurs-Nr.: 26.50007-21\n\nDetails: https:/
 /www.reha-rheinfelden.ch/fit-und-gesund/YPzRsIHs
URL:https://www.reha-rheinfelden.ch/fit-und-gesund/YPzRsIHs
DTSTART;TZID=Europe/Zurich:20261005T104500
DTEND;TZID=Europe/Zurich:20261005T114000
LOCATION:Turnhalle\, Bereich 11
END:VEVENT
BEGIN:VEVENT
UID:YPzRsIHs-6
DTSTAMP:20260423T211845Z
SUMMARY:Fit 60+
DESCRIPTION:Fachbereich: Fit 60+\nKurs-Nr.: 26.50007-21\n\nDetails: https:/
 /www.reha-rheinfelden.ch/fit-und-gesund/YPzRsIHs
URL:https://www.reha-rheinfelden.ch/fit-und-gesund/YPzRsIHs
DTSTART;TZID=Europe/Zurich:20261012T104500
DTEND;TZID=Europe/Zurich:20261012T114000
LOCATION:Turnhalle\, Bereich 11
END:VEVENT
BEGIN:VEVENT
UID:YPzRsIHs-7
DTSTAMP:20260423T211845Z
SUMMARY:Fit 60+
DESCRIPTION:Fachbereich: Fit 60+\nKurs-Nr.: 26.50007-21\n\nDetails: https:/
 /www.reha-rheinfelden.ch/fit-und-gesund/YPzRsIHs
URL:https://www.reha-rheinfelden.ch/fit-und-gesund/YPzRsIHs
DTSTART;TZID=Europe/Zurich:20261019T104500
DTEND;TZID=Europe/Zurich:20261019T114000
LOCATION:Turnhalle\, Bereich 11
END:VEVENT
BEGIN:VEVENT
UID:YPzRsIHs-8
DTSTAMP:20260423T211845Z
SUMMARY:Fit 60+
DESCRIPTION:Fachbereich: Fit 60+\nKurs-Nr.: 26.50007-21\n\nDetails: https:/
 /www.reha-rheinfelden.ch/fit-und-gesund/YPzRsIHs
URL:https://www.reha-rheinfelden.ch/fit-und-gesund/YPzRsIHs
DTSTART;TZID=Europe/Zurich:20261102T104500
DTEND;TZID=Europe/Zurich:20261102T114000
LOCATION:Turnhalle\, Bereich 11
END:VEVENT
BEGIN:VEVENT
UID:YPzRsIHs-9
DTSTAMP:20260423T211845Z
SUMMARY:Fit 60+
DESCRIPTION:Fachbereich: Fit 60+\nKurs-Nr.: 26.50007-21\n\nDetails: https:/
 /www.reha-rheinfelden.ch/fit-und-gesund/YPzRsIHs
URL:https://www.reha-rheinfelden.ch/fit-und-gesund/YPzRsIHs
DTSTART;TZID=Europe/Zurich:20261109T104500
DTEND;TZID=Europe/Zurich:20261109T114000
LOCATION:Turnhalle\, Bereich 11
END:VEVENT
BEGIN:VEVENT
UID:YPzRsIHs-10
DTSTAMP:20260423T211845Z
SUMMARY:Fit 60+
DESCRIPTION:Fachbereich: Fit 60+\nKurs-Nr.: 26.50007-21\n\nDetails: https:/
 /www.reha-rheinfelden.ch/fit-und-gesund/YPzRsIHs
URL:https://www.reha-rheinfelden.ch/fit-und-gesund/YPzRsIHs
DTSTART;TZID=Europe/Zurich:20261116T104500
DTEND;TZID=Europe/Zurich:20261116T114000
LOCATION:Turnhalle\, Bereich 11
END:VEVENT
BEGIN:VEVENT
UID:YPzRsIHs-11
DTSTAMP:20260423T211845Z
SUMMARY:Fit 60+
DESCRIPTION:Fachbereich: Fit 60+\nKurs-Nr.: 26.50007-21\n\nDetails: https:/
 /www.reha-rheinfelden.ch/fit-und-gesund/YPzRsIHs
URL:https://www.reha-rheinfelden.ch/fit-und-gesund/YPzRsIHs
DTSTART;TZID=Europe/Zurich:20261123T104500
DTEND;TZID=Europe/Zurich:20261123T114000
LOCATION:Turnhalle\, Bereich 11
END:VEVENT
BEGIN:VEVENT
UID:YPzRsIHs-12
DTSTAMP:20260423T211845Z
SUMMARY:Fit 60+
DESCRIPTION:Fachbereich: Fit 60+\nKurs-Nr.: 26.50007-21\n\nDetails: https:/
 /www.reha-rheinfelden.ch/fit-und-gesund/YPzRsIHs
URL:https://www.reha-rheinfelden.ch/fit-und-gesund/YPzRsIHs
DTSTART;TZID=Europe/Zurich:20261130T104500
DTEND;TZID=Europe/Zurich:20261130T114000
LOCATION:Turnhalle\, Bereich 11
END:VEVENT
BEGIN:VEVENT
UID:YPzRsIHs-13
DTSTAMP:20260423T211845Z
SUMMARY:Fit 60+
DESCRIPTION:Fachbereich: Fit 60+\nKurs-Nr.: 26.50007-21\n\nDetails: https:/
 /www.reha-rheinfelden.ch/fit-und-gesund/YPzRsIHs
URL:https://www.reha-rheinfelden.ch/fit-und-gesund/YPzRsIHs
DTSTART;TZID=Europe/Zurich:20261207T104500
DTEND;TZID=Europe/Zurich:20261207T114000
LOCATION:Turnhalle\, Bereich 11
END:VEVENT
BEGIN:VEVENT
UID:YPzRsIHs-14
DTSTAMP:20260423T211845Z
SUMMARY:Fit 60+
DESCRIPTION:Fachbereich: Fit 60+\nKurs-Nr.: 26.50007-21\n\nDetails: https:/
 /www.reha-rheinfelden.ch/fit-und-gesund/YPzRsIHs
URL:https://www.reha-rheinfelden.ch/fit-und-gesund/YPzRsIHs
DTSTART;TZID=Europe/Zurich:20261214T104500
DTEND;TZID=Europe/Zurich:20261214T114000
LOCATION:Turnhalle\, Bereich 11
END:VEVENT
END:VCALENDAR
