BEGIN:VCALENDAR
PRODID:-//Reha Rheinfelden//Kurse//DE
VERSION:2.0
CALSCALE:GREGORIAN
BEGIN:VEVENT
UID:WZF8SrWC-0
DTSTAMP:20260423T205924Z
SUMMARY:Sicher stehen - sicher gehen
DESCRIPTION:Fachbereich: Sicher stehen - sicher gehen\nKurs-Nr.: 26.50007-2
 7\n\nDetails: https://www.reha-rheinfelden.ch/fit-und-gesund/WZF8SrWC
URL:https://www.reha-rheinfelden.ch/fit-und-gesund/WZF8SrWC
DTSTART;TZID=Europe/Zurich:20260901T103000
DTEND;TZID=Europe/Zurich:20260901T112500
LOCATION:Turnhalle\, Bereich 11
END:VEVENT
BEGIN:VEVENT
UID:WZF8SrWC-1
DTSTAMP:20260423T205924Z
SUMMARY:Sicher stehen - sicher gehen
DESCRIPTION:Fachbereich: Sicher stehen - sicher gehen\nKurs-Nr.: 26.50007-2
 7\n\nDetails: https://www.reha-rheinfelden.ch/fit-und-gesund/WZF8SrWC
URL:https://www.reha-rheinfelden.ch/fit-und-gesund/WZF8SrWC
DTSTART;TZID=Europe/Zurich:20260908T103000
DTEND;TZID=Europe/Zurich:20260908T112500
LOCATION:Turnhalle\, Bereich 11
END:VEVENT
BEGIN:VEVENT
UID:WZF8SrWC-2
DTSTAMP:20260423T205924Z
SUMMARY:Sicher stehen - sicher gehen
DESCRIPTION:Fachbereich: Sicher stehen - sicher gehen\nKurs-Nr.: 26.50007-2
 7\n\nDetails: https://www.reha-rheinfelden.ch/fit-und-gesund/WZF8SrWC
URL:https://www.reha-rheinfelden.ch/fit-und-gesund/WZF8SrWC
DTSTART;TZID=Europe/Zurich:20260915T103000
DTEND;TZID=Europe/Zurich:20260915T112500
LOCATION:Turnhalle\, Bereich 11
END:VEVENT
BEGIN:VEVENT
UID:WZF8SrWC-3
DTSTAMP:20260423T205924Z
SUMMARY:Sicher stehen - sicher gehen
DESCRIPTION:Fachbereich: Sicher stehen - sicher gehen\nKurs-Nr.: 26.50007-2
 7\n\nDetails: https://www.reha-rheinfelden.ch/fit-und-gesund/WZF8SrWC
URL:https://www.reha-rheinfelden.ch/fit-und-gesund/WZF8SrWC
DTSTART;TZID=Europe/Zurich:20260922T103000
DTEND;TZID=Europe/Zurich:20260922T112500
LOCATION:Turnhalle\, Bereich 11
END:VEVENT
BEGIN:VEVENT
UID:WZF8SrWC-4
DTSTAMP:20260423T205924Z
SUMMARY:Sicher stehen - sicher gehen
DESCRIPTION:Fachbereich: Sicher stehen - sicher gehen\nKurs-Nr.: 26.50007-2
 7\n\nDetails: https://www.reha-rheinfelden.ch/fit-und-gesund/WZF8SrWC
URL:https://www.reha-rheinfelden.ch/fit-und-gesund/WZF8SrWC
DTSTART;TZID=Europe/Zurich:20260929T103000
DTEND;TZID=Europe/Zurich:20260929T112500
LOCATION:Turnhalle\, Bereich 11
END:VEVENT
BEGIN:VEVENT
UID:WZF8SrWC-5
DTSTAMP:20260423T205924Z
SUMMARY:Sicher stehen - sicher gehen
DESCRIPTION:Fachbereich: Sicher stehen - sicher gehen\nKurs-Nr.: 26.50007-2
 7\n\nDetails: https://www.reha-rheinfelden.ch/fit-und-gesund/WZF8SrWC
URL:https://www.reha-rheinfelden.ch/fit-und-gesund/WZF8SrWC
DTSTART;TZID=Europe/Zurich:20261006T103000
DTEND;TZID=Europe/Zurich:20261006T112500
LOCATION:Turnhalle\, Bereich 11
END:VEVENT
BEGIN:VEVENT
UID:WZF8SrWC-6
DTSTAMP:20260423T205924Z
SUMMARY:Sicher stehen - sicher gehen
DESCRIPTION:Fachbereich: Sicher stehen - sicher gehen\nKurs-Nr.: 26.50007-2
 7\n\nDetails: https://www.reha-rheinfelden.ch/fit-und-gesund/WZF8SrWC
URL:https://www.reha-rheinfelden.ch/fit-und-gesund/WZF8SrWC
DTSTART;TZID=Europe/Zurich:20261013T103000
DTEND;TZID=Europe/Zurich:20261013T112500
LOCATION:Turnhalle\, Bereich 11
END:VEVENT
BEGIN:VEVENT
UID:WZF8SrWC-7
DTSTAMP:20260423T205924Z
SUMMARY:Sicher stehen - sicher gehen
DESCRIPTION:Fachbereich: Sicher stehen - sicher gehen\nKurs-Nr.: 26.50007-2
 7\n\nDetails: https://www.reha-rheinfelden.ch/fit-und-gesund/WZF8SrWC
URL:https://www.reha-rheinfelden.ch/fit-und-gesund/WZF8SrWC
DTSTART;TZID=Europe/Zurich:20261020T103000
DTEND;TZID=Europe/Zurich:20261020T112500
LOCATION:Turnhalle\, Bereich 11
END:VEVENT
BEGIN:VEVENT
UID:WZF8SrWC-8
DTSTAMP:20260423T205924Z
SUMMARY:Sicher stehen - sicher gehen
DESCRIPTION:Fachbereich: Sicher stehen - sicher gehen\nKurs-Nr.: 26.50007-2
 7\n\nDetails: https://www.reha-rheinfelden.ch/fit-und-gesund/WZF8SrWC
URL:https://www.reha-rheinfelden.ch/fit-und-gesund/WZF8SrWC
DTSTART;TZID=Europe/Zurich:20261027T103000
DTEND;TZID=Europe/Zurich:20261027T112500
LOCATION:Turnhalle\, Bereich 11
END:VEVENT
BEGIN:VEVENT
UID:WZF8SrWC-9
DTSTAMP:20260423T205924Z
SUMMARY:Sicher stehen - sicher gehen
DESCRIPTION:Fachbereich: Sicher stehen - sicher gehen\nKurs-Nr.: 26.50007-2
 7\n\nDetails: https://www.reha-rheinfelden.ch/fit-und-gesund/WZF8SrWC
URL:https://www.reha-rheinfelden.ch/fit-und-gesund/WZF8SrWC
DTSTART;TZID=Europe/Zurich:20261103T103000
DTEND;TZID=Europe/Zurich:20261103T112500
LOCATION:Turnhalle\, Bereich 11
END:VEVENT
BEGIN:VEVENT
UID:WZF8SrWC-10
DTSTAMP:20260423T205924Z
SUMMARY:Sicher stehen - sicher gehen
DESCRIPTION:Fachbereich: Sicher stehen - sicher gehen\nKurs-Nr.: 26.50007-2
 7\n\nDetails: https://www.reha-rheinfelden.ch/fit-und-gesund/WZF8SrWC
URL:https://www.reha-rheinfelden.ch/fit-und-gesund/WZF8SrWC
DTSTART;TZID=Europe/Zurich:20261110T103000
DTEND;TZID=Europe/Zurich:20261110T112500
LOCATION:Turnhalle\, Bereich 11
END:VEVENT
BEGIN:VEVENT
UID:WZF8SrWC-11
DTSTAMP:20260423T205924Z
SUMMARY:Sicher stehen - sicher gehen
DESCRIPTION:Fachbereich: Sicher stehen - sicher gehen\nKurs-Nr.: 26.50007-2
 7\n\nDetails: https://www.reha-rheinfelden.ch/fit-und-gesund/WZF8SrWC
URL:https://www.reha-rheinfelden.ch/fit-und-gesund/WZF8SrWC
DTSTART;TZID=Europe/Zurich:20261117T103000
DTEND;TZID=Europe/Zurich:20261117T112500
LOCATION:Turnhalle\, Bereich 11
END:VEVENT
BEGIN:VEVENT
UID:WZF8SrWC-12
DTSTAMP:20260423T205924Z
SUMMARY:Sicher stehen - sicher gehen
DESCRIPTION:Fachbereich: Sicher stehen - sicher gehen\nKurs-Nr.: 26.50007-2
 7\n\nDetails: https://www.reha-rheinfelden.ch/fit-und-gesund/WZF8SrWC
URL:https://www.reha-rheinfelden.ch/fit-und-gesund/WZF8SrWC
DTSTART;TZID=Europe/Zurich:20261124T103000
DTEND;TZID=Europe/Zurich:20261124T112500
LOCATION:Turnhalle\, Bereich 11
END:VEVENT
BEGIN:VEVENT
UID:WZF8SrWC-13
DTSTAMP:20260423T205924Z
SUMMARY:Sicher stehen - sicher gehen
DESCRIPTION:Fachbereich: Sicher stehen - sicher gehen\nKurs-Nr.: 26.50007-2
 7\n\nDetails: https://www.reha-rheinfelden.ch/fit-und-gesund/WZF8SrWC
URL:https://www.reha-rheinfelden.ch/fit-und-gesund/WZF8SrWC
DTSTART;TZID=Europe/Zurich:20261201T103000
DTEND;TZID=Europe/Zurich:20261201T112500
LOCATION:Turnhalle\, Bereich 11
END:VEVENT
BEGIN:VEVENT
UID:WZF8SrWC-14
DTSTAMP:20260423T205924Z
SUMMARY:Sicher stehen - sicher gehen
DESCRIPTION:Fachbereich: Sicher stehen - sicher gehen\nKurs-Nr.: 26.50007-2
 7\n\nDetails: https://www.reha-rheinfelden.ch/fit-und-gesund/WZF8SrWC
URL:https://www.reha-rheinfelden.ch/fit-und-gesund/WZF8SrWC
DTSTART;TZID=Europe/Zurich:20261208T103000
DTEND;TZID=Europe/Zurich:20261208T112500
LOCATION:Turnhalle\, Bereich 11
END:VEVENT
BEGIN:VEVENT
UID:WZF8SrWC-15
DTSTAMP:20260423T205924Z
SUMMARY:Sicher stehen - sicher gehen
DESCRIPTION:Fachbereich: Sicher stehen - sicher gehen\nKurs-Nr.: 26.50007-2
 7\n\nDetails: https://www.reha-rheinfelden.ch/fit-und-gesund/WZF8SrWC
URL:https://www.reha-rheinfelden.ch/fit-und-gesund/WZF8SrWC
DTSTART;TZID=Europe/Zurich:20261215T103000
DTEND;TZID=Europe/Zurich:20261215T112500
LOCATION:Turnhalle\, Bereich 11
END:VEVENT
END:VCALENDAR
