BEGIN:VCALENDAR
PRODID:-//Reha Rheinfelden//Kurse//DE
VERSION:2.0
CALSCALE:GREGORIAN
BEGIN:VEVENT
UID:UboFnRML-0
DTSTAMP:20260424T101524Z
SUMMARY:Aquafit
DESCRIPTION:Fachbereich: Aquafit\nKurs-Nr.: 26.50001-38\n\nDetails: https:/
 /www.reha-rheinfelden.ch/fit-und-gesund/UboFnRML
URL:https://www.reha-rheinfelden.ch/fit-und-gesund/UboFnRML
DTSTART;TZID=Europe/Zurich:20260415T114500
DTEND;TZID=Europe/Zurich:20260415T124000
LOCATION:Therapiebad grosses Becken\, Bereich 11
END:VEVENT
BEGIN:VEVENT
UID:UboFnRML-1
DTSTAMP:20260424T101524Z
SUMMARY:Aquafit
DESCRIPTION:Fachbereich: Aquafit\nKurs-Nr.: 26.50001-38\n\nDetails: https:/
 /www.reha-rheinfelden.ch/fit-und-gesund/UboFnRML
URL:https://www.reha-rheinfelden.ch/fit-und-gesund/UboFnRML
DTSTART;TZID=Europe/Zurich:20260422T114500
DTEND;TZID=Europe/Zurich:20260422T124000
LOCATION:Therapiebad grosses Becken\, Bereich 11
END:VEVENT
BEGIN:VEVENT
UID:UboFnRML-2
DTSTAMP:20260424T101524Z
SUMMARY:Aquafit
DESCRIPTION:Fachbereich: Aquafit\nKurs-Nr.: 26.50001-38\n\nDetails: https:/
 /www.reha-rheinfelden.ch/fit-und-gesund/UboFnRML
URL:https://www.reha-rheinfelden.ch/fit-und-gesund/UboFnRML
DTSTART;TZID=Europe/Zurich:20260429T114500
DTEND;TZID=Europe/Zurich:20260429T124000
LOCATION:Therapiebad grosses Becken\, Bereich 11
END:VEVENT
BEGIN:VEVENT
UID:UboFnRML-3
DTSTAMP:20260424T101524Z
SUMMARY:Aquafit
DESCRIPTION:Fachbereich: Aquafit\nKurs-Nr.: 26.50001-38\n\nDetails: https:/
 /www.reha-rheinfelden.ch/fit-und-gesund/UboFnRML
URL:https://www.reha-rheinfelden.ch/fit-und-gesund/UboFnRML
DTSTART;TZID=Europe/Zurich:20260506T114500
DTEND;TZID=Europe/Zurich:20260506T124000
LOCATION:Therapiebad grosses Becken\, Bereich 11
END:VEVENT
BEGIN:VEVENT
UID:UboFnRML-4
DTSTAMP:20260424T101524Z
SUMMARY:Aquafit
DESCRIPTION:Fachbereich: Aquafit\nKurs-Nr.: 26.50001-38\n\nDetails: https:/
 /www.reha-rheinfelden.ch/fit-und-gesund/UboFnRML
URL:https://www.reha-rheinfelden.ch/fit-und-gesund/UboFnRML
DTSTART;TZID=Europe/Zurich:20260513T114500
DTEND;TZID=Europe/Zurich:20260513T124000
LOCATION:Therapiebad grosses Becken\, Bereich 11
END:VEVENT
BEGIN:VEVENT
UID:UboFnRML-5
DTSTAMP:20260424T101524Z
SUMMARY:Aquafit
DESCRIPTION:Fachbereich: Aquafit\nKurs-Nr.: 26.50001-38\n\nDetails: https:/
 /www.reha-rheinfelden.ch/fit-und-gesund/UboFnRML
URL:https://www.reha-rheinfelden.ch/fit-und-gesund/UboFnRML
DTSTART;TZID=Europe/Zurich:20260520T114500
DTEND;TZID=Europe/Zurich:20260520T124000
LOCATION:Therapiebad grosses Becken\, Bereich 11
END:VEVENT
BEGIN:VEVENT
UID:UboFnRML-6
DTSTAMP:20260424T101524Z
SUMMARY:Aquafit
DESCRIPTION:Fachbereich: Aquafit\nKurs-Nr.: 26.50001-38\n\nDetails: https:/
 /www.reha-rheinfelden.ch/fit-und-gesund/UboFnRML
URL:https://www.reha-rheinfelden.ch/fit-und-gesund/UboFnRML
DTSTART;TZID=Europe/Zurich:20260527T114500
DTEND;TZID=Europe/Zurich:20260527T124000
LOCATION:Therapiebad grosses Becken\, Bereich 11
END:VEVENT
BEGIN:VEVENT
UID:UboFnRML-7
DTSTAMP:20260424T101524Z
SUMMARY:Aquafit
DESCRIPTION:Fachbereich: Aquafit\nKurs-Nr.: 26.50001-38\n\nDetails: https:/
 /www.reha-rheinfelden.ch/fit-und-gesund/UboFnRML
URL:https://www.reha-rheinfelden.ch/fit-und-gesund/UboFnRML
DTSTART;TZID=Europe/Zurich:20260603T114500
DTEND;TZID=Europe/Zurich:20260603T124000
LOCATION:Therapiebad grosses Becken\, Bereich 11
END:VEVENT
BEGIN:VEVENT
UID:UboFnRML-8
DTSTAMP:20260424T101524Z
SUMMARY:Aquafit
DESCRIPTION:Fachbereich: Aquafit\nKurs-Nr.: 26.50001-38\n\nDetails: https:/
 /www.reha-rheinfelden.ch/fit-und-gesund/UboFnRML
URL:https://www.reha-rheinfelden.ch/fit-und-gesund/UboFnRML
DTSTART;TZID=Europe/Zurich:20260610T114500
DTEND;TZID=Europe/Zurich:20260610T124000
LOCATION:Therapiebad grosses Becken\, Bereich 11
END:VEVENT
BEGIN:VEVENT
UID:UboFnRML-9
DTSTAMP:20260424T101524Z
SUMMARY:Aquafit
DESCRIPTION:Fachbereich: Aquafit\nKurs-Nr.: 26.50001-38\n\nDetails: https:/
 /www.reha-rheinfelden.ch/fit-und-gesund/UboFnRML
URL:https://www.reha-rheinfelden.ch/fit-und-gesund/UboFnRML
DTSTART;TZID=Europe/Zurich:20260617T114500
DTEND;TZID=Europe/Zurich:20260617T124000
LOCATION:Therapiebad grosses Becken\, Bereich 11
END:VEVENT
BEGIN:VEVENT
UID:UboFnRML-10
DTSTAMP:20260424T101524Z
SUMMARY:Aquafit
DESCRIPTION:Fachbereich: Aquafit\nKurs-Nr.: 26.50001-38\n\nDetails: https:/
 /www.reha-rheinfelden.ch/fit-und-gesund/UboFnRML
URL:https://www.reha-rheinfelden.ch/fit-und-gesund/UboFnRML
DTSTART;TZID=Europe/Zurich:20260624T114500
DTEND;TZID=Europe/Zurich:20260624T124000
LOCATION:Therapiebad grosses Becken\, Bereich 11
END:VEVENT
BEGIN:VEVENT
UID:UboFnRML-11
DTSTAMP:20260424T101524Z
SUMMARY:Aquafit
DESCRIPTION:Fachbereich: Aquafit\nKurs-Nr.: 26.50001-38\n\nDetails: https:/
 /www.reha-rheinfelden.ch/fit-und-gesund/UboFnRML
URL:https://www.reha-rheinfelden.ch/fit-und-gesund/UboFnRML
DTSTART;TZID=Europe/Zurich:20260701T114500
DTEND;TZID=Europe/Zurich:20260701T124000
LOCATION:Therapiebad grosses Becken\, Bereich 11
END:VEVENT
END:VCALENDAR
