BEGIN:VCALENDAR
PRODID:-//Reha Rheinfelden//Kurse//DE
VERSION:2.0
CALSCALE:GREGORIAN
BEGIN:VEVENT
UID:UDzNJw8s-0
DTSTAMP:20260422T103746Z
SUMMARY:Aqua-Cycling
DESCRIPTION:Fachbereich: Aqua-Cycling\nKurs-Nr.: 26.50002-16\n\nDetails: ht
 tps://www.reha-rheinfelden.ch/fit-und-gesund/UDzNJw8s
URL:https://www.reha-rheinfelden.ch/fit-und-gesund/UDzNJw8s
DTSTART;TZID=Europe/Zurich:20260415T090000
DTEND;TZID=Europe/Zurich:20260415T095500
LOCATION:Therapiebad kleines Becken\, Bereich 11
END:VEVENT
BEGIN:VEVENT
UID:UDzNJw8s-1
DTSTAMP:20260422T103746Z
SUMMARY:Aqua-Cycling
DESCRIPTION:Fachbereich: Aqua-Cycling\nKurs-Nr.: 26.50002-16\n\nDetails: ht
 tps://www.reha-rheinfelden.ch/fit-und-gesund/UDzNJw8s
URL:https://www.reha-rheinfelden.ch/fit-und-gesund/UDzNJw8s
DTSTART;TZID=Europe/Zurich:20260422T090000
DTEND;TZID=Europe/Zurich:20260422T095500
LOCATION:Therapiebad kleines Becken\, Bereich 11
END:VEVENT
BEGIN:VEVENT
UID:UDzNJw8s-2
DTSTAMP:20260422T103746Z
SUMMARY:Aqua-Cycling
DESCRIPTION:Fachbereich: Aqua-Cycling\nKurs-Nr.: 26.50002-16\n\nDetails: ht
 tps://www.reha-rheinfelden.ch/fit-und-gesund/UDzNJw8s
URL:https://www.reha-rheinfelden.ch/fit-und-gesund/UDzNJw8s
DTSTART;TZID=Europe/Zurich:20260429T090000
DTEND;TZID=Europe/Zurich:20260429T095500
LOCATION:Therapiebad kleines Becken\, Bereich 11
END:VEVENT
BEGIN:VEVENT
UID:UDzNJw8s-3
DTSTAMP:20260422T103746Z
SUMMARY:Aqua-Cycling
DESCRIPTION:Fachbereich: Aqua-Cycling\nKurs-Nr.: 26.50002-16\n\nDetails: ht
 tps://www.reha-rheinfelden.ch/fit-und-gesund/UDzNJw8s
URL:https://www.reha-rheinfelden.ch/fit-und-gesund/UDzNJw8s
DTSTART;TZID=Europe/Zurich:20260506T090000
DTEND;TZID=Europe/Zurich:20260506T095500
LOCATION:Therapiebad kleines Becken\, Bereich 11
END:VEVENT
BEGIN:VEVENT
UID:UDzNJw8s-4
DTSTAMP:20260422T103746Z
SUMMARY:Aqua-Cycling
DESCRIPTION:Fachbereich: Aqua-Cycling\nKurs-Nr.: 26.50002-16\n\nDetails: ht
 tps://www.reha-rheinfelden.ch/fit-und-gesund/UDzNJw8s
URL:https://www.reha-rheinfelden.ch/fit-und-gesund/UDzNJw8s
DTSTART;TZID=Europe/Zurich:20260513T090000
DTEND;TZID=Europe/Zurich:20260513T095500
LOCATION:Therapiebad kleines Becken\, Bereich 11
END:VEVENT
BEGIN:VEVENT
UID:UDzNJw8s-5
DTSTAMP:20260422T103746Z
SUMMARY:Aqua-Cycling
DESCRIPTION:Fachbereich: Aqua-Cycling\nKurs-Nr.: 26.50002-16\n\nDetails: ht
 tps://www.reha-rheinfelden.ch/fit-und-gesund/UDzNJw8s
URL:https://www.reha-rheinfelden.ch/fit-und-gesund/UDzNJw8s
DTSTART;TZID=Europe/Zurich:20260520T090000
DTEND;TZID=Europe/Zurich:20260520T095500
LOCATION:Therapiebad kleines Becken\, Bereich 11
END:VEVENT
BEGIN:VEVENT
UID:UDzNJw8s-6
DTSTAMP:20260422T103746Z
SUMMARY:Aqua-Cycling
DESCRIPTION:Fachbereich: Aqua-Cycling\nKurs-Nr.: 26.50002-16\n\nDetails: ht
 tps://www.reha-rheinfelden.ch/fit-und-gesund/UDzNJw8s
URL:https://www.reha-rheinfelden.ch/fit-und-gesund/UDzNJw8s
DTSTART;TZID=Europe/Zurich:20260527T090000
DTEND;TZID=Europe/Zurich:20260527T095500
LOCATION:Therapiebad kleines Becken\, Bereich 11
END:VEVENT
BEGIN:VEVENT
UID:UDzNJw8s-7
DTSTAMP:20260422T103746Z
SUMMARY:Aqua-Cycling
DESCRIPTION:Fachbereich: Aqua-Cycling\nKurs-Nr.: 26.50002-16\n\nDetails: ht
 tps://www.reha-rheinfelden.ch/fit-und-gesund/UDzNJw8s
URL:https://www.reha-rheinfelden.ch/fit-und-gesund/UDzNJw8s
DTSTART;TZID=Europe/Zurich:20260603T090000
DTEND;TZID=Europe/Zurich:20260603T095500
LOCATION:Therapiebad kleines Becken\, Bereich 11
END:VEVENT
BEGIN:VEVENT
UID:UDzNJw8s-8
DTSTAMP:20260422T103746Z
SUMMARY:Aqua-Cycling
DESCRIPTION:Fachbereich: Aqua-Cycling\nKurs-Nr.: 26.50002-16\n\nDetails: ht
 tps://www.reha-rheinfelden.ch/fit-und-gesund/UDzNJw8s
URL:https://www.reha-rheinfelden.ch/fit-und-gesund/UDzNJw8s
DTSTART;TZID=Europe/Zurich:20260610T090000
DTEND;TZID=Europe/Zurich:20260610T095500
LOCATION:Therapiebad kleines Becken\, Bereich 11
END:VEVENT
BEGIN:VEVENT
UID:UDzNJw8s-9
DTSTAMP:20260422T103746Z
SUMMARY:Aqua-Cycling
DESCRIPTION:Fachbereich: Aqua-Cycling\nKurs-Nr.: 26.50002-16\n\nDetails: ht
 tps://www.reha-rheinfelden.ch/fit-und-gesund/UDzNJw8s
URL:https://www.reha-rheinfelden.ch/fit-und-gesund/UDzNJw8s
DTSTART;TZID=Europe/Zurich:20260617T090000
DTEND;TZID=Europe/Zurich:20260617T095500
LOCATION:Therapiebad kleines Becken\, Bereich 11
END:VEVENT
BEGIN:VEVENT
UID:UDzNJw8s-10
DTSTAMP:20260422T103746Z
SUMMARY:Aqua-Cycling
DESCRIPTION:Fachbereich: Aqua-Cycling\nKurs-Nr.: 26.50002-16\n\nDetails: ht
 tps://www.reha-rheinfelden.ch/fit-und-gesund/UDzNJw8s
URL:https://www.reha-rheinfelden.ch/fit-und-gesund/UDzNJw8s
DTSTART;TZID=Europe/Zurich:20260624T090000
DTEND;TZID=Europe/Zurich:20260624T095500
LOCATION:Therapiebad kleines Becken\, Bereich 11
END:VEVENT
BEGIN:VEVENT
UID:UDzNJw8s-11
DTSTAMP:20260422T103746Z
SUMMARY:Aqua-Cycling
DESCRIPTION:Fachbereich: Aqua-Cycling\nKurs-Nr.: 26.50002-16\n\nDetails: ht
 tps://www.reha-rheinfelden.ch/fit-und-gesund/UDzNJw8s
URL:https://www.reha-rheinfelden.ch/fit-und-gesund/UDzNJw8s
DTSTART;TZID=Europe/Zurich:20260701T090000
DTEND;TZID=Europe/Zurich:20260701T095500
LOCATION:Therapiebad kleines Becken\, Bereich 11
END:VEVENT
END:VCALENDAR
