BEGIN:VCALENDAR
PRODID:-//Reha Rheinfelden//Kurse//DE
VERSION:2.0
CALSCALE:GREGORIAN
BEGIN:VEVENT
UID:SAEqRR1u-0
DTSTAMP:20260423T205751Z
SUMMARY:Fit 60+
DESCRIPTION:Fachbereich: Fit 60+\nKurs-Nr.: 26.50007-24\n\nDetails: https:/
 /www.reha-rheinfelden.ch/fit-und-gesund/SAEqRR1u
URL:https://www.reha-rheinfelden.ch/fit-und-gesund/SAEqRR1u
DTSTART;TZID=Europe/Zurich:20260902T101500
DTEND;TZID=Europe/Zurich:20260902T111000
LOCATION:Turnhalle\, Bereich 11
END:VEVENT
BEGIN:VEVENT
UID:SAEqRR1u-1
DTSTAMP:20260423T205751Z
SUMMARY:Fit 60+
DESCRIPTION:Fachbereich: Fit 60+\nKurs-Nr.: 26.50007-24\n\nDetails: https:/
 /www.reha-rheinfelden.ch/fit-und-gesund/SAEqRR1u
URL:https://www.reha-rheinfelden.ch/fit-und-gesund/SAEqRR1u
DTSTART;TZID=Europe/Zurich:20260909T101500
DTEND;TZID=Europe/Zurich:20260909T111000
LOCATION:Turnhalle\, Bereich 11
END:VEVENT
BEGIN:VEVENT
UID:SAEqRR1u-2
DTSTAMP:20260423T205751Z
SUMMARY:Fit 60+
DESCRIPTION:Fachbereich: Fit 60+\nKurs-Nr.: 26.50007-24\n\nDetails: https:/
 /www.reha-rheinfelden.ch/fit-und-gesund/SAEqRR1u
URL:https://www.reha-rheinfelden.ch/fit-und-gesund/SAEqRR1u
DTSTART;TZID=Europe/Zurich:20260916T101500
DTEND;TZID=Europe/Zurich:20260916T111000
LOCATION:Turnhalle\, Bereich 11
END:VEVENT
BEGIN:VEVENT
UID:SAEqRR1u-3
DTSTAMP:20260423T205751Z
SUMMARY:Fit 60+
DESCRIPTION:Fachbereich: Fit 60+\nKurs-Nr.: 26.50007-24\n\nDetails: https:/
 /www.reha-rheinfelden.ch/fit-und-gesund/SAEqRR1u
URL:https://www.reha-rheinfelden.ch/fit-und-gesund/SAEqRR1u
DTSTART;TZID=Europe/Zurich:20260923T101500
DTEND;TZID=Europe/Zurich:20260923T111000
LOCATION:Turnhalle\, Bereich 11
END:VEVENT
BEGIN:VEVENT
UID:SAEqRR1u-4
DTSTAMP:20260423T205751Z
SUMMARY:Fit 60+
DESCRIPTION:Fachbereich: Fit 60+\nKurs-Nr.: 26.50007-24\n\nDetails: https:/
 /www.reha-rheinfelden.ch/fit-und-gesund/SAEqRR1u
URL:https://www.reha-rheinfelden.ch/fit-und-gesund/SAEqRR1u
DTSTART;TZID=Europe/Zurich:20260930T101500
DTEND;TZID=Europe/Zurich:20260930T111000
LOCATION:Turnhalle\, Bereich 11
END:VEVENT
BEGIN:VEVENT
UID:SAEqRR1u-5
DTSTAMP:20260423T205751Z
SUMMARY:Fit 60+
DESCRIPTION:Fachbereich: Fit 60+\nKurs-Nr.: 26.50007-24\n\nDetails: https:/
 /www.reha-rheinfelden.ch/fit-und-gesund/SAEqRR1u
URL:https://www.reha-rheinfelden.ch/fit-und-gesund/SAEqRR1u
DTSTART;TZID=Europe/Zurich:20261007T101500
DTEND;TZID=Europe/Zurich:20261007T111000
LOCATION:Turnhalle\, Bereich 11
END:VEVENT
BEGIN:VEVENT
UID:SAEqRR1u-6
DTSTAMP:20260423T205751Z
SUMMARY:Fit 60+
DESCRIPTION:Fachbereich: Fit 60+\nKurs-Nr.: 26.50007-24\n\nDetails: https:/
 /www.reha-rheinfelden.ch/fit-und-gesund/SAEqRR1u
URL:https://www.reha-rheinfelden.ch/fit-und-gesund/SAEqRR1u
DTSTART;TZID=Europe/Zurich:20261014T101500
DTEND;TZID=Europe/Zurich:20261014T111000
LOCATION:Turnhalle\, Bereich 11
END:VEVENT
BEGIN:VEVENT
UID:SAEqRR1u-7
DTSTAMP:20260423T205751Z
SUMMARY:Fit 60+
DESCRIPTION:Fachbereich: Fit 60+\nKurs-Nr.: 26.50007-24\n\nDetails: https:/
 /www.reha-rheinfelden.ch/fit-und-gesund/SAEqRR1u
URL:https://www.reha-rheinfelden.ch/fit-und-gesund/SAEqRR1u
DTSTART;TZID=Europe/Zurich:20261021T101500
DTEND;TZID=Europe/Zurich:20261021T111000
LOCATION:Turnhalle\, Bereich 11
END:VEVENT
BEGIN:VEVENT
UID:SAEqRR1u-8
DTSTAMP:20260423T205751Z
SUMMARY:Fit 60+
DESCRIPTION:Fachbereich: Fit 60+\nKurs-Nr.: 26.50007-24\n\nDetails: https:/
 /www.reha-rheinfelden.ch/fit-und-gesund/SAEqRR1u
URL:https://www.reha-rheinfelden.ch/fit-und-gesund/SAEqRR1u
DTSTART;TZID=Europe/Zurich:20261104T101500
DTEND;TZID=Europe/Zurich:20261104T111000
LOCATION:Turnhalle\, Bereich 11
END:VEVENT
BEGIN:VEVENT
UID:SAEqRR1u-9
DTSTAMP:20260423T205751Z
SUMMARY:Fit 60+
DESCRIPTION:Fachbereich: Fit 60+\nKurs-Nr.: 26.50007-24\n\nDetails: https:/
 /www.reha-rheinfelden.ch/fit-und-gesund/SAEqRR1u
URL:https://www.reha-rheinfelden.ch/fit-und-gesund/SAEqRR1u
DTSTART;TZID=Europe/Zurich:20261111T101500
DTEND;TZID=Europe/Zurich:20261111T111000
LOCATION:Turnhalle\, Bereich 11
END:VEVENT
BEGIN:VEVENT
UID:SAEqRR1u-10
DTSTAMP:20260423T205751Z
SUMMARY:Fit 60+
DESCRIPTION:Fachbereich: Fit 60+\nKurs-Nr.: 26.50007-24\n\nDetails: https:/
 /www.reha-rheinfelden.ch/fit-und-gesund/SAEqRR1u
URL:https://www.reha-rheinfelden.ch/fit-und-gesund/SAEqRR1u
DTSTART;TZID=Europe/Zurich:20261118T101500
DTEND;TZID=Europe/Zurich:20261118T111000
LOCATION:Turnhalle\, Bereich 11
END:VEVENT
BEGIN:VEVENT
UID:SAEqRR1u-11
DTSTAMP:20260423T205751Z
SUMMARY:Fit 60+
DESCRIPTION:Fachbereich: Fit 60+\nKurs-Nr.: 26.50007-24\n\nDetails: https:/
 /www.reha-rheinfelden.ch/fit-und-gesund/SAEqRR1u
URL:https://www.reha-rheinfelden.ch/fit-und-gesund/SAEqRR1u
DTSTART;TZID=Europe/Zurich:20261125T101500
DTEND;TZID=Europe/Zurich:20261125T111000
LOCATION:Turnhalle\, Bereich 11
END:VEVENT
BEGIN:VEVENT
UID:SAEqRR1u-12
DTSTAMP:20260423T205751Z
SUMMARY:Fit 60+
DESCRIPTION:Fachbereich: Fit 60+\nKurs-Nr.: 26.50007-24\n\nDetails: https:/
 /www.reha-rheinfelden.ch/fit-und-gesund/SAEqRR1u
URL:https://www.reha-rheinfelden.ch/fit-und-gesund/SAEqRR1u
DTSTART;TZID=Europe/Zurich:20261202T101500
DTEND;TZID=Europe/Zurich:20261202T111000
LOCATION:Turnhalle\, Bereich 11
END:VEVENT
BEGIN:VEVENT
UID:SAEqRR1u-13
DTSTAMP:20260423T205751Z
SUMMARY:Fit 60+
DESCRIPTION:Fachbereich: Fit 60+\nKurs-Nr.: 26.50007-24\n\nDetails: https:/
 /www.reha-rheinfelden.ch/fit-und-gesund/SAEqRR1u
URL:https://www.reha-rheinfelden.ch/fit-und-gesund/SAEqRR1u
DTSTART;TZID=Europe/Zurich:20261209T101500
DTEND;TZID=Europe/Zurich:20261209T111000
LOCATION:Turnhalle\, Bereich 11
END:VEVENT
BEGIN:VEVENT
UID:SAEqRR1u-14
DTSTAMP:20260423T205751Z
SUMMARY:Fit 60+
DESCRIPTION:Fachbereich: Fit 60+\nKurs-Nr.: 26.50007-24\n\nDetails: https:/
 /www.reha-rheinfelden.ch/fit-und-gesund/SAEqRR1u
URL:https://www.reha-rheinfelden.ch/fit-und-gesund/SAEqRR1u
DTSTART;TZID=Europe/Zurich:20261216T101500
DTEND;TZID=Europe/Zurich:20261216T111000
LOCATION:Turnhalle\, Bereich 11
END:VEVENT
END:VCALENDAR
