BEGIN:VCALENDAR
PRODID:-//Reha Rheinfelden//Kurse//DE
VERSION:2.0
CALSCALE:GREGORIAN
BEGIN:VEVENT
UID:Ryj2OfGb-0
DTSTAMP:20260422T103413Z
SUMMARY:Aquafit
DESCRIPTION:Fachbereich: Aquafit\nKurs-Nr.: 26.50001-49\n\nDetails: https:/
 /www.reha-rheinfelden.ch/fit-und-gesund/Ryj2OfGb
URL:https://www.reha-rheinfelden.ch/fit-und-gesund/Ryj2OfGb
DTSTART;TZID=Europe/Zurich:20260417T170000
DTEND;TZID=Europe/Zurich:20260417T175500
LOCATION:Therapiebad grosses Becken\, Bereich 11
END:VEVENT
BEGIN:VEVENT
UID:Ryj2OfGb-1
DTSTAMP:20260422T103413Z
SUMMARY:Aquafit
DESCRIPTION:Fachbereich: Aquafit\nKurs-Nr.: 26.50001-49\n\nDetails: https:/
 /www.reha-rheinfelden.ch/fit-und-gesund/Ryj2OfGb
URL:https://www.reha-rheinfelden.ch/fit-und-gesund/Ryj2OfGb
DTSTART;TZID=Europe/Zurich:20260424T170000
DTEND;TZID=Europe/Zurich:20260424T175500
LOCATION:Therapiebad grosses Becken\, Bereich 11
END:VEVENT
BEGIN:VEVENT
UID:Ryj2OfGb-2
DTSTAMP:20260422T103413Z
SUMMARY:Aquafit
DESCRIPTION:Fachbereich: Aquafit\nKurs-Nr.: 26.50001-49\n\nDetails: https:/
 /www.reha-rheinfelden.ch/fit-und-gesund/Ryj2OfGb
URL:https://www.reha-rheinfelden.ch/fit-und-gesund/Ryj2OfGb
DTSTART;TZID=Europe/Zurich:20260501T170000
DTEND;TZID=Europe/Zurich:20260501T175500
LOCATION:Therapiebad grosses Becken\, Bereich 11
END:VEVENT
BEGIN:VEVENT
UID:Ryj2OfGb-3
DTSTAMP:20260422T103413Z
SUMMARY:Aquafit
DESCRIPTION:Fachbereich: Aquafit\nKurs-Nr.: 26.50001-49\n\nDetails: https:/
 /www.reha-rheinfelden.ch/fit-und-gesund/Ryj2OfGb
URL:https://www.reha-rheinfelden.ch/fit-und-gesund/Ryj2OfGb
DTSTART;TZID=Europe/Zurich:20260508T170000
DTEND;TZID=Europe/Zurich:20260508T175500
LOCATION:Therapiebad grosses Becken\, Bereich 11
END:VEVENT
BEGIN:VEVENT
UID:Ryj2OfGb-4
DTSTAMP:20260422T103413Z
SUMMARY:Aquafit
DESCRIPTION:Fachbereich: Aquafit\nKurs-Nr.: 26.50001-49\n\nDetails: https:/
 /www.reha-rheinfelden.ch/fit-und-gesund/Ryj2OfGb
URL:https://www.reha-rheinfelden.ch/fit-und-gesund/Ryj2OfGb
DTSTART;TZID=Europe/Zurich:20260515T170000
DTEND;TZID=Europe/Zurich:20260515T175500
LOCATION:Therapiebad grosses Becken\, Bereich 11
END:VEVENT
BEGIN:VEVENT
UID:Ryj2OfGb-5
DTSTAMP:20260422T103413Z
SUMMARY:Aquafit
DESCRIPTION:Fachbereich: Aquafit\nKurs-Nr.: 26.50001-49\n\nDetails: https:/
 /www.reha-rheinfelden.ch/fit-und-gesund/Ryj2OfGb
URL:https://www.reha-rheinfelden.ch/fit-und-gesund/Ryj2OfGb
DTSTART;TZID=Europe/Zurich:20260522T170000
DTEND;TZID=Europe/Zurich:20260522T175500
LOCATION:Therapiebad grosses Becken\, Bereich 11
END:VEVENT
BEGIN:VEVENT
UID:Ryj2OfGb-6
DTSTAMP:20260422T103413Z
SUMMARY:Aquafit
DESCRIPTION:Fachbereich: Aquafit\nKurs-Nr.: 26.50001-49\n\nDetails: https:/
 /www.reha-rheinfelden.ch/fit-und-gesund/Ryj2OfGb
URL:https://www.reha-rheinfelden.ch/fit-und-gesund/Ryj2OfGb
DTSTART;TZID=Europe/Zurich:20260529T170000
DTEND;TZID=Europe/Zurich:20260529T175500
LOCATION:Therapiebad grosses Becken\, Bereich 11
END:VEVENT
BEGIN:VEVENT
UID:Ryj2OfGb-7
DTSTAMP:20260422T103413Z
SUMMARY:Aquafit
DESCRIPTION:Fachbereich: Aquafit\nKurs-Nr.: 26.50001-49\n\nDetails: https:/
 /www.reha-rheinfelden.ch/fit-und-gesund/Ryj2OfGb
URL:https://www.reha-rheinfelden.ch/fit-und-gesund/Ryj2OfGb
DTSTART;TZID=Europe/Zurich:20260605T170000
DTEND;TZID=Europe/Zurich:20260605T175500
LOCATION:Therapiebad grosses Becken\, Bereich 11
END:VEVENT
BEGIN:VEVENT
UID:Ryj2OfGb-8
DTSTAMP:20260422T103413Z
SUMMARY:Aquafit
DESCRIPTION:Fachbereich: Aquafit\nKurs-Nr.: 26.50001-49\n\nDetails: https:/
 /www.reha-rheinfelden.ch/fit-und-gesund/Ryj2OfGb
URL:https://www.reha-rheinfelden.ch/fit-und-gesund/Ryj2OfGb
DTSTART;TZID=Europe/Zurich:20260612T170000
DTEND;TZID=Europe/Zurich:20260612T175500
LOCATION:Therapiebad grosses Becken\, Bereich 11
END:VEVENT
BEGIN:VEVENT
UID:Ryj2OfGb-9
DTSTAMP:20260422T103413Z
SUMMARY:Aquafit
DESCRIPTION:Fachbereich: Aquafit\nKurs-Nr.: 26.50001-49\n\nDetails: https:/
 /www.reha-rheinfelden.ch/fit-und-gesund/Ryj2OfGb
URL:https://www.reha-rheinfelden.ch/fit-und-gesund/Ryj2OfGb
DTSTART;TZID=Europe/Zurich:20260619T170000
DTEND;TZID=Europe/Zurich:20260619T175500
LOCATION:Therapiebad grosses Becken\, Bereich 11
END:VEVENT
BEGIN:VEVENT
UID:Ryj2OfGb-10
DTSTAMP:20260422T103413Z
SUMMARY:Aquafit
DESCRIPTION:Fachbereich: Aquafit\nKurs-Nr.: 26.50001-49\n\nDetails: https:/
 /www.reha-rheinfelden.ch/fit-und-gesund/Ryj2OfGb
URL:https://www.reha-rheinfelden.ch/fit-und-gesund/Ryj2OfGb
DTSTART;TZID=Europe/Zurich:20260626T170000
DTEND;TZID=Europe/Zurich:20260626T175500
LOCATION:Therapiebad grosses Becken\, Bereich 11
END:VEVENT
BEGIN:VEVENT
UID:Ryj2OfGb-11
DTSTAMP:20260422T103413Z
SUMMARY:Aquafit
DESCRIPTION:Fachbereich: Aquafit\nKurs-Nr.: 26.50001-49\n\nDetails: https:/
 /www.reha-rheinfelden.ch/fit-und-gesund/Ryj2OfGb
URL:https://www.reha-rheinfelden.ch/fit-und-gesund/Ryj2OfGb
DTSTART;TZID=Europe/Zurich:20260703T170000
DTEND;TZID=Europe/Zurich:20260703T175500
LOCATION:Therapiebad grosses Becken\, Bereich 11
END:VEVENT
END:VCALENDAR
