BEGIN:VCALENDAR
PRODID:-//Reha Rheinfelden//Kurse//DE
VERSION:2.0
CALSCALE:GREGORIAN
BEGIN:VEVENT
UID:RZV6PG4f-0
DTSTAMP:20260422T103636Z
SUMMARY:Aquafit
DESCRIPTION:Fachbereich: Aquafit\nKurs-Nr.: 26.50001-46\n\nDetails: https:/
 /www.reha-rheinfelden.ch/fit-und-gesund/RZV6PG4f
URL:https://www.reha-rheinfelden.ch/fit-und-gesund/RZV6PG4f
DTSTART;TZID=Europe/Zurich:20260416T190000
DTEND;TZID=Europe/Zurich:20260416T195500
LOCATION:Therapiebad grosses Becken\, Bereich 11
END:VEVENT
BEGIN:VEVENT
UID:RZV6PG4f-1
DTSTAMP:20260422T103636Z
SUMMARY:Aquafit
DESCRIPTION:Fachbereich: Aquafit\nKurs-Nr.: 26.50001-46\n\nDetails: https:/
 /www.reha-rheinfelden.ch/fit-und-gesund/RZV6PG4f
URL:https://www.reha-rheinfelden.ch/fit-und-gesund/RZV6PG4f
DTSTART;TZID=Europe/Zurich:20260423T190000
DTEND;TZID=Europe/Zurich:20260423T195500
LOCATION:Therapiebad grosses Becken\, Bereich 11
END:VEVENT
BEGIN:VEVENT
UID:RZV6PG4f-2
DTSTAMP:20260422T103636Z
SUMMARY:Aquafit
DESCRIPTION:Fachbereich: Aquafit\nKurs-Nr.: 26.50001-46\n\nDetails: https:/
 /www.reha-rheinfelden.ch/fit-und-gesund/RZV6PG4f
URL:https://www.reha-rheinfelden.ch/fit-und-gesund/RZV6PG4f
DTSTART;TZID=Europe/Zurich:20260430T190000
DTEND;TZID=Europe/Zurich:20260430T195500
LOCATION:Therapiebad grosses Becken\, Bereich 11
END:VEVENT
BEGIN:VEVENT
UID:RZV6PG4f-3
DTSTAMP:20260422T103636Z
SUMMARY:Aquafit
DESCRIPTION:Fachbereich: Aquafit\nKurs-Nr.: 26.50001-46\n\nDetails: https:/
 /www.reha-rheinfelden.ch/fit-und-gesund/RZV6PG4f
URL:https://www.reha-rheinfelden.ch/fit-und-gesund/RZV6PG4f
DTSTART;TZID=Europe/Zurich:20260507T190000
DTEND;TZID=Europe/Zurich:20260507T195500
LOCATION:Therapiebad grosses Becken\, Bereich 11
END:VEVENT
BEGIN:VEVENT
UID:RZV6PG4f-4
DTSTAMP:20260422T103636Z
SUMMARY:Aquafit
DESCRIPTION:Fachbereich: Aquafit\nKurs-Nr.: 26.50001-46\n\nDetails: https:/
 /www.reha-rheinfelden.ch/fit-und-gesund/RZV6PG4f
URL:https://www.reha-rheinfelden.ch/fit-und-gesund/RZV6PG4f
DTSTART;TZID=Europe/Zurich:20260521T190000
DTEND;TZID=Europe/Zurich:20260521T195500
LOCATION:Therapiebad grosses Becken\, Bereich 11
END:VEVENT
BEGIN:VEVENT
UID:RZV6PG4f-5
DTSTAMP:20260422T103636Z
SUMMARY:Aquafit
DESCRIPTION:Fachbereich: Aquafit\nKurs-Nr.: 26.50001-46\n\nDetails: https:/
 /www.reha-rheinfelden.ch/fit-und-gesund/RZV6PG4f
URL:https://www.reha-rheinfelden.ch/fit-und-gesund/RZV6PG4f
DTSTART;TZID=Europe/Zurich:20260528T190000
DTEND;TZID=Europe/Zurich:20260528T195500
LOCATION:Therapiebad grosses Becken\, Bereich 11
END:VEVENT
BEGIN:VEVENT
UID:RZV6PG4f-6
DTSTAMP:20260422T103636Z
SUMMARY:Aquafit
DESCRIPTION:Fachbereich: Aquafit\nKurs-Nr.: 26.50001-46\n\nDetails: https:/
 /www.reha-rheinfelden.ch/fit-und-gesund/RZV6PG4f
URL:https://www.reha-rheinfelden.ch/fit-und-gesund/RZV6PG4f
DTSTART;TZID=Europe/Zurich:20260604T190000
DTEND;TZID=Europe/Zurich:20260604T195500
LOCATION:Therapiebad grosses Becken\, Bereich 11
END:VEVENT
BEGIN:VEVENT
UID:RZV6PG4f-7
DTSTAMP:20260422T103636Z
SUMMARY:Aquafit
DESCRIPTION:Fachbereich: Aquafit\nKurs-Nr.: 26.50001-46\n\nDetails: https:/
 /www.reha-rheinfelden.ch/fit-und-gesund/RZV6PG4f
URL:https://www.reha-rheinfelden.ch/fit-und-gesund/RZV6PG4f
DTSTART;TZID=Europe/Zurich:20260611T190000
DTEND;TZID=Europe/Zurich:20260611T195500
LOCATION:Therapiebad grosses Becken\, Bereich 11
END:VEVENT
BEGIN:VEVENT
UID:RZV6PG4f-8
DTSTAMP:20260422T103636Z
SUMMARY:Aquafit
DESCRIPTION:Fachbereich: Aquafit\nKurs-Nr.: 26.50001-46\n\nDetails: https:/
 /www.reha-rheinfelden.ch/fit-und-gesund/RZV6PG4f
URL:https://www.reha-rheinfelden.ch/fit-und-gesund/RZV6PG4f
DTSTART;TZID=Europe/Zurich:20260618T190000
DTEND;TZID=Europe/Zurich:20260618T195500
LOCATION:Therapiebad grosses Becken\, Bereich 11
END:VEVENT
BEGIN:VEVENT
UID:RZV6PG4f-9
DTSTAMP:20260422T103636Z
SUMMARY:Aquafit
DESCRIPTION:Fachbereich: Aquafit\nKurs-Nr.: 26.50001-46\n\nDetails: https:/
 /www.reha-rheinfelden.ch/fit-und-gesund/RZV6PG4f
URL:https://www.reha-rheinfelden.ch/fit-und-gesund/RZV6PG4f
DTSTART;TZID=Europe/Zurich:20260625T190000
DTEND;TZID=Europe/Zurich:20260625T195500
LOCATION:Therapiebad grosses Becken\, Bereich 11
END:VEVENT
BEGIN:VEVENT
UID:RZV6PG4f-10
DTSTAMP:20260422T103636Z
SUMMARY:Aquafit
DESCRIPTION:Fachbereich: Aquafit\nKurs-Nr.: 26.50001-46\n\nDetails: https:/
 /www.reha-rheinfelden.ch/fit-und-gesund/RZV6PG4f
URL:https://www.reha-rheinfelden.ch/fit-und-gesund/RZV6PG4f
DTSTART;TZID=Europe/Zurich:20260702T190000
DTEND;TZID=Europe/Zurich:20260702T195500
LOCATION:Therapiebad grosses Becken\, Bereich 11
END:VEVENT
END:VCALENDAR
