BEGIN:VCALENDAR
PRODID:-//Reha Rheinfelden//Kurse//DE
VERSION:2.0
CALSCALE:GREGORIAN
BEGIN:VEVENT
UID:QTsxruxD-0
DTSTAMP:20260423T210131Z
SUMMARY:Fit 60+
DESCRIPTION:Fachbereich: Fit 60+\nKurs-Nr.: 26.50007-19\n\nDetails: https:/
 /www.reha-rheinfelden.ch/fit-und-gesund/QTsxruxD
URL:https://www.reha-rheinfelden.ch/fit-und-gesund/QTsxruxD
DTSTART;TZID=Europe/Zurich:20260831T084500
DTEND;TZID=Europe/Zurich:20260831T094000
LOCATION:Turnhalle\, Bereich 11
END:VEVENT
BEGIN:VEVENT
UID:QTsxruxD-1
DTSTAMP:20260423T210131Z
SUMMARY:Fit 60+
DESCRIPTION:Fachbereich: Fit 60+\nKurs-Nr.: 26.50007-19\n\nDetails: https:/
 /www.reha-rheinfelden.ch/fit-und-gesund/QTsxruxD
URL:https://www.reha-rheinfelden.ch/fit-und-gesund/QTsxruxD
DTSTART;TZID=Europe/Zurich:20260907T084500
DTEND;TZID=Europe/Zurich:20260907T094000
LOCATION:Turnhalle\, Bereich 11
END:VEVENT
BEGIN:VEVENT
UID:QTsxruxD-2
DTSTAMP:20260423T210131Z
SUMMARY:Fit 60+
DESCRIPTION:Fachbereich: Fit 60+\nKurs-Nr.: 26.50007-19\n\nDetails: https:/
 /www.reha-rheinfelden.ch/fit-und-gesund/QTsxruxD
URL:https://www.reha-rheinfelden.ch/fit-und-gesund/QTsxruxD
DTSTART;TZID=Europe/Zurich:20260914T084500
DTEND;TZID=Europe/Zurich:20260914T094000
LOCATION:Turnhalle\, Bereich 11
END:VEVENT
BEGIN:VEVENT
UID:QTsxruxD-3
DTSTAMP:20260423T210131Z
SUMMARY:Fit 60+
DESCRIPTION:Fachbereich: Fit 60+\nKurs-Nr.: 26.50007-19\n\nDetails: https:/
 /www.reha-rheinfelden.ch/fit-und-gesund/QTsxruxD
URL:https://www.reha-rheinfelden.ch/fit-und-gesund/QTsxruxD
DTSTART;TZID=Europe/Zurich:20260921T084500
DTEND;TZID=Europe/Zurich:20260921T094000
LOCATION:Turnhalle\, Bereich 11
END:VEVENT
BEGIN:VEVENT
UID:QTsxruxD-4
DTSTAMP:20260423T210131Z
SUMMARY:Fit 60+
DESCRIPTION:Fachbereich: Fit 60+\nKurs-Nr.: 26.50007-19\n\nDetails: https:/
 /www.reha-rheinfelden.ch/fit-und-gesund/QTsxruxD
URL:https://www.reha-rheinfelden.ch/fit-und-gesund/QTsxruxD
DTSTART;TZID=Europe/Zurich:20260928T084500
DTEND;TZID=Europe/Zurich:20260928T094000
LOCATION:Turnhalle\, Bereich 11
END:VEVENT
BEGIN:VEVENT
UID:QTsxruxD-5
DTSTAMP:20260423T210131Z
SUMMARY:Fit 60+
DESCRIPTION:Fachbereich: Fit 60+\nKurs-Nr.: 26.50007-19\n\nDetails: https:/
 /www.reha-rheinfelden.ch/fit-und-gesund/QTsxruxD
URL:https://www.reha-rheinfelden.ch/fit-und-gesund/QTsxruxD
DTSTART;TZID=Europe/Zurich:20261005T084500
DTEND;TZID=Europe/Zurich:20261005T094000
LOCATION:Turnhalle\, Bereich 11
END:VEVENT
BEGIN:VEVENT
UID:QTsxruxD-6
DTSTAMP:20260423T210131Z
SUMMARY:Fit 60+
DESCRIPTION:Fachbereich: Fit 60+\nKurs-Nr.: 26.50007-19\n\nDetails: https:/
 /www.reha-rheinfelden.ch/fit-und-gesund/QTsxruxD
URL:https://www.reha-rheinfelden.ch/fit-und-gesund/QTsxruxD
DTSTART;TZID=Europe/Zurich:20261012T084500
DTEND;TZID=Europe/Zurich:20261012T094000
LOCATION:Turnhalle\, Bereich 11
END:VEVENT
BEGIN:VEVENT
UID:QTsxruxD-7
DTSTAMP:20260423T210131Z
SUMMARY:Fit 60+
DESCRIPTION:Fachbereich: Fit 60+\nKurs-Nr.: 26.50007-19\n\nDetails: https:/
 /www.reha-rheinfelden.ch/fit-und-gesund/QTsxruxD
URL:https://www.reha-rheinfelden.ch/fit-und-gesund/QTsxruxD
DTSTART;TZID=Europe/Zurich:20261019T084500
DTEND;TZID=Europe/Zurich:20261019T094000
LOCATION:Turnhalle\, Bereich 11
END:VEVENT
BEGIN:VEVENT
UID:QTsxruxD-8
DTSTAMP:20260423T210131Z
SUMMARY:Fit 60+
DESCRIPTION:Fachbereich: Fit 60+\nKurs-Nr.: 26.50007-19\n\nDetails: https:/
 /www.reha-rheinfelden.ch/fit-und-gesund/QTsxruxD
URL:https://www.reha-rheinfelden.ch/fit-und-gesund/QTsxruxD
DTSTART;TZID=Europe/Zurich:20261102T084500
DTEND;TZID=Europe/Zurich:20261102T094000
LOCATION:Turnhalle\, Bereich 11
END:VEVENT
BEGIN:VEVENT
UID:QTsxruxD-9
DTSTAMP:20260423T210131Z
SUMMARY:Fit 60+
DESCRIPTION:Fachbereich: Fit 60+\nKurs-Nr.: 26.50007-19\n\nDetails: https:/
 /www.reha-rheinfelden.ch/fit-und-gesund/QTsxruxD
URL:https://www.reha-rheinfelden.ch/fit-und-gesund/QTsxruxD
DTSTART;TZID=Europe/Zurich:20261109T084500
DTEND;TZID=Europe/Zurich:20261109T094000
LOCATION:Turnhalle\, Bereich 11
END:VEVENT
BEGIN:VEVENT
UID:QTsxruxD-10
DTSTAMP:20260423T210131Z
SUMMARY:Fit 60+
DESCRIPTION:Fachbereich: Fit 60+\nKurs-Nr.: 26.50007-19\n\nDetails: https:/
 /www.reha-rheinfelden.ch/fit-und-gesund/QTsxruxD
URL:https://www.reha-rheinfelden.ch/fit-und-gesund/QTsxruxD
DTSTART;TZID=Europe/Zurich:20261116T084500
DTEND;TZID=Europe/Zurich:20261116T094000
LOCATION:Turnhalle\, Bereich 11
END:VEVENT
BEGIN:VEVENT
UID:QTsxruxD-11
DTSTAMP:20260423T210131Z
SUMMARY:Fit 60+
DESCRIPTION:Fachbereich: Fit 60+\nKurs-Nr.: 26.50007-19\n\nDetails: https:/
 /www.reha-rheinfelden.ch/fit-und-gesund/QTsxruxD
URL:https://www.reha-rheinfelden.ch/fit-und-gesund/QTsxruxD
DTSTART;TZID=Europe/Zurich:20261123T084500
DTEND;TZID=Europe/Zurich:20261123T094000
LOCATION:Turnhalle\, Bereich 11
END:VEVENT
BEGIN:VEVENT
UID:QTsxruxD-12
DTSTAMP:20260423T210131Z
SUMMARY:Fit 60+
DESCRIPTION:Fachbereich: Fit 60+\nKurs-Nr.: 26.50007-19\n\nDetails: https:/
 /www.reha-rheinfelden.ch/fit-und-gesund/QTsxruxD
URL:https://www.reha-rheinfelden.ch/fit-und-gesund/QTsxruxD
DTSTART;TZID=Europe/Zurich:20261130T084500
DTEND;TZID=Europe/Zurich:20261130T094000
LOCATION:Turnhalle\, Bereich 11
END:VEVENT
BEGIN:VEVENT
UID:QTsxruxD-13
DTSTAMP:20260423T210131Z
SUMMARY:Fit 60+
DESCRIPTION:Fachbereich: Fit 60+\nKurs-Nr.: 26.50007-19\n\nDetails: https:/
 /www.reha-rheinfelden.ch/fit-und-gesund/QTsxruxD
URL:https://www.reha-rheinfelden.ch/fit-und-gesund/QTsxruxD
DTSTART;TZID=Europe/Zurich:20261207T084500
DTEND;TZID=Europe/Zurich:20261207T094000
LOCATION:Turnhalle\, Bereich 11
END:VEVENT
BEGIN:VEVENT
UID:QTsxruxD-14
DTSTAMP:20260423T210131Z
SUMMARY:Fit 60+
DESCRIPTION:Fachbereich: Fit 60+\nKurs-Nr.: 26.50007-19\n\nDetails: https:/
 /www.reha-rheinfelden.ch/fit-und-gesund/QTsxruxD
URL:https://www.reha-rheinfelden.ch/fit-und-gesund/QTsxruxD
DTSTART;TZID=Europe/Zurich:20261214T084500
DTEND;TZID=Europe/Zurich:20261214T094000
LOCATION:Turnhalle\, Bereich 11
END:VEVENT
END:VCALENDAR
