BEGIN:VCALENDAR
PRODID:-//Reha Rheinfelden//Kurse//DE
VERSION:2.0
CALSCALE:GREGORIAN
BEGIN:VEVENT
UID:QFIo2k2l-0
DTSTAMP:20260424T102044Z
SUMMARY:Aquafit
DESCRIPTION:Fachbereich: Aquafit\nKurs-Nr.: 26.50001-36\n\nDetails: https:/
 /www.reha-rheinfelden.ch/fit-und-gesund/QFIo2k2l
URL:https://www.reha-rheinfelden.ch/fit-und-gesund/QFIo2k2l
DTSTART;TZID=Europe/Zurich:20260414T200000
DTEND;TZID=Europe/Zurich:20260414T205500
LOCATION:Therapiebad grosses Becken\, Bereich 11
END:VEVENT
BEGIN:VEVENT
UID:QFIo2k2l-1
DTSTAMP:20260424T102044Z
SUMMARY:Aquafit
DESCRIPTION:Fachbereich: Aquafit\nKurs-Nr.: 26.50001-36\n\nDetails: https:/
 /www.reha-rheinfelden.ch/fit-und-gesund/QFIo2k2l
URL:https://www.reha-rheinfelden.ch/fit-und-gesund/QFIo2k2l
DTSTART;TZID=Europe/Zurich:20260421T200000
DTEND;TZID=Europe/Zurich:20260421T205500
LOCATION:Therapiebad grosses Becken\, Bereich 11
END:VEVENT
BEGIN:VEVENT
UID:QFIo2k2l-2
DTSTAMP:20260424T102044Z
SUMMARY:Aquafit
DESCRIPTION:Fachbereich: Aquafit\nKurs-Nr.: 26.50001-36\n\nDetails: https:/
 /www.reha-rheinfelden.ch/fit-und-gesund/QFIo2k2l
URL:https://www.reha-rheinfelden.ch/fit-und-gesund/QFIo2k2l
DTSTART;TZID=Europe/Zurich:20260428T200000
DTEND;TZID=Europe/Zurich:20260428T205500
LOCATION:Therapiebad grosses Becken\, Bereich 11
END:VEVENT
BEGIN:VEVENT
UID:QFIo2k2l-3
DTSTAMP:20260424T102044Z
SUMMARY:Aquafit
DESCRIPTION:Fachbereich: Aquafit\nKurs-Nr.: 26.50001-36\n\nDetails: https:/
 /www.reha-rheinfelden.ch/fit-und-gesund/QFIo2k2l
URL:https://www.reha-rheinfelden.ch/fit-und-gesund/QFIo2k2l
DTSTART;TZID=Europe/Zurich:20260505T200000
DTEND;TZID=Europe/Zurich:20260505T205500
LOCATION:Therapiebad grosses Becken\, Bereich 11
END:VEVENT
BEGIN:VEVENT
UID:QFIo2k2l-4
DTSTAMP:20260424T102044Z
SUMMARY:Aquafit
DESCRIPTION:Fachbereich: Aquafit\nKurs-Nr.: 26.50001-36\n\nDetails: https:/
 /www.reha-rheinfelden.ch/fit-und-gesund/QFIo2k2l
URL:https://www.reha-rheinfelden.ch/fit-und-gesund/QFIo2k2l
DTSTART;TZID=Europe/Zurich:20260512T200000
DTEND;TZID=Europe/Zurich:20260512T205500
LOCATION:Therapiebad grosses Becken\, Bereich 11
END:VEVENT
BEGIN:VEVENT
UID:QFIo2k2l-5
DTSTAMP:20260424T102044Z
SUMMARY:Aquafit
DESCRIPTION:Fachbereich: Aquafit\nKurs-Nr.: 26.50001-36\n\nDetails: https:/
 /www.reha-rheinfelden.ch/fit-und-gesund/QFIo2k2l
URL:https://www.reha-rheinfelden.ch/fit-und-gesund/QFIo2k2l
DTSTART;TZID=Europe/Zurich:20260519T200000
DTEND;TZID=Europe/Zurich:20260519T205500
LOCATION:Therapiebad grosses Becken\, Bereich 11
END:VEVENT
BEGIN:VEVENT
UID:QFIo2k2l-6
DTSTAMP:20260424T102044Z
SUMMARY:Aquafit
DESCRIPTION:Fachbereich: Aquafit\nKurs-Nr.: 26.50001-36\n\nDetails: https:/
 /www.reha-rheinfelden.ch/fit-und-gesund/QFIo2k2l
URL:https://www.reha-rheinfelden.ch/fit-und-gesund/QFIo2k2l
DTSTART;TZID=Europe/Zurich:20260526T200000
DTEND;TZID=Europe/Zurich:20260526T205500
LOCATION:Therapiebad grosses Becken\, Bereich 11
END:VEVENT
BEGIN:VEVENT
UID:QFIo2k2l-7
DTSTAMP:20260424T102044Z
SUMMARY:Aquafit
DESCRIPTION:Fachbereich: Aquafit\nKurs-Nr.: 26.50001-36\n\nDetails: https:/
 /www.reha-rheinfelden.ch/fit-und-gesund/QFIo2k2l
URL:https://www.reha-rheinfelden.ch/fit-und-gesund/QFIo2k2l
DTSTART;TZID=Europe/Zurich:20260602T200000
DTEND;TZID=Europe/Zurich:20260602T205500
LOCATION:Therapiebad grosses Becken\, Bereich 11
END:VEVENT
BEGIN:VEVENT
UID:QFIo2k2l-8
DTSTAMP:20260424T102044Z
SUMMARY:Aquafit
DESCRIPTION:Fachbereich: Aquafit\nKurs-Nr.: 26.50001-36\n\nDetails: https:/
 /www.reha-rheinfelden.ch/fit-und-gesund/QFIo2k2l
URL:https://www.reha-rheinfelden.ch/fit-und-gesund/QFIo2k2l
DTSTART;TZID=Europe/Zurich:20260609T200000
DTEND;TZID=Europe/Zurich:20260609T205500
LOCATION:Therapiebad grosses Becken\, Bereich 11
END:VEVENT
BEGIN:VEVENT
UID:QFIo2k2l-9
DTSTAMP:20260424T102044Z
SUMMARY:Aquafit
DESCRIPTION:Fachbereich: Aquafit\nKurs-Nr.: 26.50001-36\n\nDetails: https:/
 /www.reha-rheinfelden.ch/fit-und-gesund/QFIo2k2l
URL:https://www.reha-rheinfelden.ch/fit-und-gesund/QFIo2k2l
DTSTART;TZID=Europe/Zurich:20260616T200000
DTEND;TZID=Europe/Zurich:20260616T205500
LOCATION:Therapiebad grosses Becken\, Bereich 11
END:VEVENT
BEGIN:VEVENT
UID:QFIo2k2l-10
DTSTAMP:20260424T102044Z
SUMMARY:Aquafit
DESCRIPTION:Fachbereich: Aquafit\nKurs-Nr.: 26.50001-36\n\nDetails: https:/
 /www.reha-rheinfelden.ch/fit-und-gesund/QFIo2k2l
URL:https://www.reha-rheinfelden.ch/fit-und-gesund/QFIo2k2l
DTSTART;TZID=Europe/Zurich:20260623T200000
DTEND;TZID=Europe/Zurich:20260623T205500
LOCATION:Therapiebad grosses Becken\, Bereich 11
END:VEVENT
BEGIN:VEVENT
UID:QFIo2k2l-11
DTSTAMP:20260424T102044Z
SUMMARY:Aquafit
DESCRIPTION:Fachbereich: Aquafit\nKurs-Nr.: 26.50001-36\n\nDetails: https:/
 /www.reha-rheinfelden.ch/fit-und-gesund/QFIo2k2l
URL:https://www.reha-rheinfelden.ch/fit-und-gesund/QFIo2k2l
DTSTART;TZID=Europe/Zurich:20260630T200000
DTEND;TZID=Europe/Zurich:20260630T205500
LOCATION:Therapiebad grosses Becken\, Bereich 11
END:VEVENT
END:VCALENDAR
