BEGIN:VCALENDAR
PRODID:-//Reha Rheinfelden//Kurse//DE
VERSION:2.0
CALSCALE:GREGORIAN
BEGIN:VEVENT
UID:MeazU4NCP-0
DTSTAMP:20260424T101054Z
SUMMARY:Aqua-Cycling
DESCRIPTION:Fachbereich: Aqua-Cycling\nKurs-Nr.: 26.50002-17\n\nDetails: ht
 tps://www.reha-rheinfelden.ch/fit-und-gesund/MeazU4NCP
URL:https://www.reha-rheinfelden.ch/fit-und-gesund/MeazU4NCP
DTSTART;TZID=Europe/Zurich:20260415T184500
DTEND;TZID=Europe/Zurich:20260415T194000
LOCATION:Therapiebad kleines Becken\, Bereich 11
END:VEVENT
BEGIN:VEVENT
UID:MeazU4NCP-1
DTSTAMP:20260424T101054Z
SUMMARY:Aqua-Cycling
DESCRIPTION:Fachbereich: Aqua-Cycling\nKurs-Nr.: 26.50002-17\n\nDetails: ht
 tps://www.reha-rheinfelden.ch/fit-und-gesund/MeazU4NCP
URL:https://www.reha-rheinfelden.ch/fit-und-gesund/MeazU4NCP
DTSTART;TZID=Europe/Zurich:20260422T184500
DTEND;TZID=Europe/Zurich:20260422T194000
LOCATION:Therapiebad kleines Becken\, Bereich 11
END:VEVENT
BEGIN:VEVENT
UID:MeazU4NCP-2
DTSTAMP:20260424T101054Z
SUMMARY:Aqua-Cycling
DESCRIPTION:Fachbereich: Aqua-Cycling\nKurs-Nr.: 26.50002-17\n\nDetails: ht
 tps://www.reha-rheinfelden.ch/fit-und-gesund/MeazU4NCP
URL:https://www.reha-rheinfelden.ch/fit-und-gesund/MeazU4NCP
DTSTART;TZID=Europe/Zurich:20260429T184500
DTEND;TZID=Europe/Zurich:20260429T194000
LOCATION:Therapiebad kleines Becken\, Bereich 11
END:VEVENT
BEGIN:VEVENT
UID:MeazU4NCP-3
DTSTAMP:20260424T101054Z
SUMMARY:Aqua-Cycling
DESCRIPTION:Fachbereich: Aqua-Cycling\nKurs-Nr.: 26.50002-17\n\nDetails: ht
 tps://www.reha-rheinfelden.ch/fit-und-gesund/MeazU4NCP
URL:https://www.reha-rheinfelden.ch/fit-und-gesund/MeazU4NCP
DTSTART;TZID=Europe/Zurich:20260506T184500
DTEND;TZID=Europe/Zurich:20260506T194000
LOCATION:Therapiebad kleines Becken\, Bereich 11
END:VEVENT
BEGIN:VEVENT
UID:MeazU4NCP-4
DTSTAMP:20260424T101054Z
SUMMARY:Aqua-Cycling
DESCRIPTION:Fachbereich: Aqua-Cycling\nKurs-Nr.: 26.50002-17\n\nDetails: ht
 tps://www.reha-rheinfelden.ch/fit-und-gesund/MeazU4NCP
URL:https://www.reha-rheinfelden.ch/fit-und-gesund/MeazU4NCP
DTSTART;TZID=Europe/Zurich:20260513T184500
DTEND;TZID=Europe/Zurich:20260513T194000
LOCATION:Therapiebad kleines Becken\, Bereich 11
END:VEVENT
BEGIN:VEVENT
UID:MeazU4NCP-5
DTSTAMP:20260424T101054Z
SUMMARY:Aqua-Cycling
DESCRIPTION:Fachbereich: Aqua-Cycling\nKurs-Nr.: 26.50002-17\n\nDetails: ht
 tps://www.reha-rheinfelden.ch/fit-und-gesund/MeazU4NCP
URL:https://www.reha-rheinfelden.ch/fit-und-gesund/MeazU4NCP
DTSTART;TZID=Europe/Zurich:20260520T184500
DTEND;TZID=Europe/Zurich:20260520T194000
LOCATION:Therapiebad kleines Becken\, Bereich 11
END:VEVENT
BEGIN:VEVENT
UID:MeazU4NCP-6
DTSTAMP:20260424T101054Z
SUMMARY:Aqua-Cycling
DESCRIPTION:Fachbereich: Aqua-Cycling\nKurs-Nr.: 26.50002-17\n\nDetails: ht
 tps://www.reha-rheinfelden.ch/fit-und-gesund/MeazU4NCP
URL:https://www.reha-rheinfelden.ch/fit-und-gesund/MeazU4NCP
DTSTART;TZID=Europe/Zurich:20260527T184500
DTEND;TZID=Europe/Zurich:20260527T194000
LOCATION:Therapiebad kleines Becken\, Bereich 11
END:VEVENT
BEGIN:VEVENT
UID:MeazU4NCP-7
DTSTAMP:20260424T101054Z
SUMMARY:Aqua-Cycling
DESCRIPTION:Fachbereich: Aqua-Cycling\nKurs-Nr.: 26.50002-17\n\nDetails: ht
 tps://www.reha-rheinfelden.ch/fit-und-gesund/MeazU4NCP
URL:https://www.reha-rheinfelden.ch/fit-und-gesund/MeazU4NCP
DTSTART;TZID=Europe/Zurich:20260603T184500
DTEND;TZID=Europe/Zurich:20260603T194000
LOCATION:Therapiebad kleines Becken\, Bereich 11
END:VEVENT
BEGIN:VEVENT
UID:MeazU4NCP-8
DTSTAMP:20260424T101054Z
SUMMARY:Aqua-Cycling
DESCRIPTION:Fachbereich: Aqua-Cycling\nKurs-Nr.: 26.50002-17\n\nDetails: ht
 tps://www.reha-rheinfelden.ch/fit-und-gesund/MeazU4NCP
URL:https://www.reha-rheinfelden.ch/fit-und-gesund/MeazU4NCP
DTSTART;TZID=Europe/Zurich:20260610T184500
DTEND;TZID=Europe/Zurich:20260610T194000
LOCATION:Therapiebad kleines Becken\, Bereich 11
END:VEVENT
BEGIN:VEVENT
UID:MeazU4NCP-9
DTSTAMP:20260424T101054Z
SUMMARY:Aqua-Cycling
DESCRIPTION:Fachbereich: Aqua-Cycling\nKurs-Nr.: 26.50002-17\n\nDetails: ht
 tps://www.reha-rheinfelden.ch/fit-und-gesund/MeazU4NCP
URL:https://www.reha-rheinfelden.ch/fit-und-gesund/MeazU4NCP
DTSTART;TZID=Europe/Zurich:20260617T184500
DTEND;TZID=Europe/Zurich:20260617T194000
LOCATION:Therapiebad kleines Becken\, Bereich 11
END:VEVENT
BEGIN:VEVENT
UID:MeazU4NCP-10
DTSTAMP:20260424T101054Z
SUMMARY:Aqua-Cycling
DESCRIPTION:Fachbereich: Aqua-Cycling\nKurs-Nr.: 26.50002-17\n\nDetails: ht
 tps://www.reha-rheinfelden.ch/fit-und-gesund/MeazU4NCP
URL:https://www.reha-rheinfelden.ch/fit-und-gesund/MeazU4NCP
DTSTART;TZID=Europe/Zurich:20260624T184500
DTEND;TZID=Europe/Zurich:20260624T194000
LOCATION:Therapiebad kleines Becken\, Bereich 11
END:VEVENT
BEGIN:VEVENT
UID:MeazU4NCP-11
DTSTAMP:20260424T101054Z
SUMMARY:Aqua-Cycling
DESCRIPTION:Fachbereich: Aqua-Cycling\nKurs-Nr.: 26.50002-17\n\nDetails: ht
 tps://www.reha-rheinfelden.ch/fit-und-gesund/MeazU4NCP
URL:https://www.reha-rheinfelden.ch/fit-und-gesund/MeazU4NCP
DTSTART;TZID=Europe/Zurich:20260701T184500
DTEND;TZID=Europe/Zurich:20260701T194000
LOCATION:Therapiebad kleines Becken\, Bereich 11
END:VEVENT
END:VCALENDAR
