BEGIN:VCALENDAR
PRODID:-//Reha Rheinfelden//Kurse//DE
VERSION:2.0
CALSCALE:GREGORIAN
BEGIN:VEVENT
UID:IYqOxEWX-0
DTSTAMP:20260419T225705Z
SUMMARY:Aquafit
DESCRIPTION:Fachbereich: Aquafit\nKurs-Nr.: 26.50001-43\n\nDetails: https:/
 /www.reha-rheinfelden.ch/fit-und-gesund/IYqOxEWX
URL:https://www.reha-rheinfelden.ch/fit-und-gesund/IYqOxEWX
DTSTART;TZID=Europe/Zurich:20260415T200000
DTEND;TZID=Europe/Zurich:20260415T205500
LOCATION:Therapiebad grosses Becken\, Bereich 11
END:VEVENT
BEGIN:VEVENT
UID:IYqOxEWX-1
DTSTAMP:20260419T225705Z
SUMMARY:Aquafit
DESCRIPTION:Fachbereich: Aquafit\nKurs-Nr.: 26.50001-43\n\nDetails: https:/
 /www.reha-rheinfelden.ch/fit-und-gesund/IYqOxEWX
URL:https://www.reha-rheinfelden.ch/fit-und-gesund/IYqOxEWX
DTSTART;TZID=Europe/Zurich:20260422T200000
DTEND;TZID=Europe/Zurich:20260422T205500
LOCATION:Therapiebad grosses Becken\, Bereich 11
END:VEVENT
BEGIN:VEVENT
UID:IYqOxEWX-2
DTSTAMP:20260419T225705Z
SUMMARY:Aquafit
DESCRIPTION:Fachbereich: Aquafit\nKurs-Nr.: 26.50001-43\n\nDetails: https:/
 /www.reha-rheinfelden.ch/fit-und-gesund/IYqOxEWX
URL:https://www.reha-rheinfelden.ch/fit-und-gesund/IYqOxEWX
DTSTART;TZID=Europe/Zurich:20260429T200000
DTEND;TZID=Europe/Zurich:20260429T205500
LOCATION:Therapiebad grosses Becken\, Bereich 11
END:VEVENT
BEGIN:VEVENT
UID:IYqOxEWX-3
DTSTAMP:20260419T225705Z
SUMMARY:Aquafit
DESCRIPTION:Fachbereich: Aquafit\nKurs-Nr.: 26.50001-43\n\nDetails: https:/
 /www.reha-rheinfelden.ch/fit-und-gesund/IYqOxEWX
URL:https://www.reha-rheinfelden.ch/fit-und-gesund/IYqOxEWX
DTSTART;TZID=Europe/Zurich:20260506T200000
DTEND;TZID=Europe/Zurich:20260506T205500
LOCATION:Therapiebad grosses Becken\, Bereich 11
END:VEVENT
BEGIN:VEVENT
UID:IYqOxEWX-4
DTSTAMP:20260419T225705Z
SUMMARY:Aquafit
DESCRIPTION:Fachbereich: Aquafit\nKurs-Nr.: 26.50001-43\n\nDetails: https:/
 /www.reha-rheinfelden.ch/fit-und-gesund/IYqOxEWX
URL:https://www.reha-rheinfelden.ch/fit-und-gesund/IYqOxEWX
DTSTART;TZID=Europe/Zurich:20260513T200000
DTEND;TZID=Europe/Zurich:20260513T205500
LOCATION:Therapiebad grosses Becken\, Bereich 11
END:VEVENT
BEGIN:VEVENT
UID:IYqOxEWX-5
DTSTAMP:20260419T225705Z
SUMMARY:Aquafit
DESCRIPTION:Fachbereich: Aquafit\nKurs-Nr.: 26.50001-43\n\nDetails: https:/
 /www.reha-rheinfelden.ch/fit-und-gesund/IYqOxEWX
URL:https://www.reha-rheinfelden.ch/fit-und-gesund/IYqOxEWX
DTSTART;TZID=Europe/Zurich:20260520T200000
DTEND;TZID=Europe/Zurich:20260520T205500
LOCATION:Therapiebad grosses Becken\, Bereich 11
END:VEVENT
BEGIN:VEVENT
UID:IYqOxEWX-6
DTSTAMP:20260419T225705Z
SUMMARY:Aquafit
DESCRIPTION:Fachbereich: Aquafit\nKurs-Nr.: 26.50001-43\n\nDetails: https:/
 /www.reha-rheinfelden.ch/fit-und-gesund/IYqOxEWX
URL:https://www.reha-rheinfelden.ch/fit-und-gesund/IYqOxEWX
DTSTART;TZID=Europe/Zurich:20260527T200000
DTEND;TZID=Europe/Zurich:20260527T205500
LOCATION:Therapiebad grosses Becken\, Bereich 11
END:VEVENT
BEGIN:VEVENT
UID:IYqOxEWX-7
DTSTAMP:20260419T225705Z
SUMMARY:Aquafit
DESCRIPTION:Fachbereich: Aquafit\nKurs-Nr.: 26.50001-43\n\nDetails: https:/
 /www.reha-rheinfelden.ch/fit-und-gesund/IYqOxEWX
URL:https://www.reha-rheinfelden.ch/fit-und-gesund/IYqOxEWX
DTSTART;TZID=Europe/Zurich:20260603T200000
DTEND;TZID=Europe/Zurich:20260603T205500
LOCATION:Therapiebad grosses Becken\, Bereich 11
END:VEVENT
BEGIN:VEVENT
UID:IYqOxEWX-8
DTSTAMP:20260419T225705Z
SUMMARY:Aquafit
DESCRIPTION:Fachbereich: Aquafit\nKurs-Nr.: 26.50001-43\n\nDetails: https:/
 /www.reha-rheinfelden.ch/fit-und-gesund/IYqOxEWX
URL:https://www.reha-rheinfelden.ch/fit-und-gesund/IYqOxEWX
DTSTART;TZID=Europe/Zurich:20260610T200000
DTEND;TZID=Europe/Zurich:20260610T205500
LOCATION:Therapiebad grosses Becken\, Bereich 11
END:VEVENT
BEGIN:VEVENT
UID:IYqOxEWX-9
DTSTAMP:20260419T225705Z
SUMMARY:Aquafit
DESCRIPTION:Fachbereich: Aquafit\nKurs-Nr.: 26.50001-43\n\nDetails: https:/
 /www.reha-rheinfelden.ch/fit-und-gesund/IYqOxEWX
URL:https://www.reha-rheinfelden.ch/fit-und-gesund/IYqOxEWX
DTSTART;TZID=Europe/Zurich:20260617T200000
DTEND;TZID=Europe/Zurich:20260617T205500
LOCATION:Therapiebad grosses Becken\, Bereich 11
END:VEVENT
BEGIN:VEVENT
UID:IYqOxEWX-10
DTSTAMP:20260419T225705Z
SUMMARY:Aquafit
DESCRIPTION:Fachbereich: Aquafit\nKurs-Nr.: 26.50001-43\n\nDetails: https:/
 /www.reha-rheinfelden.ch/fit-und-gesund/IYqOxEWX
URL:https://www.reha-rheinfelden.ch/fit-und-gesund/IYqOxEWX
DTSTART;TZID=Europe/Zurich:20260624T200000
DTEND;TZID=Europe/Zurich:20260624T205500
LOCATION:Therapiebad grosses Becken\, Bereich 11
END:VEVENT
BEGIN:VEVENT
UID:IYqOxEWX-11
DTSTAMP:20260419T225705Z
SUMMARY:Aquafit
DESCRIPTION:Fachbereich: Aquafit\nKurs-Nr.: 26.50001-43\n\nDetails: https:/
 /www.reha-rheinfelden.ch/fit-und-gesund/IYqOxEWX
URL:https://www.reha-rheinfelden.ch/fit-und-gesund/IYqOxEWX
DTSTART;TZID=Europe/Zurich:20260701T200000
DTEND;TZID=Europe/Zurich:20260701T205500
LOCATION:Therapiebad grosses Becken\, Bereich 11
END:VEVENT
END:VCALENDAR
