BEGIN:VCALENDAR
PRODID:-//Reha Rheinfelden//Kurse//DE
VERSION:2.0
CALSCALE:GREGORIAN
BEGIN:VEVENT
UID:IPtBehTax-0
DTSTAMP:20260421T042249Z
SUMMARY:Aquafit
DESCRIPTION:Fachbereich: Aquafit\nKurs-Nr.: 26.50001-39\n\nDetails: https:/
 /www.reha-rheinfelden.ch/fit-und-gesund/IPtBehTax
URL:https://www.reha-rheinfelden.ch/fit-und-gesund/IPtBehTax
DTSTART;TZID=Europe/Zurich:20260415T160000
DTEND;TZID=Europe/Zurich:20260415T165500
LOCATION:Therapiebad grosses Becken\, Bereich 11
END:VEVENT
BEGIN:VEVENT
UID:IPtBehTax-1
DTSTAMP:20260421T042249Z
SUMMARY:Aquafit
DESCRIPTION:Fachbereich: Aquafit\nKurs-Nr.: 26.50001-39\n\nDetails: https:/
 /www.reha-rheinfelden.ch/fit-und-gesund/IPtBehTax
URL:https://www.reha-rheinfelden.ch/fit-und-gesund/IPtBehTax
DTSTART;TZID=Europe/Zurich:20260422T160000
DTEND;TZID=Europe/Zurich:20260422T165500
LOCATION:Therapiebad grosses Becken\, Bereich 11
END:VEVENT
BEGIN:VEVENT
UID:IPtBehTax-2
DTSTAMP:20260421T042249Z
SUMMARY:Aquafit
DESCRIPTION:Fachbereich: Aquafit\nKurs-Nr.: 26.50001-39\n\nDetails: https:/
 /www.reha-rheinfelden.ch/fit-und-gesund/IPtBehTax
URL:https://www.reha-rheinfelden.ch/fit-und-gesund/IPtBehTax
DTSTART;TZID=Europe/Zurich:20260429T160000
DTEND;TZID=Europe/Zurich:20260429T165500
LOCATION:Therapiebad grosses Becken\, Bereich 11
END:VEVENT
BEGIN:VEVENT
UID:IPtBehTax-3
DTSTAMP:20260421T042249Z
SUMMARY:Aquafit
DESCRIPTION:Fachbereich: Aquafit\nKurs-Nr.: 26.50001-39\n\nDetails: https:/
 /www.reha-rheinfelden.ch/fit-und-gesund/IPtBehTax
URL:https://www.reha-rheinfelden.ch/fit-und-gesund/IPtBehTax
DTSTART;TZID=Europe/Zurich:20260506T160000
DTEND;TZID=Europe/Zurich:20260506T165500
LOCATION:Therapiebad grosses Becken\, Bereich 11
END:VEVENT
BEGIN:VEVENT
UID:IPtBehTax-4
DTSTAMP:20260421T042249Z
SUMMARY:Aquafit
DESCRIPTION:Fachbereich: Aquafit\nKurs-Nr.: 26.50001-39\n\nDetails: https:/
 /www.reha-rheinfelden.ch/fit-und-gesund/IPtBehTax
URL:https://www.reha-rheinfelden.ch/fit-und-gesund/IPtBehTax
DTSTART;TZID=Europe/Zurich:20260513T160000
DTEND;TZID=Europe/Zurich:20260513T165500
LOCATION:Therapiebad grosses Becken\, Bereich 11
END:VEVENT
BEGIN:VEVENT
UID:IPtBehTax-5
DTSTAMP:20260421T042249Z
SUMMARY:Aquafit
DESCRIPTION:Fachbereich: Aquafit\nKurs-Nr.: 26.50001-39\n\nDetails: https:/
 /www.reha-rheinfelden.ch/fit-und-gesund/IPtBehTax
URL:https://www.reha-rheinfelden.ch/fit-und-gesund/IPtBehTax
DTSTART;TZID=Europe/Zurich:20260520T160000
DTEND;TZID=Europe/Zurich:20260520T165500
LOCATION:Therapiebad grosses Becken\, Bereich 11
END:VEVENT
BEGIN:VEVENT
UID:IPtBehTax-6
DTSTAMP:20260421T042249Z
SUMMARY:Aquafit
DESCRIPTION:Fachbereich: Aquafit\nKurs-Nr.: 26.50001-39\n\nDetails: https:/
 /www.reha-rheinfelden.ch/fit-und-gesund/IPtBehTax
URL:https://www.reha-rheinfelden.ch/fit-und-gesund/IPtBehTax
DTSTART;TZID=Europe/Zurich:20260527T160000
DTEND;TZID=Europe/Zurich:20260527T165500
LOCATION:Therapiebad grosses Becken\, Bereich 11
END:VEVENT
BEGIN:VEVENT
UID:IPtBehTax-7
DTSTAMP:20260421T042249Z
SUMMARY:Aquafit
DESCRIPTION:Fachbereich: Aquafit\nKurs-Nr.: 26.50001-39\n\nDetails: https:/
 /www.reha-rheinfelden.ch/fit-und-gesund/IPtBehTax
URL:https://www.reha-rheinfelden.ch/fit-und-gesund/IPtBehTax
DTSTART;TZID=Europe/Zurich:20260603T160000
DTEND;TZID=Europe/Zurich:20260603T165500
LOCATION:Therapiebad grosses Becken\, Bereich 11
END:VEVENT
BEGIN:VEVENT
UID:IPtBehTax-8
DTSTAMP:20260421T042249Z
SUMMARY:Aquafit
DESCRIPTION:Fachbereich: Aquafit\nKurs-Nr.: 26.50001-39\n\nDetails: https:/
 /www.reha-rheinfelden.ch/fit-und-gesund/IPtBehTax
URL:https://www.reha-rheinfelden.ch/fit-und-gesund/IPtBehTax
DTSTART;TZID=Europe/Zurich:20260610T160000
DTEND;TZID=Europe/Zurich:20260610T165500
LOCATION:Therapiebad grosses Becken\, Bereich 11
END:VEVENT
BEGIN:VEVENT
UID:IPtBehTax-9
DTSTAMP:20260421T042249Z
SUMMARY:Aquafit
DESCRIPTION:Fachbereich: Aquafit\nKurs-Nr.: 26.50001-39\n\nDetails: https:/
 /www.reha-rheinfelden.ch/fit-und-gesund/IPtBehTax
URL:https://www.reha-rheinfelden.ch/fit-und-gesund/IPtBehTax
DTSTART;TZID=Europe/Zurich:20260617T160000
DTEND;TZID=Europe/Zurich:20260617T165500
LOCATION:Therapiebad grosses Becken\, Bereich 11
END:VEVENT
BEGIN:VEVENT
UID:IPtBehTax-10
DTSTAMP:20260421T042249Z
SUMMARY:Aquafit
DESCRIPTION:Fachbereich: Aquafit\nKurs-Nr.: 26.50001-39\n\nDetails: https:/
 /www.reha-rheinfelden.ch/fit-und-gesund/IPtBehTax
URL:https://www.reha-rheinfelden.ch/fit-und-gesund/IPtBehTax
DTSTART;TZID=Europe/Zurich:20260624T160000
DTEND;TZID=Europe/Zurich:20260624T165500
LOCATION:Therapiebad grosses Becken\, Bereich 11
END:VEVENT
BEGIN:VEVENT
UID:IPtBehTax-11
DTSTAMP:20260421T042249Z
SUMMARY:Aquafit
DESCRIPTION:Fachbereich: Aquafit\nKurs-Nr.: 26.50001-39\n\nDetails: https:/
 /www.reha-rheinfelden.ch/fit-und-gesund/IPtBehTax
URL:https://www.reha-rheinfelden.ch/fit-und-gesund/IPtBehTax
DTSTART;TZID=Europe/Zurich:20260701T160000
DTEND;TZID=Europe/Zurich:20260701T165500
LOCATION:Therapiebad grosses Becken\, Bereich 11
END:VEVENT
END:VCALENDAR
