BEGIN:VCALENDAR
PRODID:-//Reha Rheinfelden//Kurse//DE
VERSION:2.0
CALSCALE:GREGORIAN
BEGIN:VEVENT
UID:H0IhAzazC-0
DTSTAMP:20260422T110241Z
SUMMARY:Aquafit
DESCRIPTION:Fachbereich: Aquafit\nKurs-Nr.: 26.50001-48\n\nDetails: https:/
 /www.reha-rheinfelden.ch/fit-und-gesund/H0IhAzazC
URL:https://www.reha-rheinfelden.ch/fit-und-gesund/H0IhAzazC
DTSTART;TZID=Europe/Zurich:20260417T160000
DTEND;TZID=Europe/Zurich:20260417T165500
LOCATION:Therapiebad grosses Becken\, Bereich 11
END:VEVENT
BEGIN:VEVENT
UID:H0IhAzazC-1
DTSTAMP:20260422T110241Z
SUMMARY:Aquafit
DESCRIPTION:Fachbereich: Aquafit\nKurs-Nr.: 26.50001-48\n\nDetails: https:/
 /www.reha-rheinfelden.ch/fit-und-gesund/H0IhAzazC
URL:https://www.reha-rheinfelden.ch/fit-und-gesund/H0IhAzazC
DTSTART;TZID=Europe/Zurich:20260424T160000
DTEND;TZID=Europe/Zurich:20260424T165500
LOCATION:Therapiebad grosses Becken\, Bereich 11
END:VEVENT
BEGIN:VEVENT
UID:H0IhAzazC-2
DTSTAMP:20260422T110241Z
SUMMARY:Aquafit
DESCRIPTION:Fachbereich: Aquafit\nKurs-Nr.: 26.50001-48\n\nDetails: https:/
 /www.reha-rheinfelden.ch/fit-und-gesund/H0IhAzazC
URL:https://www.reha-rheinfelden.ch/fit-und-gesund/H0IhAzazC
DTSTART;TZID=Europe/Zurich:20260501T160000
DTEND;TZID=Europe/Zurich:20260501T165500
LOCATION:Therapiebad grosses Becken\, Bereich 11
END:VEVENT
BEGIN:VEVENT
UID:H0IhAzazC-3
DTSTAMP:20260422T110241Z
SUMMARY:Aquafit
DESCRIPTION:Fachbereich: Aquafit\nKurs-Nr.: 26.50001-48\n\nDetails: https:/
 /www.reha-rheinfelden.ch/fit-und-gesund/H0IhAzazC
URL:https://www.reha-rheinfelden.ch/fit-und-gesund/H0IhAzazC
DTSTART;TZID=Europe/Zurich:20260508T160000
DTEND;TZID=Europe/Zurich:20260508T165500
LOCATION:Therapiebad grosses Becken\, Bereich 11
END:VEVENT
BEGIN:VEVENT
UID:H0IhAzazC-4
DTSTAMP:20260422T110241Z
SUMMARY:Aquafit
DESCRIPTION:Fachbereich: Aquafit\nKurs-Nr.: 26.50001-48\n\nDetails: https:/
 /www.reha-rheinfelden.ch/fit-und-gesund/H0IhAzazC
URL:https://www.reha-rheinfelden.ch/fit-und-gesund/H0IhAzazC
DTSTART;TZID=Europe/Zurich:20260515T160000
DTEND;TZID=Europe/Zurich:20260515T165500
LOCATION:Therapiebad grosses Becken\, Bereich 11
END:VEVENT
BEGIN:VEVENT
UID:H0IhAzazC-5
DTSTAMP:20260422T110241Z
SUMMARY:Aquafit
DESCRIPTION:Fachbereich: Aquafit\nKurs-Nr.: 26.50001-48\n\nDetails: https:/
 /www.reha-rheinfelden.ch/fit-und-gesund/H0IhAzazC
URL:https://www.reha-rheinfelden.ch/fit-und-gesund/H0IhAzazC
DTSTART;TZID=Europe/Zurich:20260522T160000
DTEND;TZID=Europe/Zurich:20260522T165500
LOCATION:Therapiebad grosses Becken\, Bereich 11
END:VEVENT
BEGIN:VEVENT
UID:H0IhAzazC-6
DTSTAMP:20260422T110241Z
SUMMARY:Aquafit
DESCRIPTION:Fachbereich: Aquafit\nKurs-Nr.: 26.50001-48\n\nDetails: https:/
 /www.reha-rheinfelden.ch/fit-und-gesund/H0IhAzazC
URL:https://www.reha-rheinfelden.ch/fit-und-gesund/H0IhAzazC
DTSTART;TZID=Europe/Zurich:20260529T160000
DTEND;TZID=Europe/Zurich:20260529T165500
LOCATION:Therapiebad grosses Becken\, Bereich 11
END:VEVENT
BEGIN:VEVENT
UID:H0IhAzazC-7
DTSTAMP:20260422T110241Z
SUMMARY:Aquafit
DESCRIPTION:Fachbereich: Aquafit\nKurs-Nr.: 26.50001-48\n\nDetails: https:/
 /www.reha-rheinfelden.ch/fit-und-gesund/H0IhAzazC
URL:https://www.reha-rheinfelden.ch/fit-und-gesund/H0IhAzazC
DTSTART;TZID=Europe/Zurich:20260605T160000
DTEND;TZID=Europe/Zurich:20260605T165500
LOCATION:Therapiebad grosses Becken\, Bereich 11
END:VEVENT
BEGIN:VEVENT
UID:H0IhAzazC-8
DTSTAMP:20260422T110241Z
SUMMARY:Aquafit
DESCRIPTION:Fachbereich: Aquafit\nKurs-Nr.: 26.50001-48\n\nDetails: https:/
 /www.reha-rheinfelden.ch/fit-und-gesund/H0IhAzazC
URL:https://www.reha-rheinfelden.ch/fit-und-gesund/H0IhAzazC
DTSTART;TZID=Europe/Zurich:20260612T160000
DTEND;TZID=Europe/Zurich:20260612T165500
LOCATION:Therapiebad grosses Becken\, Bereich 11
END:VEVENT
BEGIN:VEVENT
UID:H0IhAzazC-9
DTSTAMP:20260422T110241Z
SUMMARY:Aquafit
DESCRIPTION:Fachbereich: Aquafit\nKurs-Nr.: 26.50001-48\n\nDetails: https:/
 /www.reha-rheinfelden.ch/fit-und-gesund/H0IhAzazC
URL:https://www.reha-rheinfelden.ch/fit-und-gesund/H0IhAzazC
DTSTART;TZID=Europe/Zurich:20260619T160000
DTEND;TZID=Europe/Zurich:20260619T165500
LOCATION:Therapiebad grosses Becken\, Bereich 11
END:VEVENT
BEGIN:VEVENT
UID:H0IhAzazC-10
DTSTAMP:20260422T110241Z
SUMMARY:Aquafit
DESCRIPTION:Fachbereich: Aquafit\nKurs-Nr.: 26.50001-48\n\nDetails: https:/
 /www.reha-rheinfelden.ch/fit-und-gesund/H0IhAzazC
URL:https://www.reha-rheinfelden.ch/fit-und-gesund/H0IhAzazC
DTSTART;TZID=Europe/Zurich:20260626T160000
DTEND;TZID=Europe/Zurich:20260626T165500
LOCATION:Therapiebad grosses Becken\, Bereich 11
END:VEVENT
BEGIN:VEVENT
UID:H0IhAzazC-11
DTSTAMP:20260422T110241Z
SUMMARY:Aquafit
DESCRIPTION:Fachbereich: Aquafit\nKurs-Nr.: 26.50001-48\n\nDetails: https:/
 /www.reha-rheinfelden.ch/fit-und-gesund/H0IhAzazC
URL:https://www.reha-rheinfelden.ch/fit-und-gesund/H0IhAzazC
DTSTART;TZID=Europe/Zurich:20260703T160000
DTEND;TZID=Europe/Zurich:20260703T165500
LOCATION:Therapiebad grosses Becken\, Bereich 11
END:VEVENT
END:VCALENDAR
