BEGIN:VCALENDAR
PRODID:-//Reha Rheinfelden//Kurse//DE
VERSION:2.0
CALSCALE:GREGORIAN
BEGIN:VEVENT
UID:EXJZiTK0-0
DTSTAMP:20260422T104100Z
SUMMARY:Aquafit
DESCRIPTION:Fachbereich: Aquafit\nKurs-Nr.: 26.50001-47\n\nDetails: https:/
 /www.reha-rheinfelden.ch/fit-und-gesund/EXJZiTK0
URL:https://www.reha-rheinfelden.ch/fit-und-gesund/EXJZiTK0
DTSTART;TZID=Europe/Zurich:20260416T200000
DTEND;TZID=Europe/Zurich:20260416T205500
LOCATION:Therapiebad grosses Becken\, Bereich 11
END:VEVENT
BEGIN:VEVENT
UID:EXJZiTK0-1
DTSTAMP:20260422T104100Z
SUMMARY:Aquafit
DESCRIPTION:Fachbereich: Aquafit\nKurs-Nr.: 26.50001-47\n\nDetails: https:/
 /www.reha-rheinfelden.ch/fit-und-gesund/EXJZiTK0
URL:https://www.reha-rheinfelden.ch/fit-und-gesund/EXJZiTK0
DTSTART;TZID=Europe/Zurich:20260423T200000
DTEND;TZID=Europe/Zurich:20260423T205500
LOCATION:Therapiebad grosses Becken\, Bereich 11
END:VEVENT
BEGIN:VEVENT
UID:EXJZiTK0-2
DTSTAMP:20260422T104100Z
SUMMARY:Aquafit
DESCRIPTION:Fachbereich: Aquafit\nKurs-Nr.: 26.50001-47\n\nDetails: https:/
 /www.reha-rheinfelden.ch/fit-und-gesund/EXJZiTK0
URL:https://www.reha-rheinfelden.ch/fit-und-gesund/EXJZiTK0
DTSTART;TZID=Europe/Zurich:20260430T200000
DTEND;TZID=Europe/Zurich:20260430T205500
LOCATION:Therapiebad grosses Becken\, Bereich 11
END:VEVENT
BEGIN:VEVENT
UID:EXJZiTK0-3
DTSTAMP:20260422T104100Z
SUMMARY:Aquafit
DESCRIPTION:Fachbereich: Aquafit\nKurs-Nr.: 26.50001-47\n\nDetails: https:/
 /www.reha-rheinfelden.ch/fit-und-gesund/EXJZiTK0
URL:https://www.reha-rheinfelden.ch/fit-und-gesund/EXJZiTK0
DTSTART;TZID=Europe/Zurich:20260507T200000
DTEND;TZID=Europe/Zurich:20260507T205500
LOCATION:Therapiebad grosses Becken\, Bereich 11
END:VEVENT
BEGIN:VEVENT
UID:EXJZiTK0-4
DTSTAMP:20260422T104100Z
SUMMARY:Aquafit
DESCRIPTION:Fachbereich: Aquafit\nKurs-Nr.: 26.50001-47\n\nDetails: https:/
 /www.reha-rheinfelden.ch/fit-und-gesund/EXJZiTK0
URL:https://www.reha-rheinfelden.ch/fit-und-gesund/EXJZiTK0
DTSTART;TZID=Europe/Zurich:20260521T200000
DTEND;TZID=Europe/Zurich:20260521T205500
LOCATION:Therapiebad grosses Becken\, Bereich 11
END:VEVENT
BEGIN:VEVENT
UID:EXJZiTK0-5
DTSTAMP:20260422T104100Z
SUMMARY:Aquafit
DESCRIPTION:Fachbereich: Aquafit\nKurs-Nr.: 26.50001-47\n\nDetails: https:/
 /www.reha-rheinfelden.ch/fit-und-gesund/EXJZiTK0
URL:https://www.reha-rheinfelden.ch/fit-und-gesund/EXJZiTK0
DTSTART;TZID=Europe/Zurich:20260528T200000
DTEND;TZID=Europe/Zurich:20260528T205500
LOCATION:Therapiebad grosses Becken\, Bereich 11
END:VEVENT
BEGIN:VEVENT
UID:EXJZiTK0-6
DTSTAMP:20260422T104100Z
SUMMARY:Aquafit
DESCRIPTION:Fachbereich: Aquafit\nKurs-Nr.: 26.50001-47\n\nDetails: https:/
 /www.reha-rheinfelden.ch/fit-und-gesund/EXJZiTK0
URL:https://www.reha-rheinfelden.ch/fit-und-gesund/EXJZiTK0
DTSTART;TZID=Europe/Zurich:20260604T200000
DTEND;TZID=Europe/Zurich:20260604T205500
LOCATION:Therapiebad grosses Becken\, Bereich 11
END:VEVENT
BEGIN:VEVENT
UID:EXJZiTK0-7
DTSTAMP:20260422T104100Z
SUMMARY:Aquafit
DESCRIPTION:Fachbereich: Aquafit\nKurs-Nr.: 26.50001-47\n\nDetails: https:/
 /www.reha-rheinfelden.ch/fit-und-gesund/EXJZiTK0
URL:https://www.reha-rheinfelden.ch/fit-und-gesund/EXJZiTK0
DTSTART;TZID=Europe/Zurich:20260611T200000
DTEND;TZID=Europe/Zurich:20260611T205500
LOCATION:Therapiebad grosses Becken\, Bereich 11
END:VEVENT
BEGIN:VEVENT
UID:EXJZiTK0-8
DTSTAMP:20260422T104100Z
SUMMARY:Aquafit
DESCRIPTION:Fachbereich: Aquafit\nKurs-Nr.: 26.50001-47\n\nDetails: https:/
 /www.reha-rheinfelden.ch/fit-und-gesund/EXJZiTK0
URL:https://www.reha-rheinfelden.ch/fit-und-gesund/EXJZiTK0
DTSTART;TZID=Europe/Zurich:20260618T200000
DTEND;TZID=Europe/Zurich:20260618T205500
LOCATION:Therapiebad grosses Becken\, Bereich 11
END:VEVENT
BEGIN:VEVENT
UID:EXJZiTK0-9
DTSTAMP:20260422T104100Z
SUMMARY:Aquafit
DESCRIPTION:Fachbereich: Aquafit\nKurs-Nr.: 26.50001-47\n\nDetails: https:/
 /www.reha-rheinfelden.ch/fit-und-gesund/EXJZiTK0
URL:https://www.reha-rheinfelden.ch/fit-und-gesund/EXJZiTK0
DTSTART;TZID=Europe/Zurich:20260625T200000
DTEND;TZID=Europe/Zurich:20260625T205500
LOCATION:Therapiebad grosses Becken\, Bereich 11
END:VEVENT
BEGIN:VEVENT
UID:EXJZiTK0-10
DTSTAMP:20260422T104100Z
SUMMARY:Aquafit
DESCRIPTION:Fachbereich: Aquafit\nKurs-Nr.: 26.50001-47\n\nDetails: https:/
 /www.reha-rheinfelden.ch/fit-und-gesund/EXJZiTK0
URL:https://www.reha-rheinfelden.ch/fit-und-gesund/EXJZiTK0
DTSTART;TZID=Europe/Zurich:20260702T200000
DTEND;TZID=Europe/Zurich:20260702T205500
LOCATION:Therapiebad grosses Becken\, Bereich 11
END:VEVENT
END:VCALENDAR
