BEGIN:VCALENDAR
PRODID:-//Reha Rheinfelden//Kurse//DE
VERSION:2.0
CALSCALE:GREGORIAN
BEGIN:VEVENT
UID:DAueazOUU-0
DTSTAMP:20260423T211845Z
SUMMARY:Latin Fit
DESCRIPTION:Fachbereich: Latin Fit\nKurs-Nr.: 26.50015-07\n\nDetails: https
 ://www.reha-rheinfelden.ch/fit-und-gesund/DAueazOUU
URL:https://www.reha-rheinfelden.ch/fit-und-gesund/DAueazOUU
DTSTART;TZID=Europe/Zurich:20260825T171500
DTEND;TZID=Europe/Zurich:20260825T181000
LOCATION:Turnhalle\, Bereich 11
END:VEVENT
BEGIN:VEVENT
UID:DAueazOUU-1
DTSTAMP:20260423T211845Z
SUMMARY:Latin Fit
DESCRIPTION:Fachbereich: Latin Fit\nKurs-Nr.: 26.50015-07\n\nDetails: https
 ://www.reha-rheinfelden.ch/fit-und-gesund/DAueazOUU
URL:https://www.reha-rheinfelden.ch/fit-und-gesund/DAueazOUU
DTSTART;TZID=Europe/Zurich:20260901T171500
DTEND;TZID=Europe/Zurich:20260901T181000
LOCATION:Turnhalle\, Bereich 11
END:VEVENT
BEGIN:VEVENT
UID:DAueazOUU-2
DTSTAMP:20260423T211845Z
SUMMARY:Latin Fit
DESCRIPTION:Fachbereich: Latin Fit\nKurs-Nr.: 26.50015-07\n\nDetails: https
 ://www.reha-rheinfelden.ch/fit-und-gesund/DAueazOUU
URL:https://www.reha-rheinfelden.ch/fit-und-gesund/DAueazOUU
DTSTART;TZID=Europe/Zurich:20260908T171500
DTEND;TZID=Europe/Zurich:20260908T181000
LOCATION:Turnhalle\, Bereich 11
END:VEVENT
BEGIN:VEVENT
UID:DAueazOUU-3
DTSTAMP:20260423T211845Z
SUMMARY:Latin Fit
DESCRIPTION:Fachbereich: Latin Fit\nKurs-Nr.: 26.50015-07\n\nDetails: https
 ://www.reha-rheinfelden.ch/fit-und-gesund/DAueazOUU
URL:https://www.reha-rheinfelden.ch/fit-und-gesund/DAueazOUU
DTSTART;TZID=Europe/Zurich:20260915T171500
DTEND;TZID=Europe/Zurich:20260915T181000
LOCATION:Turnhalle\, Bereich 11
END:VEVENT
BEGIN:VEVENT
UID:DAueazOUU-4
DTSTAMP:20260423T211845Z
SUMMARY:Latin Fit
DESCRIPTION:Fachbereich: Latin Fit\nKurs-Nr.: 26.50015-07\n\nDetails: https
 ://www.reha-rheinfelden.ch/fit-und-gesund/DAueazOUU
URL:https://www.reha-rheinfelden.ch/fit-und-gesund/DAueazOUU
DTSTART;TZID=Europe/Zurich:20260922T171500
DTEND;TZID=Europe/Zurich:20260922T181000
LOCATION:Turnhalle\, Bereich 11
END:VEVENT
BEGIN:VEVENT
UID:DAueazOUU-5
DTSTAMP:20260423T211845Z
SUMMARY:Latin Fit
DESCRIPTION:Fachbereich: Latin Fit\nKurs-Nr.: 26.50015-07\n\nDetails: https
 ://www.reha-rheinfelden.ch/fit-und-gesund/DAueazOUU
URL:https://www.reha-rheinfelden.ch/fit-und-gesund/DAueazOUU
DTSTART;TZID=Europe/Zurich:20261020T171500
DTEND;TZID=Europe/Zurich:20261020T181000
LOCATION:Turnhalle\, Bereich 11
END:VEVENT
BEGIN:VEVENT
UID:DAueazOUU-6
DTSTAMP:20260423T211845Z
SUMMARY:Latin Fit
DESCRIPTION:Fachbereich: Latin Fit\nKurs-Nr.: 26.50015-07\n\nDetails: https
 ://www.reha-rheinfelden.ch/fit-und-gesund/DAueazOUU
URL:https://www.reha-rheinfelden.ch/fit-und-gesund/DAueazOUU
DTSTART;TZID=Europe/Zurich:20261027T171500
DTEND;TZID=Europe/Zurich:20261027T181000
LOCATION:Turnhalle\, Bereich 11
END:VEVENT
BEGIN:VEVENT
UID:DAueazOUU-7
DTSTAMP:20260423T211845Z
SUMMARY:Latin Fit
DESCRIPTION:Fachbereich: Latin Fit\nKurs-Nr.: 26.50015-07\n\nDetails: https
 ://www.reha-rheinfelden.ch/fit-und-gesund/DAueazOUU
URL:https://www.reha-rheinfelden.ch/fit-und-gesund/DAueazOUU
DTSTART;TZID=Europe/Zurich:20261103T171500
DTEND;TZID=Europe/Zurich:20261103T181000
LOCATION:Turnhalle\, Bereich 11
END:VEVENT
BEGIN:VEVENT
UID:DAueazOUU-8
DTSTAMP:20260423T211845Z
SUMMARY:Latin Fit
DESCRIPTION:Fachbereich: Latin Fit\nKurs-Nr.: 26.50015-07\n\nDetails: https
 ://www.reha-rheinfelden.ch/fit-und-gesund/DAueazOUU
URL:https://www.reha-rheinfelden.ch/fit-und-gesund/DAueazOUU
DTSTART;TZID=Europe/Zurich:20261110T171500
DTEND;TZID=Europe/Zurich:20261110T181000
LOCATION:Turnhalle\, Bereich 11
END:VEVENT
BEGIN:VEVENT
UID:DAueazOUU-9
DTSTAMP:20260423T211845Z
SUMMARY:Latin Fit
DESCRIPTION:Fachbereich: Latin Fit\nKurs-Nr.: 26.50015-07\n\nDetails: https
 ://www.reha-rheinfelden.ch/fit-und-gesund/DAueazOUU
URL:https://www.reha-rheinfelden.ch/fit-und-gesund/DAueazOUU
DTSTART;TZID=Europe/Zurich:20261117T171500
DTEND;TZID=Europe/Zurich:20261117T181000
LOCATION:Turnhalle\, Bereich 11
END:VEVENT
BEGIN:VEVENT
UID:DAueazOUU-10
DTSTAMP:20260423T211845Z
SUMMARY:Latin Fit
DESCRIPTION:Fachbereich: Latin Fit\nKurs-Nr.: 26.50015-07\n\nDetails: https
 ://www.reha-rheinfelden.ch/fit-und-gesund/DAueazOUU
URL:https://www.reha-rheinfelden.ch/fit-und-gesund/DAueazOUU
DTSTART;TZID=Europe/Zurich:20261124T171500
DTEND;TZID=Europe/Zurich:20261124T181000
LOCATION:Turnhalle\, Bereich 11
END:VEVENT
BEGIN:VEVENT
UID:DAueazOUU-11
DTSTAMP:20260423T211845Z
SUMMARY:Latin Fit
DESCRIPTION:Fachbereich: Latin Fit\nKurs-Nr.: 26.50015-07\n\nDetails: https
 ://www.reha-rheinfelden.ch/fit-und-gesund/DAueazOUU
URL:https://www.reha-rheinfelden.ch/fit-und-gesund/DAueazOUU
DTSTART;TZID=Europe/Zurich:20261201T171500
DTEND;TZID=Europe/Zurich:20261201T181000
LOCATION:Turnhalle\, Bereich 11
END:VEVENT
BEGIN:VEVENT
UID:DAueazOUU-12
DTSTAMP:20260423T211845Z
SUMMARY:Latin Fit
DESCRIPTION:Fachbereich: Latin Fit\nKurs-Nr.: 26.50015-07\n\nDetails: https
 ://www.reha-rheinfelden.ch/fit-und-gesund/DAueazOUU
URL:https://www.reha-rheinfelden.ch/fit-und-gesund/DAueazOUU
DTSTART;TZID=Europe/Zurich:20261208T171500
DTEND;TZID=Europe/Zurich:20261208T181000
LOCATION:Turnhalle\, Bereich 11
END:VEVENT
BEGIN:VEVENT
UID:DAueazOUU-13
DTSTAMP:20260423T211845Z
SUMMARY:Latin Fit
DESCRIPTION:Fachbereich: Latin Fit\nKurs-Nr.: 26.50015-07\n\nDetails: https
 ://www.reha-rheinfelden.ch/fit-und-gesund/DAueazOUU
URL:https://www.reha-rheinfelden.ch/fit-und-gesund/DAueazOUU
DTSTART;TZID=Europe/Zurich:20261215T171500
DTEND;TZID=Europe/Zurich:20261215T181000
LOCATION:Turnhalle\, Bereich 11
END:VEVENT
END:VCALENDAR
