BEGIN:VCALENDAR
PRODID:-//Reha Rheinfelden//Kurse//DE
VERSION:2.0
CALSCALE:GREGORIAN
BEGIN:VEVENT
UID:AuAKx75a-0
DTSTAMP:20260424T100102Z
SUMMARY:Aquafit
DESCRIPTION:Fachbereich: Aquafit\nKurs-Nr.: 26.50001-40\n\nDetails: https:/
 /www.reha-rheinfelden.ch/fit-und-gesund/AuAKx75a
URL:https://www.reha-rheinfelden.ch/fit-und-gesund/AuAKx75a
DTSTART;TZID=Europe/Zurich:20260415T170000
DTEND;TZID=Europe/Zurich:20260415T175500
LOCATION:Therapiebad grosses Becken\, Bereich 11
END:VEVENT
BEGIN:VEVENT
UID:AuAKx75a-1
DTSTAMP:20260424T100102Z
SUMMARY:Aquafit
DESCRIPTION:Fachbereich: Aquafit\nKurs-Nr.: 26.50001-40\n\nDetails: https:/
 /www.reha-rheinfelden.ch/fit-und-gesund/AuAKx75a
URL:https://www.reha-rheinfelden.ch/fit-und-gesund/AuAKx75a
DTSTART;TZID=Europe/Zurich:20260422T170000
DTEND;TZID=Europe/Zurich:20260422T175500
LOCATION:Therapiebad grosses Becken\, Bereich 11
END:VEVENT
BEGIN:VEVENT
UID:AuAKx75a-2
DTSTAMP:20260424T100102Z
SUMMARY:Aquafit
DESCRIPTION:Fachbereich: Aquafit\nKurs-Nr.: 26.50001-40\n\nDetails: https:/
 /www.reha-rheinfelden.ch/fit-und-gesund/AuAKx75a
URL:https://www.reha-rheinfelden.ch/fit-und-gesund/AuAKx75a
DTSTART;TZID=Europe/Zurich:20260429T170000
DTEND;TZID=Europe/Zurich:20260429T175500
LOCATION:Therapiebad grosses Becken\, Bereich 11
END:VEVENT
BEGIN:VEVENT
UID:AuAKx75a-3
DTSTAMP:20260424T100102Z
SUMMARY:Aquafit
DESCRIPTION:Fachbereich: Aquafit\nKurs-Nr.: 26.50001-40\n\nDetails: https:/
 /www.reha-rheinfelden.ch/fit-und-gesund/AuAKx75a
URL:https://www.reha-rheinfelden.ch/fit-und-gesund/AuAKx75a
DTSTART;TZID=Europe/Zurich:20260506T170000
DTEND;TZID=Europe/Zurich:20260506T175500
LOCATION:Therapiebad grosses Becken\, Bereich 11
END:VEVENT
BEGIN:VEVENT
UID:AuAKx75a-4
DTSTAMP:20260424T100102Z
SUMMARY:Aquafit
DESCRIPTION:Fachbereich: Aquafit\nKurs-Nr.: 26.50001-40\n\nDetails: https:/
 /www.reha-rheinfelden.ch/fit-und-gesund/AuAKx75a
URL:https://www.reha-rheinfelden.ch/fit-und-gesund/AuAKx75a
DTSTART;TZID=Europe/Zurich:20260513T170000
DTEND;TZID=Europe/Zurich:20260513T175500
LOCATION:Therapiebad grosses Becken\, Bereich 11
END:VEVENT
BEGIN:VEVENT
UID:AuAKx75a-5
DTSTAMP:20260424T100102Z
SUMMARY:Aquafit
DESCRIPTION:Fachbereich: Aquafit\nKurs-Nr.: 26.50001-40\n\nDetails: https:/
 /www.reha-rheinfelden.ch/fit-und-gesund/AuAKx75a
URL:https://www.reha-rheinfelden.ch/fit-und-gesund/AuAKx75a
DTSTART;TZID=Europe/Zurich:20260520T170000
DTEND;TZID=Europe/Zurich:20260520T175500
LOCATION:Therapiebad grosses Becken\, Bereich 11
END:VEVENT
BEGIN:VEVENT
UID:AuAKx75a-6
DTSTAMP:20260424T100102Z
SUMMARY:Aquafit
DESCRIPTION:Fachbereich: Aquafit\nKurs-Nr.: 26.50001-40\n\nDetails: https:/
 /www.reha-rheinfelden.ch/fit-und-gesund/AuAKx75a
URL:https://www.reha-rheinfelden.ch/fit-und-gesund/AuAKx75a
DTSTART;TZID=Europe/Zurich:20260527T170000
DTEND;TZID=Europe/Zurich:20260527T175500
LOCATION:Therapiebad grosses Becken\, Bereich 11
END:VEVENT
BEGIN:VEVENT
UID:AuAKx75a-7
DTSTAMP:20260424T100102Z
SUMMARY:Aquafit
DESCRIPTION:Fachbereich: Aquafit\nKurs-Nr.: 26.50001-40\n\nDetails: https:/
 /www.reha-rheinfelden.ch/fit-und-gesund/AuAKx75a
URL:https://www.reha-rheinfelden.ch/fit-und-gesund/AuAKx75a
DTSTART;TZID=Europe/Zurich:20260603T170000
DTEND;TZID=Europe/Zurich:20260603T175500
LOCATION:Therapiebad grosses Becken\, Bereich 11
END:VEVENT
BEGIN:VEVENT
UID:AuAKx75a-8
DTSTAMP:20260424T100102Z
SUMMARY:Aquafit
DESCRIPTION:Fachbereich: Aquafit\nKurs-Nr.: 26.50001-40\n\nDetails: https:/
 /www.reha-rheinfelden.ch/fit-und-gesund/AuAKx75a
URL:https://www.reha-rheinfelden.ch/fit-und-gesund/AuAKx75a
DTSTART;TZID=Europe/Zurich:20260610T170000
DTEND;TZID=Europe/Zurich:20260610T175500
LOCATION:Therapiebad grosses Becken\, Bereich 11
END:VEVENT
BEGIN:VEVENT
UID:AuAKx75a-9
DTSTAMP:20260424T100102Z
SUMMARY:Aquafit
DESCRIPTION:Fachbereich: Aquafit\nKurs-Nr.: 26.50001-40\n\nDetails: https:/
 /www.reha-rheinfelden.ch/fit-und-gesund/AuAKx75a
URL:https://www.reha-rheinfelden.ch/fit-und-gesund/AuAKx75a
DTSTART;TZID=Europe/Zurich:20260617T170000
DTEND;TZID=Europe/Zurich:20260617T175500
LOCATION:Therapiebad grosses Becken\, Bereich 11
END:VEVENT
BEGIN:VEVENT
UID:AuAKx75a-10
DTSTAMP:20260424T100102Z
SUMMARY:Aquafit
DESCRIPTION:Fachbereich: Aquafit\nKurs-Nr.: 26.50001-40\n\nDetails: https:/
 /www.reha-rheinfelden.ch/fit-und-gesund/AuAKx75a
URL:https://www.reha-rheinfelden.ch/fit-und-gesund/AuAKx75a
DTSTART;TZID=Europe/Zurich:20260624T170000
DTEND;TZID=Europe/Zurich:20260624T175500
LOCATION:Therapiebad grosses Becken\, Bereich 11
END:VEVENT
BEGIN:VEVENT
UID:AuAKx75a-11
DTSTAMP:20260424T100102Z
SUMMARY:Aquafit
DESCRIPTION:Fachbereich: Aquafit\nKurs-Nr.: 26.50001-40\n\nDetails: https:/
 /www.reha-rheinfelden.ch/fit-und-gesund/AuAKx75a
URL:https://www.reha-rheinfelden.ch/fit-und-gesund/AuAKx75a
DTSTART;TZID=Europe/Zurich:20260701T170000
DTEND;TZID=Europe/Zurich:20260701T175500
LOCATION:Therapiebad grosses Becken\, Bereich 11
END:VEVENT
END:VCALENDAR
