BEGIN:VCALENDAR
PRODID:-//Reha Rheinfelden//Kurse//DE
VERSION:2.0
CALSCALE:GREGORIAN
BEGIN:VEVENT
UID:9IrOjbwc-0
DTSTAMP:20260422T111639Z
SUMMARY:Aquafit
DESCRIPTION:Fachbereich: Aquafit\nKurs-Nr.: 26.50001-35\n\nDetails: https:/
 /www.reha-rheinfelden.ch/fit-und-gesund/9IrOjbwc
URL:https://www.reha-rheinfelden.ch/fit-und-gesund/9IrOjbwc
DTSTART;TZID=Europe/Zurich:20260414T190000
DTEND;TZID=Europe/Zurich:20260414T195500
LOCATION:Therapiebad grosses Becken\, Bereich 11
END:VEVENT
BEGIN:VEVENT
UID:9IrOjbwc-1
DTSTAMP:20260422T111639Z
SUMMARY:Aquafit
DESCRIPTION:Fachbereich: Aquafit\nKurs-Nr.: 26.50001-35\n\nDetails: https:/
 /www.reha-rheinfelden.ch/fit-und-gesund/9IrOjbwc
URL:https://www.reha-rheinfelden.ch/fit-und-gesund/9IrOjbwc
DTSTART;TZID=Europe/Zurich:20260421T190000
DTEND;TZID=Europe/Zurich:20260421T195500
LOCATION:Therapiebad grosses Becken\, Bereich 11
END:VEVENT
BEGIN:VEVENT
UID:9IrOjbwc-2
DTSTAMP:20260422T111639Z
SUMMARY:Aquafit
DESCRIPTION:Fachbereich: Aquafit\nKurs-Nr.: 26.50001-35\n\nDetails: https:/
 /www.reha-rheinfelden.ch/fit-und-gesund/9IrOjbwc
URL:https://www.reha-rheinfelden.ch/fit-und-gesund/9IrOjbwc
DTSTART;TZID=Europe/Zurich:20260428T190000
DTEND;TZID=Europe/Zurich:20260428T195500
LOCATION:Therapiebad grosses Becken\, Bereich 11
END:VEVENT
BEGIN:VEVENT
UID:9IrOjbwc-3
DTSTAMP:20260422T111639Z
SUMMARY:Aquafit
DESCRIPTION:Fachbereich: Aquafit\nKurs-Nr.: 26.50001-35\n\nDetails: https:/
 /www.reha-rheinfelden.ch/fit-und-gesund/9IrOjbwc
URL:https://www.reha-rheinfelden.ch/fit-und-gesund/9IrOjbwc
DTSTART;TZID=Europe/Zurich:20260505T190000
DTEND;TZID=Europe/Zurich:20260505T195500
LOCATION:Therapiebad grosses Becken\, Bereich 11
END:VEVENT
BEGIN:VEVENT
UID:9IrOjbwc-4
DTSTAMP:20260422T111639Z
SUMMARY:Aquafit
DESCRIPTION:Fachbereich: Aquafit\nKurs-Nr.: 26.50001-35\n\nDetails: https:/
 /www.reha-rheinfelden.ch/fit-und-gesund/9IrOjbwc
URL:https://www.reha-rheinfelden.ch/fit-und-gesund/9IrOjbwc
DTSTART;TZID=Europe/Zurich:20260512T190000
DTEND;TZID=Europe/Zurich:20260512T195500
LOCATION:Therapiebad grosses Becken\, Bereich 11
END:VEVENT
BEGIN:VEVENT
UID:9IrOjbwc-5
DTSTAMP:20260422T111639Z
SUMMARY:Aquafit
DESCRIPTION:Fachbereich: Aquafit\nKurs-Nr.: 26.50001-35\n\nDetails: https:/
 /www.reha-rheinfelden.ch/fit-und-gesund/9IrOjbwc
URL:https://www.reha-rheinfelden.ch/fit-und-gesund/9IrOjbwc
DTSTART;TZID=Europe/Zurich:20260519T190000
DTEND;TZID=Europe/Zurich:20260519T195500
LOCATION:Therapiebad grosses Becken\, Bereich 11
END:VEVENT
BEGIN:VEVENT
UID:9IrOjbwc-6
DTSTAMP:20260422T111639Z
SUMMARY:Aquafit
DESCRIPTION:Fachbereich: Aquafit\nKurs-Nr.: 26.50001-35\n\nDetails: https:/
 /www.reha-rheinfelden.ch/fit-und-gesund/9IrOjbwc
URL:https://www.reha-rheinfelden.ch/fit-und-gesund/9IrOjbwc
DTSTART;TZID=Europe/Zurich:20260526T190000
DTEND;TZID=Europe/Zurich:20260526T195500
LOCATION:Therapiebad grosses Becken\, Bereich 11
END:VEVENT
BEGIN:VEVENT
UID:9IrOjbwc-7
DTSTAMP:20260422T111639Z
SUMMARY:Aquafit
DESCRIPTION:Fachbereich: Aquafit\nKurs-Nr.: 26.50001-35\n\nDetails: https:/
 /www.reha-rheinfelden.ch/fit-und-gesund/9IrOjbwc
URL:https://www.reha-rheinfelden.ch/fit-und-gesund/9IrOjbwc
DTSTART;TZID=Europe/Zurich:20260602T190000
DTEND;TZID=Europe/Zurich:20260602T195500
LOCATION:Therapiebad grosses Becken\, Bereich 11
END:VEVENT
BEGIN:VEVENT
UID:9IrOjbwc-8
DTSTAMP:20260422T111639Z
SUMMARY:Aquafit
DESCRIPTION:Fachbereich: Aquafit\nKurs-Nr.: 26.50001-35\n\nDetails: https:/
 /www.reha-rheinfelden.ch/fit-und-gesund/9IrOjbwc
URL:https://www.reha-rheinfelden.ch/fit-und-gesund/9IrOjbwc
DTSTART;TZID=Europe/Zurich:20260609T190000
DTEND;TZID=Europe/Zurich:20260609T195500
LOCATION:Therapiebad grosses Becken\, Bereich 11
END:VEVENT
BEGIN:VEVENT
UID:9IrOjbwc-9
DTSTAMP:20260422T111639Z
SUMMARY:Aquafit
DESCRIPTION:Fachbereich: Aquafit\nKurs-Nr.: 26.50001-35\n\nDetails: https:/
 /www.reha-rheinfelden.ch/fit-und-gesund/9IrOjbwc
URL:https://www.reha-rheinfelden.ch/fit-und-gesund/9IrOjbwc
DTSTART;TZID=Europe/Zurich:20260616T190000
DTEND;TZID=Europe/Zurich:20260616T195500
LOCATION:Therapiebad grosses Becken\, Bereich 11
END:VEVENT
BEGIN:VEVENT
UID:9IrOjbwc-10
DTSTAMP:20260422T111639Z
SUMMARY:Aquafit
DESCRIPTION:Fachbereich: Aquafit\nKurs-Nr.: 26.50001-35\n\nDetails: https:/
 /www.reha-rheinfelden.ch/fit-und-gesund/9IrOjbwc
URL:https://www.reha-rheinfelden.ch/fit-und-gesund/9IrOjbwc
DTSTART;TZID=Europe/Zurich:20260623T190000
DTEND;TZID=Europe/Zurich:20260623T195500
LOCATION:Therapiebad grosses Becken\, Bereich 11
END:VEVENT
BEGIN:VEVENT
UID:9IrOjbwc-11
DTSTAMP:20260422T111639Z
SUMMARY:Aquafit
DESCRIPTION:Fachbereich: Aquafit\nKurs-Nr.: 26.50001-35\n\nDetails: https:/
 /www.reha-rheinfelden.ch/fit-und-gesund/9IrOjbwc
URL:https://www.reha-rheinfelden.ch/fit-und-gesund/9IrOjbwc
DTSTART;TZID=Europe/Zurich:20260630T190000
DTEND;TZID=Europe/Zurich:20260630T195500
LOCATION:Therapiebad grosses Becken\, Bereich 11
END:VEVENT
END:VCALENDAR
