BEGIN:VCALENDAR
PRODID:-//Reha Rheinfelden//Kurse//DE
VERSION:2.0
CALSCALE:GREGORIAN
BEGIN:VEVENT
UID:6sbDazbhR-0
DTSTAMP:20260423T205306Z
SUMMARY:Fit 60+
DESCRIPTION:Fachbereich: Fit 60+\nKurs-Nr.: 26.50007-23\n\nDetails: https:/
 /www.reha-rheinfelden.ch/fit-und-gesund/6sbDazbhR
URL:https://www.reha-rheinfelden.ch/fit-und-gesund/6sbDazbhR
DTSTART;TZID=Europe/Zurich:20260902T091500
DTEND;TZID=Europe/Zurich:20260902T101000
LOCATION:Turnhalle\, Bereich 11
END:VEVENT
BEGIN:VEVENT
UID:6sbDazbhR-1
DTSTAMP:20260423T205306Z
SUMMARY:Fit 60+
DESCRIPTION:Fachbereich: Fit 60+\nKurs-Nr.: 26.50007-23\n\nDetails: https:/
 /www.reha-rheinfelden.ch/fit-und-gesund/6sbDazbhR
URL:https://www.reha-rheinfelden.ch/fit-und-gesund/6sbDazbhR
DTSTART;TZID=Europe/Zurich:20260909T091500
DTEND;TZID=Europe/Zurich:20260909T101000
LOCATION:Turnhalle\, Bereich 11
END:VEVENT
BEGIN:VEVENT
UID:6sbDazbhR-2
DTSTAMP:20260423T205306Z
SUMMARY:Fit 60+
DESCRIPTION:Fachbereich: Fit 60+\nKurs-Nr.: 26.50007-23\n\nDetails: https:/
 /www.reha-rheinfelden.ch/fit-und-gesund/6sbDazbhR
URL:https://www.reha-rheinfelden.ch/fit-und-gesund/6sbDazbhR
DTSTART;TZID=Europe/Zurich:20260916T091500
DTEND;TZID=Europe/Zurich:20260916T101000
LOCATION:Turnhalle\, Bereich 11
END:VEVENT
BEGIN:VEVENT
UID:6sbDazbhR-3
DTSTAMP:20260423T205306Z
SUMMARY:Fit 60+
DESCRIPTION:Fachbereich: Fit 60+\nKurs-Nr.: 26.50007-23\n\nDetails: https:/
 /www.reha-rheinfelden.ch/fit-und-gesund/6sbDazbhR
URL:https://www.reha-rheinfelden.ch/fit-und-gesund/6sbDazbhR
DTSTART;TZID=Europe/Zurich:20260923T091500
DTEND;TZID=Europe/Zurich:20260923T101000
LOCATION:Turnhalle\, Bereich 11
END:VEVENT
BEGIN:VEVENT
UID:6sbDazbhR-4
DTSTAMP:20260423T205306Z
SUMMARY:Fit 60+
DESCRIPTION:Fachbereich: Fit 60+\nKurs-Nr.: 26.50007-23\n\nDetails: https:/
 /www.reha-rheinfelden.ch/fit-und-gesund/6sbDazbhR
URL:https://www.reha-rheinfelden.ch/fit-und-gesund/6sbDazbhR
DTSTART;TZID=Europe/Zurich:20260930T091500
DTEND;TZID=Europe/Zurich:20260930T101000
LOCATION:Turnhalle\, Bereich 11
END:VEVENT
BEGIN:VEVENT
UID:6sbDazbhR-5
DTSTAMP:20260423T205306Z
SUMMARY:Fit 60+
DESCRIPTION:Fachbereich: Fit 60+\nKurs-Nr.: 26.50007-23\n\nDetails: https:/
 /www.reha-rheinfelden.ch/fit-und-gesund/6sbDazbhR
URL:https://www.reha-rheinfelden.ch/fit-und-gesund/6sbDazbhR
DTSTART;TZID=Europe/Zurich:20261007T091500
DTEND;TZID=Europe/Zurich:20261007T101000
LOCATION:Turnhalle\, Bereich 11
END:VEVENT
BEGIN:VEVENT
UID:6sbDazbhR-6
DTSTAMP:20260423T205306Z
SUMMARY:Fit 60+
DESCRIPTION:Fachbereich: Fit 60+\nKurs-Nr.: 26.50007-23\n\nDetails: https:/
 /www.reha-rheinfelden.ch/fit-und-gesund/6sbDazbhR
URL:https://www.reha-rheinfelden.ch/fit-und-gesund/6sbDazbhR
DTSTART;TZID=Europe/Zurich:20261014T091500
DTEND;TZID=Europe/Zurich:20261014T101000
LOCATION:Turnhalle\, Bereich 11
END:VEVENT
BEGIN:VEVENT
UID:6sbDazbhR-7
DTSTAMP:20260423T205306Z
SUMMARY:Fit 60+
DESCRIPTION:Fachbereich: Fit 60+\nKurs-Nr.: 26.50007-23\n\nDetails: https:/
 /www.reha-rheinfelden.ch/fit-und-gesund/6sbDazbhR
URL:https://www.reha-rheinfelden.ch/fit-und-gesund/6sbDazbhR
DTSTART;TZID=Europe/Zurich:20261021T091500
DTEND;TZID=Europe/Zurich:20261021T101000
LOCATION:Turnhalle\, Bereich 11
END:VEVENT
BEGIN:VEVENT
UID:6sbDazbhR-8
DTSTAMP:20260423T205306Z
SUMMARY:Fit 60+
DESCRIPTION:Fachbereich: Fit 60+\nKurs-Nr.: 26.50007-23\n\nDetails: https:/
 /www.reha-rheinfelden.ch/fit-und-gesund/6sbDazbhR
URL:https://www.reha-rheinfelden.ch/fit-und-gesund/6sbDazbhR
DTSTART;TZID=Europe/Zurich:20261104T091500
DTEND;TZID=Europe/Zurich:20261104T101000
LOCATION:Turnhalle\, Bereich 11
END:VEVENT
BEGIN:VEVENT
UID:6sbDazbhR-9
DTSTAMP:20260423T205306Z
SUMMARY:Fit 60+
DESCRIPTION:Fachbereich: Fit 60+\nKurs-Nr.: 26.50007-23\n\nDetails: https:/
 /www.reha-rheinfelden.ch/fit-und-gesund/6sbDazbhR
URL:https://www.reha-rheinfelden.ch/fit-und-gesund/6sbDazbhR
DTSTART;TZID=Europe/Zurich:20261111T091500
DTEND;TZID=Europe/Zurich:20261111T101000
LOCATION:Turnhalle\, Bereich 11
END:VEVENT
BEGIN:VEVENT
UID:6sbDazbhR-10
DTSTAMP:20260423T205306Z
SUMMARY:Fit 60+
DESCRIPTION:Fachbereich: Fit 60+\nKurs-Nr.: 26.50007-23\n\nDetails: https:/
 /www.reha-rheinfelden.ch/fit-und-gesund/6sbDazbhR
URL:https://www.reha-rheinfelden.ch/fit-und-gesund/6sbDazbhR
DTSTART;TZID=Europe/Zurich:20261118T091500
DTEND;TZID=Europe/Zurich:20261118T101000
LOCATION:Turnhalle\, Bereich 11
END:VEVENT
BEGIN:VEVENT
UID:6sbDazbhR-11
DTSTAMP:20260423T205306Z
SUMMARY:Fit 60+
DESCRIPTION:Fachbereich: Fit 60+\nKurs-Nr.: 26.50007-23\n\nDetails: https:/
 /www.reha-rheinfelden.ch/fit-und-gesund/6sbDazbhR
URL:https://www.reha-rheinfelden.ch/fit-und-gesund/6sbDazbhR
DTSTART;TZID=Europe/Zurich:20261125T091500
DTEND;TZID=Europe/Zurich:20261125T101000
LOCATION:Turnhalle\, Bereich 11
END:VEVENT
BEGIN:VEVENT
UID:6sbDazbhR-12
DTSTAMP:20260423T205306Z
SUMMARY:Fit 60+
DESCRIPTION:Fachbereich: Fit 60+\nKurs-Nr.: 26.50007-23\n\nDetails: https:/
 /www.reha-rheinfelden.ch/fit-und-gesund/6sbDazbhR
URL:https://www.reha-rheinfelden.ch/fit-und-gesund/6sbDazbhR
DTSTART;TZID=Europe/Zurich:20261202T091500
DTEND;TZID=Europe/Zurich:20261202T101000
LOCATION:Turnhalle\, Bereich 11
END:VEVENT
BEGIN:VEVENT
UID:6sbDazbhR-13
DTSTAMP:20260423T205306Z
SUMMARY:Fit 60+
DESCRIPTION:Fachbereich: Fit 60+\nKurs-Nr.: 26.50007-23\n\nDetails: https:/
 /www.reha-rheinfelden.ch/fit-und-gesund/6sbDazbhR
URL:https://www.reha-rheinfelden.ch/fit-und-gesund/6sbDazbhR
DTSTART;TZID=Europe/Zurich:20261209T091500
DTEND;TZID=Europe/Zurich:20261209T101000
LOCATION:Turnhalle\, Bereich 11
END:VEVENT
BEGIN:VEVENT
UID:6sbDazbhR-14
DTSTAMP:20260423T205306Z
SUMMARY:Fit 60+
DESCRIPTION:Fachbereich: Fit 60+\nKurs-Nr.: 26.50007-23\n\nDetails: https:/
 /www.reha-rheinfelden.ch/fit-und-gesund/6sbDazbhR
URL:https://www.reha-rheinfelden.ch/fit-und-gesund/6sbDazbhR
DTSTART;TZID=Europe/Zurich:20261216T091500
DTEND;TZID=Europe/Zurich:20261216T101000
LOCATION:Turnhalle\, Bereich 11
END:VEVENT
END:VCALENDAR
