BEGIN:VCALENDAR
PRODID:-//Reha Rheinfelden//Kurse//DE
VERSION:2.0
CALSCALE:GREGORIAN
BEGIN:VEVENT
UID:5FFvaYnG-0
DTSTAMP:20260423T210013Z
SUMMARY:Pilates
DESCRIPTION:Fachbereich: Pilates\nKurs-Nr.: 26.50003-24\n\nDetails: https:/
 /www.reha-rheinfelden.ch/fit-und-gesund/5FFvaYnG
URL:https://www.reha-rheinfelden.ch/fit-und-gesund/5FFvaYnG
DTSTART;TZID=Europe/Zurich:20260903T181500
DTEND;TZID=Europe/Zurich:20260903T191000
LOCATION:Gruppenraum 1\, Bereich 15
END:VEVENT
BEGIN:VEVENT
UID:5FFvaYnG-1
DTSTAMP:20260423T210013Z
SUMMARY:Pilates
DESCRIPTION:Fachbereich: Pilates\nKurs-Nr.: 26.50003-24\n\nDetails: https:/
 /www.reha-rheinfelden.ch/fit-und-gesund/5FFvaYnG
URL:https://www.reha-rheinfelden.ch/fit-und-gesund/5FFvaYnG
DTSTART;TZID=Europe/Zurich:20260910T181500
DTEND;TZID=Europe/Zurich:20260910T191000
LOCATION:Gruppenraum 1\, Bereich 15
END:VEVENT
BEGIN:VEVENT
UID:5FFvaYnG-2
DTSTAMP:20260423T210013Z
SUMMARY:Pilates
DESCRIPTION:Fachbereich: Pilates\nKurs-Nr.: 26.50003-24\n\nDetails: https:/
 /www.reha-rheinfelden.ch/fit-und-gesund/5FFvaYnG
URL:https://www.reha-rheinfelden.ch/fit-und-gesund/5FFvaYnG
DTSTART;TZID=Europe/Zurich:20260917T181500
DTEND;TZID=Europe/Zurich:20260917T191000
LOCATION:Gruppenraum 1\, Bereich 15
END:VEVENT
BEGIN:VEVENT
UID:5FFvaYnG-3
DTSTAMP:20260423T210013Z
SUMMARY:Pilates
DESCRIPTION:Fachbereich: Pilates\nKurs-Nr.: 26.50003-24\n\nDetails: https:/
 /www.reha-rheinfelden.ch/fit-und-gesund/5FFvaYnG
URL:https://www.reha-rheinfelden.ch/fit-und-gesund/5FFvaYnG
DTSTART;TZID=Europe/Zurich:20260924T181500
DTEND;TZID=Europe/Zurich:20260924T191000
LOCATION:Gruppenraum 1\, Bereich 15
END:VEVENT
BEGIN:VEVENT
UID:5FFvaYnG-4
DTSTAMP:20260423T210013Z
SUMMARY:Pilates
DESCRIPTION:Fachbereich: Pilates\nKurs-Nr.: 26.50003-24\n\nDetails: https:/
 /www.reha-rheinfelden.ch/fit-und-gesund/5FFvaYnG
URL:https://www.reha-rheinfelden.ch/fit-und-gesund/5FFvaYnG
DTSTART;TZID=Europe/Zurich:20261001T181500
DTEND;TZID=Europe/Zurich:20261001T191000
LOCATION:Gruppenraum 1\, Bereich 15
END:VEVENT
BEGIN:VEVENT
UID:5FFvaYnG-5
DTSTAMP:20260423T210013Z
SUMMARY:Pilates
DESCRIPTION:Fachbereich: Pilates\nKurs-Nr.: 26.50003-24\n\nDetails: https:/
 /www.reha-rheinfelden.ch/fit-und-gesund/5FFvaYnG
URL:https://www.reha-rheinfelden.ch/fit-und-gesund/5FFvaYnG
DTSTART;TZID=Europe/Zurich:20261008T181500
DTEND;TZID=Europe/Zurich:20261008T191000
LOCATION:Gruppenraum 1\, Bereich 15
END:VEVENT
BEGIN:VEVENT
UID:5FFvaYnG-6
DTSTAMP:20260423T210013Z
SUMMARY:Pilates
DESCRIPTION:Fachbereich: Pilates\nKurs-Nr.: 26.50003-24\n\nDetails: https:/
 /www.reha-rheinfelden.ch/fit-und-gesund/5FFvaYnG
URL:https://www.reha-rheinfelden.ch/fit-und-gesund/5FFvaYnG
DTSTART;TZID=Europe/Zurich:20261015T181500
DTEND;TZID=Europe/Zurich:20261015T191000
LOCATION:Gruppenraum 1\, Bereich 15
END:VEVENT
BEGIN:VEVENT
UID:5FFvaYnG-7
DTSTAMP:20260423T210013Z
SUMMARY:Pilates
DESCRIPTION:Fachbereich: Pilates\nKurs-Nr.: 26.50003-24\n\nDetails: https:/
 /www.reha-rheinfelden.ch/fit-und-gesund/5FFvaYnG
URL:https://www.reha-rheinfelden.ch/fit-und-gesund/5FFvaYnG
DTSTART;TZID=Europe/Zurich:20261022T181500
DTEND;TZID=Europe/Zurich:20261022T191000
LOCATION:Gruppenraum 1\, Bereich 15
END:VEVENT
BEGIN:VEVENT
UID:5FFvaYnG-8
DTSTAMP:20260423T210013Z
SUMMARY:Pilates
DESCRIPTION:Fachbereich: Pilates\nKurs-Nr.: 26.50003-24\n\nDetails: https:/
 /www.reha-rheinfelden.ch/fit-und-gesund/5FFvaYnG
URL:https://www.reha-rheinfelden.ch/fit-und-gesund/5FFvaYnG
DTSTART;TZID=Europe/Zurich:20261029T181500
DTEND;TZID=Europe/Zurich:20261029T191000
LOCATION:Gruppenraum 1\, Bereich 15
END:VEVENT
BEGIN:VEVENT
UID:5FFvaYnG-9
DTSTAMP:20260423T210013Z
SUMMARY:Pilates
DESCRIPTION:Fachbereich: Pilates\nKurs-Nr.: 26.50003-24\n\nDetails: https:/
 /www.reha-rheinfelden.ch/fit-und-gesund/5FFvaYnG
URL:https://www.reha-rheinfelden.ch/fit-und-gesund/5FFvaYnG
DTSTART;TZID=Europe/Zurich:20261105T181500
DTEND;TZID=Europe/Zurich:20261105T191000
LOCATION:Gruppenraum 1\, Bereich 15
END:VEVENT
BEGIN:VEVENT
UID:5FFvaYnG-10
DTSTAMP:20260423T210013Z
SUMMARY:Pilates
DESCRIPTION:Fachbereich: Pilates\nKurs-Nr.: 26.50003-24\n\nDetails: https:/
 /www.reha-rheinfelden.ch/fit-und-gesund/5FFvaYnG
URL:https://www.reha-rheinfelden.ch/fit-und-gesund/5FFvaYnG
DTSTART;TZID=Europe/Zurich:20261112T181500
DTEND;TZID=Europe/Zurich:20261112T191000
LOCATION:Gruppenraum 1\, Bereich 15
END:VEVENT
BEGIN:VEVENT
UID:5FFvaYnG-11
DTSTAMP:20260423T210013Z
SUMMARY:Pilates
DESCRIPTION:Fachbereich: Pilates\nKurs-Nr.: 26.50003-24\n\nDetails: https:/
 /www.reha-rheinfelden.ch/fit-und-gesund/5FFvaYnG
URL:https://www.reha-rheinfelden.ch/fit-und-gesund/5FFvaYnG
DTSTART;TZID=Europe/Zurich:20261119T181500
DTEND;TZID=Europe/Zurich:20261119T191000
LOCATION:Gruppenraum 1\, Bereich 15
END:VEVENT
BEGIN:VEVENT
UID:5FFvaYnG-12
DTSTAMP:20260423T210013Z
SUMMARY:Pilates
DESCRIPTION:Fachbereich: Pilates\nKurs-Nr.: 26.50003-24\n\nDetails: https:/
 /www.reha-rheinfelden.ch/fit-und-gesund/5FFvaYnG
URL:https://www.reha-rheinfelden.ch/fit-und-gesund/5FFvaYnG
DTSTART;TZID=Europe/Zurich:20261126T181500
DTEND;TZID=Europe/Zurich:20261126T191000
LOCATION:Gruppenraum 1\, Bereich 15
END:VEVENT
BEGIN:VEVENT
UID:5FFvaYnG-13
DTSTAMP:20260423T210013Z
SUMMARY:Pilates
DESCRIPTION:Fachbereich: Pilates\nKurs-Nr.: 26.50003-24\n\nDetails: https:/
 /www.reha-rheinfelden.ch/fit-und-gesund/5FFvaYnG
URL:https://www.reha-rheinfelden.ch/fit-und-gesund/5FFvaYnG
DTSTART;TZID=Europe/Zurich:20261203T181500
DTEND;TZID=Europe/Zurich:20261203T191000
LOCATION:Gruppenraum 1\, Bereich 15
END:VEVENT
BEGIN:VEVENT
UID:5FFvaYnG-14
DTSTAMP:20260423T210013Z
SUMMARY:Pilates
DESCRIPTION:Fachbereich: Pilates\nKurs-Nr.: 26.50003-24\n\nDetails: https:/
 /www.reha-rheinfelden.ch/fit-und-gesund/5FFvaYnG
URL:https://www.reha-rheinfelden.ch/fit-und-gesund/5FFvaYnG
DTSTART;TZID=Europe/Zurich:20261210T181500
DTEND;TZID=Europe/Zurich:20261210T191000
LOCATION:Gruppenraum 1\, Bereich 15
END:VEVENT
BEGIN:VEVENT
UID:5FFvaYnG-15
DTSTAMP:20260423T210013Z
SUMMARY:Pilates
DESCRIPTION:Fachbereich: Pilates\nKurs-Nr.: 26.50003-24\n\nDetails: https:/
 /www.reha-rheinfelden.ch/fit-und-gesund/5FFvaYnG
URL:https://www.reha-rheinfelden.ch/fit-und-gesund/5FFvaYnG
DTSTART;TZID=Europe/Zurich:20261217T181500
DTEND;TZID=Europe/Zurich:20261217T191000
LOCATION:Gruppenraum 1\, Bereich 15
END:VEVENT
END:VCALENDAR
