BEGIN:VCALENDAR
PRODID:-//Reha Rheinfelden//Kurse//DE
VERSION:2.0
CALSCALE:GREGORIAN
BEGIN:VEVENT
UID:3Qazttv9c-0
DTSTAMP:20260423T205832Z
SUMMARY:Feldenkrais-Methode
DESCRIPTION:Fachbereich: Feldenkrais-Methode\nKurs-Nr.: 26.50006-05\n\nDeta
 ils: https://www.reha-rheinfelden.ch/fit-und-gesund/3Qazttv9c
URL:https://www.reha-rheinfelden.ch/fit-und-gesund/3Qazttv9c
DTSTART;TZID=Europe/Zurich:20261013T180000
DTEND;TZID=Europe/Zurich:20261013T185500
LOCATION:Gruppenraum 2\, Bereich 15
END:VEVENT
BEGIN:VEVENT
UID:3Qazttv9c-1
DTSTAMP:20260423T205832Z
SUMMARY:Feldenkrais-Methode
DESCRIPTION:Fachbereich: Feldenkrais-Methode\nKurs-Nr.: 26.50006-05\n\nDeta
 ils: https://www.reha-rheinfelden.ch/fit-und-gesund/3Qazttv9c
URL:https://www.reha-rheinfelden.ch/fit-und-gesund/3Qazttv9c
DTSTART;TZID=Europe/Zurich:20261020T180000
DTEND;TZID=Europe/Zurich:20261020T185500
LOCATION:Gruppenraum 2\, Bereich 15
END:VEVENT
BEGIN:VEVENT
UID:3Qazttv9c-2
DTSTAMP:20260423T205832Z
SUMMARY:Feldenkrais-Methode
DESCRIPTION:Fachbereich: Feldenkrais-Methode\nKurs-Nr.: 26.50006-05\n\nDeta
 ils: https://www.reha-rheinfelden.ch/fit-und-gesund/3Qazttv9c
URL:https://www.reha-rheinfelden.ch/fit-und-gesund/3Qazttv9c
DTSTART;TZID=Europe/Zurich:20261027T180000
DTEND;TZID=Europe/Zurich:20261027T185500
LOCATION:Gruppenraum 2\, Bereich 15
END:VEVENT
BEGIN:VEVENT
UID:3Qazttv9c-3
DTSTAMP:20260423T205832Z
SUMMARY:Feldenkrais-Methode
DESCRIPTION:Fachbereich: Feldenkrais-Methode\nKurs-Nr.: 26.50006-05\n\nDeta
 ils: https://www.reha-rheinfelden.ch/fit-und-gesund/3Qazttv9c
URL:https://www.reha-rheinfelden.ch/fit-und-gesund/3Qazttv9c
DTSTART;TZID=Europe/Zurich:20261103T180000
DTEND;TZID=Europe/Zurich:20261103T185500
LOCATION:Gruppenraum 2\, Bereich 15
END:VEVENT
BEGIN:VEVENT
UID:3Qazttv9c-4
DTSTAMP:20260423T205832Z
SUMMARY:Feldenkrais-Methode
DESCRIPTION:Fachbereich: Feldenkrais-Methode\nKurs-Nr.: 26.50006-05\n\nDeta
 ils: https://www.reha-rheinfelden.ch/fit-und-gesund/3Qazttv9c
URL:https://www.reha-rheinfelden.ch/fit-und-gesund/3Qazttv9c
DTSTART;TZID=Europe/Zurich:20261110T180000
DTEND;TZID=Europe/Zurich:20261110T185500
LOCATION:Gruppenraum 2\, Bereich 15
END:VEVENT
BEGIN:VEVENT
UID:3Qazttv9c-5
DTSTAMP:20260423T205832Z
SUMMARY:Feldenkrais-Methode
DESCRIPTION:Fachbereich: Feldenkrais-Methode\nKurs-Nr.: 26.50006-05\n\nDeta
 ils: https://www.reha-rheinfelden.ch/fit-und-gesund/3Qazttv9c
URL:https://www.reha-rheinfelden.ch/fit-und-gesund/3Qazttv9c
DTSTART;TZID=Europe/Zurich:20261117T180000
DTEND;TZID=Europe/Zurich:20261117T185500
LOCATION:Gruppenraum 2\, Bereich 15
END:VEVENT
BEGIN:VEVENT
UID:3Qazttv9c-6
DTSTAMP:20260423T205832Z
SUMMARY:Feldenkrais-Methode
DESCRIPTION:Fachbereich: Feldenkrais-Methode\nKurs-Nr.: 26.50006-05\n\nDeta
 ils: https://www.reha-rheinfelden.ch/fit-und-gesund/3Qazttv9c
URL:https://www.reha-rheinfelden.ch/fit-und-gesund/3Qazttv9c
DTSTART;TZID=Europe/Zurich:20261124T180000
DTEND;TZID=Europe/Zurich:20261124T185500
LOCATION:Gruppenraum 2\, Bereich 15
END:VEVENT
BEGIN:VEVENT
UID:3Qazttv9c-7
DTSTAMP:20260423T205832Z
SUMMARY:Feldenkrais-Methode
DESCRIPTION:Fachbereich: Feldenkrais-Methode\nKurs-Nr.: 26.50006-05\n\nDeta
 ils: https://www.reha-rheinfelden.ch/fit-und-gesund/3Qazttv9c
URL:https://www.reha-rheinfelden.ch/fit-und-gesund/3Qazttv9c
DTSTART;TZID=Europe/Zurich:20261201T180000
DTEND;TZID=Europe/Zurich:20261201T185500
LOCATION:Gruppenraum 2\, Bereich 15
END:VEVENT
BEGIN:VEVENT
UID:3Qazttv9c-8
DTSTAMP:20260423T205832Z
SUMMARY:Feldenkrais-Methode
DESCRIPTION:Fachbereich: Feldenkrais-Methode\nKurs-Nr.: 26.50006-05\n\nDeta
 ils: https://www.reha-rheinfelden.ch/fit-und-gesund/3Qazttv9c
URL:https://www.reha-rheinfelden.ch/fit-und-gesund/3Qazttv9c
DTSTART;TZID=Europe/Zurich:20261208T180000
DTEND;TZID=Europe/Zurich:20261208T185500
LOCATION:Gruppenraum 2\, Bereich 15
END:VEVENT
BEGIN:VEVENT
UID:3Qazttv9c-9
DTSTAMP:20260423T205832Z
SUMMARY:Feldenkrais-Methode
DESCRIPTION:Fachbereich: Feldenkrais-Methode\nKurs-Nr.: 26.50006-05\n\nDeta
 ils: https://www.reha-rheinfelden.ch/fit-und-gesund/3Qazttv9c
URL:https://www.reha-rheinfelden.ch/fit-und-gesund/3Qazttv9c
DTSTART;TZID=Europe/Zurich:20261215T180000
DTEND;TZID=Europe/Zurich:20261215T185500
LOCATION:Gruppenraum 2\, Bereich 15
END:VEVENT
END:VCALENDAR
